{"text_format":"1","workbook":"xlsx","n_sheets":7,"sheets":["TEMPLATE INSTRUCTIONS","Investment Detail Sheet","Residual Risk Rating Matrix","AMP Plan or Strategy Legend","Conversion Tables","Dropdowns","Weighting Scale"],"not_rendered":{"charts":0,"images":1,"macros":1,"external_links":3,"defined_names":78,"comments":1,"pivot_tables":0},"unopened":[],"bounds":{"document_bytes":16777216,"sheet_cells":100000,"rows_first":2000,"rows_last":500,"rows_between":2000,"halvings":0,"cell_chars":16384,"cell_head_chars":4096},"cells_cut":0,"cells_raw":0,"read":"whole","date_system":"1900"}

{"sheet":"TEMPLATE INSTRUCTIONS","index":0,"n_rows":15,"n_cols":2,"rows_kept":15,"cut":false,"hidden":false,"merged":[[3,0,3,1],[5,0,5,1],[12,0,13,0],[0,0,0,1],[1,0,1,1],[8,0,9,0],[2,0,2,1]]}
["Asset Management Prioritization (AMP) Tool Instructions"]
["The asset management prioritization tool was developed to assess the benefits outline in departmental business cases for each capital investment.  Evaluating the benefits of an investment provides an unbiased, objective approach to determining priorities.  The evaluation also ensures investments are being consistently assessed across all departments by applying sound logic and reasoning when rating the criteria.\n\nThe evaluation is based on reducing the risk of negative impacts to delivering targeted levels of service by addressing asset performance, reliability and condition.  The greater the risk reduction to levels of service and alignment with strategic objectives, the more benefits the City will realize from making the investment.\n\nUltimately the decision on what investments to undertake rests with Council.  The Public Service aims to provide Council with quality recommendations to assist in the decision-making process.\n\nThe asset management prioritization tool is fundamentally comprised of weighted benefit criteria, service usage, importance and impact."]
["The yellow cells within the Investment Detail Sheet allow for information to be entered. The remaining cells contain formulas that are locked for editing. There is the ability to unhide additional rows to record all investments. There is also the ability to unhide up to four additional columns within the start of the Investment Detail Sheet.  The additional columns can be labeled and used as necessary, but may be most helpful to articulate the parent program and the various projects/programs within each parent program. If the investment does have partial costs associated with Disposal activities, please use one of the extra columns to indicate the percentage of cost allocated to those activities."]
["There are five parts to the AMP tool all within the Investment Detail Sheet:\n1) Investment Details\nThis section is used to enter general information for the proposed investment.\n\n2) Cost\nThis section is used to outline the cost of the investments including any grants/external funding, the year authorization is required and whether the project is funded, unfunded or partially funded.\n\n3) Benefit Evaluation\nUse the Benefit Evaluation Procedure to evaluate the benefits for each investment. This will provide a cost benefit score that will be used to prioritize the investments.\n\n4) Residual Risk\nThis section is used to capture the risk for deferred investments or those risk that still remain based on funding received.\n\n5) Investment Alignment\nThis section is used to identify the primary connection to City of Winnipeg strategies, guiding policies, and customer levels of service (LOS).\n\n\n"]
[]
["Investment Detail Sheet Tab"]
["Investment Details","Project #: Enter the sequential number based on the initial data entry position. This is used to sort projects if necessary.\nProject ID: Enter the Business Case Project ID. This is a unique identification number for the project.\nProject Name: Enter the project name exactly as stated in the business case. For consistency ensure this name is the same investment name provided in the Unfunded List or Capital Detail Sheet.\nDepartment: Select the department from the drop-down list (in alphabetical order).\nService: Select the service from the drop-down list (in alphabetical order).\nFor consistency throughout the budget development process with FPR and the investment planning process with the AMO, the project name, department and service should remain the same.\n\nInvestment Type: Choose between the three types of investment from the dropdown list: Project or Program, or Commitments. If 'Program' is selected, the 'Program Type' cell and the 'First year Capex' cell will be highlighted yellow to indicate that this program information is required to be completed.\n\nMajor Capital Project (Y/N)?: This column will auto populate based on the total investment cost entered in the Cost section, based on the current City of Winnipeg threshold. \n\nProgram type: If ‘program’ has been selected as the investment type, this cell will be highlighted in yellow to indicate that it is required to be completed. Select the program type from the drop-down list based on the program type definitions and examples outlined in the Investment Planning: Capital Guidelines."]
[null,"Investment Planning: Capital Guidelines"]
["Costs","Class of Estimate: Enter the Class of Estimate, Class 1 -5 as determined in the Class of Estimate (CoE) template. If the investment is a program select ‘N/A’ for the class of estimate.\nFunded, Partially Funded, or Unfunded: Indicate whether the investment is considered to be funded (included in the draft capital detail sheet), unfunded (included in the unfunded list), or partially funded (appears on both capital detail sheet and the unfunded list).\n\nCost Details – Funded ($k): In the first annual column enter the first year of the 10-year investment period (yellow cell) to populate the remaining cost detail years. In the annual columns,  complete the funded amounts per year for the first six and then remaining four years.  Enter the Grants or other external funding that has been committed to the project for the same time period columns.  The 6 Yr and 4 Yr funded Capex will calculate based on the information entered in the individual years.\n\nCost Details – Unfunded ($k): In the annual columns, complete the unfunded amounts per year for the first six and then remaining four years.  The 6 Yr and 4 Yr unfunded Capex will calculate based on the information entered in the individual years.\n\nTotal Investment Cost ($k) (10 Yr) – will auto calculate based on cost details populated in the funded and unfunded columns.\n\n"]
[null,"FOR PROGRAMS ONLY First Year Capex ($k): Enter the funding need for the first year the program is required within the 10-year period, not the entire program value. This is used in the calculation of the cost benefit ratio for programs. For all Programs, this cell will appear yellow and require the first year of Capex to be entered.\nEx. If the total investment cost for the program is $100,000(k), however the first (funded and/or unfunded) amount entered is in the 2028 column for $25,000(k), then $25,000 is entered into the 'First year of Capex' cell. If there were amounts in the unfunded and funded columns for 2028, these amounts would be added together to equal the total first year Capex.\n\nGrants and other external funding ($k) - will auto calculate based on cost details provided in previous columns.\n\nCity Contribution required ($k) (= Capex – External Funding): Automatically subtracts the external funding from the total investment cost to show the total $k City contribution required.\n\n10 Yr Funded Capex ($k), 10 Yr Unfunded Capex ($k), and % Funded (includes all funding sources) – will auto calculate based on cost details provided in previous columns. \n\nYear Authorization Required for Detailed Design and Construction: This is the year authorization is required in order to be able to proceed with detailed design and construction to ensure the asset will be in place to deliver the service in the year needed. Although the year authorized is for authorization to proceed with detailed design and construction, the project value will include all project costs, not just the detailed design and construction costs:  \nTOTAL PROJECT COSTS = Feasibility + Preliminary Design + Detailed Design and Construction \n\nPreviously approved project funding ($k) - Enter the total project funds approved in previously budgets to help capture the total cost of the investment. This only applies to projects and does not form part of any calculated equation, as the funded/unfunded columns capture only the investment costs within the 10-year Infrastructure Plan window.\n\nForecasted project funding beyond the 10-year view ($k) - If the project goes beyond the 10-year view, enter the forecasted funds required beyond the 10-year view. This only applies to projects and does not form part of any calculated equation, as the funded/unfunded columns capture only the investment costs within the 10-year Infrastructure Plan window.\n\nOnce the year to year cost details have been entered, there is the ability to hide the year columns and compress the spreadsheet."]
["Benefit Evaluation","Assess the Benefits of each Option\n\nThe process of assessing benefits is outlined in greater detail within the Investment Planning: Benefit Evaluation Procedure.  \n\nOnce all of the projects and programs have been entered , there is the ability to sort by the rank benefit or sort by the cost benefit ratio using the buttons above the columns. \n\nDepartment Ranking - use this column after all your investments have been entered to appropriately 'slot in' the Type 2 programs. This is a free form field that can allow you to also rank the projects within the parent program (example parent program maybe 1, and projects within program maybe 1.1, 1.2, 1.3, etc.).  The macro button at the top of the column will aloow you to sort it in ascending order.\n"]
[null,"Investment Planning: Benefit Evaluation Procedure"]
["Residual Risk Assessment","\nThis section is used to identify the risk of a specific project being delayed or underfunded.  If the risk is too great the project should be considered in the budget year versus in a forecast year.  Refer to the Residual Risk Rating Matrix tab to evaluate the Economic, Environmental, Social, Legislative, Health and Safety, and Operational Risks."]
[null,"Residual Risk Description: Describe the Risk Event of the project not being completed in the budget year.\n\nRefer to the Residual Risk Rating Matrix tab to evaluate the 6 criteria.  Assess the Risk Event based on the consequences and likelihood scales provided in the matrix. Select the Risk Exposure from the drop down for each category applicable to the Risk Event.\n\nA five-point rating scale ranging from VL to VH is used the rate the risk of impact where: \nV = very, L = Low, M= Medium, H= High\n\nConsequence: What is the anticipated impact of failure on the public and the system if the investment is delayed? This should be based on the worst/largest noted impact.\n\nLikelihood: What is the anticipated timeline for loss or reduction of service (i.e. when will the even occur if the investment is delayed?).\n\nRisk Score: This score is automatically calculated based on the values entered.\nMitigation Strategy: For each of the projects that are being delayed, a Mitigation Strategy shall be described for the risk, and the associated cost to the project.\nCost: Estimate the cost of the Risk Mitigation Strategy that will be undertaken (actual dollar that will be spent) and the costs should the Risk Event occur (estimated costs if the event were to occur)."]
["Investment Alignment","Strategic Priorities Action Plan Theme: Use the dropdown options to record the primary SPAP theme that best aligns with the investment. This should match what is recorded in the Unfunded List or Capital Detail Sheet.\n\nOurWinnipeg 2045 Priority: Use the dropdown options to record the Primary OurWinnipeg Goal that the investment is best aligned. This should match what is recorded in the Unfunded List or Capital Detail Sheet.\n\nLifecycle Activity: Use the dropdown options to record the lifecycle activity, as defined by the Levels Of Service (LOS) Framework Definitions. This will automatically populate the corresponding LOS Attribute.\n\nLocation specific investments: If the project is location specific, enter the lat/long coordinates for the asset. If it is a 'city-wide' investment, record N/A in either of the lat/long cells to indicate that consideration has been given.\n\nDevelopment Agreement Reference: If applicable, record the development agreement reference number that this investment tied to. If not applicable, record N/A to indicate that consideration has been given.\n\nDepartmental Strategies Plan Alignment: Using the information in the AMP Plan or Strategy Legend tab record the Departmental Master Plan(s) that identifies this investment as a priority/need. If the plan is not seen in the list, type it into the cell to acknowlegde alignment with the investment."]

{"sheet":"Investment Detail Sheet","index":1,"n_rows":143,"n_cols":125,"rows_kept":143,"cut":false,"hidden":false,"merged":[[8,122,10,122],[8,112,9,113],[7,110,7,119],[5,122,5,127],[8,123,10,123],[7,120,10,120],[8,110,9,111],[8,114,9,115],[8,116,9,117],[8,118,9,119],[7,122,7,124],[8,124,10,124],[7,121,10,121],[6,11,7,11],[5,41,10,41],[5,13,10,13],[5,46,10,46],[5,44,10,44],[5,45,10,45],[6,21,10,21],[6,27,10,27],[6,34,10,34],[6,39,10,39],[6,20,8,20],[6,26,8,26],[5,40,10,40],[5,42,10,42],[5,59,10,59],[5,60,10,60],[5,75,6,75],[5,12,10,12],[4,72,4,75],[5,73,6,73],[5,74,6,74],[5,47,10,47],[5,72,6,72],[5,48,10,48],[5,92,5,93],[7,102,7,109],[8,108,9,109],[8,102,9,103],[4,77,4,86],[8,104,9,107],[4,88,4,95],[1,62,1,63],[4,63,4,71],[3,49,3,62],[4,49,4,50],[5,14,5,27],[5,28,5,39],[4,51,4,56],[5,61,10,61],[5,43,10,43],[5,52,9,54],[5,55,9,56],[5,51,10,51],[4,57,4,61],[5,58,10,58],[5,57,10,57],[5,62,10,62]]}
["City of Winnipeg"]
["Asset Management Prioritization "]
["Investment Detail Sheet"]
[null,null,null,null,null,null,null,null,null,null,null,null,null,null,null,null,null,null,null,null,null,null,null,null,null,null,null,null,null,null,null,null,null,null,null,null,null,null,null,null,null,null,null,null,null,null,null,null,null,"BENEFIT EVALUATION"]
[null,null,null,null,null,null,"Investment Details",null,null,null,null,null,null,null,null,null,null,null,null,null,null,null,null,null,null,null,null,null,null,null,null,null,null,null,null,null,null,null,null,null,"Cost",null,null,null,null,null,null,null,null,"Multiplier",null,"Level of Service - Benefit Analysis",null,null,null,null,null,"Strategic Alignment - Benefit Analysis",null,null,null,null,"Multiplier","Benefits Score Summary",null,null,null,null,null,null,null,null,"Rank",null,null,null,null,"Residual Risk",null,null,null,null,null,null,null,null,null,null,"Investment Alignment"]
["Project\n #","Project ID",null,null,null,null,"Investment Name","Department","Service","Investment Type","Major Capital Project?","FOR PROGRAMS ONLY","Class of Estimate","Funded\n (draft capital budget)\nor \nPartially Funded\nor\nUnfunded \n(unfunded list)","Funded ($k)",null,null,null,null,null,null,null,null,null,null,null,null,null,"Unfunded ($k)",null,null,null,null,null,null,null,null,null,null,null,"Total Investment Cost ($k)\n(10 Yr)","FOR PROGRAMS ONLY\nFirst Year Capex ($k)","Grants and other external funding ($k)","City  Contribution required ($k) \n(= Capex - External Funding)","10 Yr \nFunded Capex ($k)","10 Yr \nUnfunded Capex ($k)","% Funded\n(includes all funding sources)","Year Authorization Req'd for Detailed Design & Construction"," Previously approved project funding\n($k)","Service Impact\nof Project","User-hrs\n(per year)","Compliance with New Legislation","Maintain Level of Service",null,null,"Enhance Level of Service",null,"Environmental Sustainability","Enables Growth","Economic Impact","Operational Efficiency/Revenue Generation","Culture/ Heritage","Service Usage","New Regulation","Maintain LOS","Enhance LOS","Environment","Enables Growth","Economy","Operational Efficiency","Cultural/\nHeritage","Total Benefit Score ","Benefit Rank","Cost/ Benefit Points Ratio","Cost/\nBenefit Rank","Dept Ranking",null,"Residual Risk Description","Economic","Environ- mental","Social","Legislative","Health & Safety","Functional (LOS)","Risk Score","Mitigation Strategy","Cost",null,"Strategic Priorities Action Plan theme","OurWinnipeg 2045 Priority","Lifecycle Activity","LOS Attribute","Location specific Investment",null,"Development Agreement Reference","Departmental Strategies Plan Alignment"]
[null,null,null,null,null,null,null,null,null,null,null,"Select program type",null,null,2025,{"$f":"O7+1","v":2026},{"$f":"P7+1","v":2027},{"$f":"Q7+1","v":2028},{"$f":"R7+1","v":2029},{"$f":"S7+1","v":2030},"Grants or other external funding","6 Yr Funded Capex",{"$f":"T7+1","v":2031},{"$f":"W7+1","v":2032},{"$f":"X7+1","v":2033},{"$f":"Y7+1","v":2034},"Grants or other external funding","4 Yr Funded Capex",{"$f":"O7","v":2025},2026,2027,2028,2029,2030,"6 Yr Unfunded Capex",{"$f":"W7","v":2031},{"$f":"X7","v":2032},{"$f":"Y7","v":2033},{"$f":"Z7","v":2034},"4 Yr Unfunded Capex",null,null,null,null,null,null,null,null,null,null,null,null,null,null,null,null,null,null,null,null,null,null,null,null,null,null,null,null,null,null,null,null,null,null,null,null,null,null,null,null,null,null,null,null,null,null,null,null,null,null,null,null,"Lat","Long"]
[null,null,null,null,null,null,null,null,null,null,null,null,null,null,null,null,null,null,null,null,null,null,null,null,null,null,null,null,null,null,null,null,null,null,null,null,null,null,null,null,null,null,null,null,null,null,null,null,null,null,null,null,null,null,null,null,null,null,null,null,null,null,null,null,null,null,null,null,null,null,null,null,null,null,null,null,null,null,null,null,null,null,null,null,null,null,null,null,null,null,null,null,null,null,null,null,null,null,null,null,null,null,"LOS Benefits",null,null,null,null,null,null,null,"Strategic Alignment",null,null,null,null,null,null,null,null,null,"Total Benefit Score \n(Usage & Importance)","Total Benefit Score \n(Service Impact)","Multiplier"]
[null,null,null,null,null,null,null,null,null,null,null,null,null,null,null,null,null,null,null,null,null,null,null,null,null,null,null,null,null,null,null,null,null,null,null,null,null,null,null,null,null,null,null,null,null,null,null,null,null,null,null,null,null,null,null,null,null,null,null,null,null,null,null,null,null,null,null,null,null,null,null,null,null,null,null,null,null,null,null,null,null,null,null,null,null,null,null,null,null,null,null,null,null,null,null,null,null,null,null,null,null,null,"Compliance with New Legislation",null,"Maintain Level of Service",null,null,null,"Enhance Level of Service",null,"Environmental Sustainability",null,"Enables Growth",null,"Economic Impact",null,"Operational Efficiency/Revenue Generation",null,"Culture/Heritage",null,null,null,"Service Uaage","Service Importance","Service Impact"]
[]
[null,null,null,null,null,null,null,null,null,null,null,null,null,null,null,null,null,null,null,null,null,null,null,null,null,null,null,null,null,null,null,null,null,null,null,null,null,null,null,null,null,null,null,null,null,null,null,null,null,null,null,null,"Category","From","To","Category","Score",null,null,null,null,null,null,null,null,null,null,null,null,null,null,null,null,null,null,null,null,null,null,null,null,null,null,null,null,null,null,null,null,null,null,null,null,null,null,null,null,null,null,null,null,null,"Score","Weighted Score","From","To","Total Score","Weighted Score","Score","Weighted Score","Score","Weighted Score","Score","Weighted Score","Score","Weighted Score","Score","Weighted Score","Score","Weighted Score"]
[null,null,null,null,null,null,null,null,null,null,null,null,null,null,null,null,null,null,null,null,null,null,null,null,null,null,null,null,null,null,null,null,null,null,null,null,null,null,null,null,null,null,null,null,null,null,null,null,null,null,null,null,null,null,null,null,null,null,null,null,null,null,null,null,null,null,null,null,null,null,null,null,null,null,null,null,null,null,null,null,null,null,null,null,""]
[null,null,null,null,null,null,null,null,null,null,{"$f":"IF(AND(J13=\"Project\", AO13>24999),\"Yes\",\"-\")","v":"-"},null,null,null,null,null,null,null,null,null,null,{"$f":"SUM(O13:U13)","v":0},null,null,null,null,null,{"$f":"SUM(W13:AA13)","v":0},null,null,null,null,null,null,{"$f":"SUM(AC13:AH13)","v":0},null,null,null,null,{"$f":"SUM(AJ13:AM13)","v":0},{"$f":"(V13+AB13+AI13+AN13)","v":0},null,{"$f":"U13+AA13","v":0},{"$f":"(AO13-AQ13)","v":0},{"$f":"SUM(V13+AB13)","v":0},{"$f":"AO13-AS13","v":0},{"$f":"IF(ISERROR((AS13)/AO13),\"-\", (AS13)/AO13)","v":"-"},null,null,null,null,null,null,null,null,null,null,null,null,null,null,null,{"$f":"AY13/158475797","v":0},{"$f":"CZ13","v":0},{"$f":"DD13","v":0},{"$f":"DF13","v":0},{"$f":"DH13","v":0},{"$f":"DJ13","v":0},{"$f":"DL13","v":0},{"$f":"DN13","v":0},{"$f":"DP13","v":0},{"$f":"DR13","v":0},{"$f":"IFERROR(RANK(BT13,$BT$13:$BT$143,0),\"\")","v":1},{"$f":"IFERROR(IF(L13=Dropdowns!$F$32,\"\",IF(J13=\"Project\",AR13/BT13,IF(J13=\"Program\",AP13/BT13,\"\"))),\"\")","v":""},{"$f":"IFERROR(RANK(BV13,$BV$13:$BV$143,1),\"\")","v":""},null,null,null,null,null,null,null,null,null,{"$f":"IF($CA13=\"\",0,VLOOKUP($CA13,'Conversion Tables'!$B$37:$C$62,2,FALSE))+IF($CB13=\"\",0,VLOOKUP($CB13,'Conversion Tables'!$B$37:$C$62,2,FALSE))+IF($CC13=\"\",0,VLOOKUP($CC13,'Conversion Tables'!$B$37:$C$62,2,FALSE))+IF($CD13=\"\",0,VLOOKUP($CD13,'Conversion Tables'!$B$37:$C$62,2,FALSE))+IF($CE13=\"\",0,VLOOKUP($CE13,'Conversion Tables'!$B$37:$C$62,2,FALSE))+IF($CF13=\"\",0,VLOOKUP($CF13,'Conversion Tables'!$B$37:$C$62,2,FALSE))","v":0},null,null,null,null,null,null,{"$f":"IFERROR(VLOOKUP(CM13,Dropdowns!A$51:B$55,2,FALSE),\"\")","v":""},null,null,null,null,null,null,null,null,null,null,{"$f":"IFERROR(VLOOKUP(AZ13,'Conversion Tables'!$G$8:$N$12,3,FALSE)/'Conversion Tables'!$I$12*Max_Point,0)","v":0},{"$f":"CY13*'Weighting Scale'!$D$9*DS13*DT13","v":0},{"$f":"IFERROR(VLOOKUP(BB13,'Conversion Tables'!$B$8:$C$32,2,FALSE),0)","v":0},{"$f":"IFERROR(VLOOKUP(BC13,'Conversion Tables'!$B$8:$C$32,2,FALSE),0)","v":0},{"$f":"(DA13-DB13)/'Conversion Tables'!$C$32*Max_Point","v":0},{"$f":"DC13*'Weighting Scale'!$D$10*DS13*DT13","v":0},{"$f":"IFERROR(VLOOKUP(BE13,'Conversion Tables'!$G$8:$N$12,2, FALSE)/'Conversion Tables'!$H$12*Max_Point,0)","v":0},{"$f":"DE13*'Weighting Scale'!$D$11*DS13*DT13","v":0},{"$f":"IFERROR(VLOOKUP(BF13,'Conversion Tables'!$G$8:$N$12,6,FALSE)/'Conversion Tables'!$L$12*Max_Point,0)","v":0},{"$f":"DG13*'Weighting Scale'!$D$14*DS13*DT13","v":0},{"$f":"IFERROR(VLOOKUP(BG13,'Conversion Tables'!$G$8:$N$12,4,FALSE)/'Conversion Tables'!$J$12*Max_Point,0)","v":0},{"$f":"DI13*'Weighting Scale'!$D$12*DS13*DT13","v":0},{"$f":"IFERROR(VLOOKUP(BH13,'Conversion Tables'!$G$8:$N$12,5,FALSE)/'Conversion Tables'!$K$12*Max_Point,0)","v":0},{"$f":"DK13*'Weighting Scale'!$D$13*DS13*DT13","v":0},{"$f":"IFERROR(VLOOKUP(BI13,'Conversion Tables'!$G$8:$N$12,7,FALSE)/'Conversion Tables'!$M$12*Max_Point,0)","v":0},{"$f":"DM13*'Weighting Scale'!$D$15*DS13*DT13","v":0},{"$f":"IF(BJ13 = \"Yes\",('Conversion Tables'!$N$12)/'Conversion Tables'!$N$12*Max_Point,0)","v":0},{"$f":"DO13*'Weighting Scale'!$D$16*DS13*DT13","v":0},{"$f":"CZ13+DD13+DF13+DH13+DJ13+DL13+DN13+DP13","v":0},{"$f":"DQ13*DU13","v":0},{"$f":"BK13","v":0},{"$f":"IF(I13=Dropdowns!$C$7,Dropdowns!$B$7,IF(I13=Dropdowns!$C$8,Dropdowns!$B$8,IF(I13=Dropdowns!$C$9,Dropdowns!$B$9,IF(I13=Dropdowns!$C$10,Dropdowns!$B$10,IF(I13=Dropdowns!$C$11,Dropdowns!$B$11,IF(I13=Dropdowns!$C$12,Dropdowns!$B$12,IF(I13=Dropdowns!$C$13,Dropdowns!$B$13,IF(I13=Dropdowns!$C$14,Dropdowns!$B$14,IF(I13=Dropdowns!$C$15,Dropdowns!$B$15,IF(I13=Dropdowns!$C$16,Dropdowns!$B$16,IF(I13=Dropdowns!$C$17,Dropdowns!$B$17,IF(I13=Dropdowns!$C$18,Dropdowns!$B$18,IF(I13=Dropdowns!$C$19,Dropdowns!$B$19,IF(I13=Dropdowns!$C$20,Dropdowns!$B$20,IF(I13=Dropdowns!$C$21,Dropdowns!$B$21,IF(I13=Dropdowns!$C$22,Dropdowns!$B$22,IF(I13=Dropdowns!$C$23,Dropdowns!$B$23,IF(I13=Dropdowns!$C$24,Dropdowns!$B$24,IF(I13=Dropdowns!$C$25,Dropdowns!$B$25,IF(I13=Dropdowns!$C$26,Dropdowns!$B$26,IF(I13=Dropdowns!$C$27,Dropdowns!$B$27,IF(I13=Dropdowns!$C$28,Dropdowns!$B$28,IF(I13=Dropdowns!$C$29,Dropdowns!$B$29,IF(I13=Dropdowns!$C$30,Dropdowns!$B$30,IF(I13=Dropdowns!$C$31,Dropdowns!$B$31,IF(I13=Dropdowns!$C$32,Dropdowns!$B$32,IF(I13=Dropdowns!$C$33,Dropdowns!$B$33,IF(I13=Dropdowns!$C$34,Dropdowns!$B$34,IF(I13=Dropdowns!$C$35,Dropdowns!$B$35,IF(I13=Dropdowns!$C$36,Dropdowns!$B$36,IF(I13=Dropdowns!$C$37,Dropdowns!$B$37,IF(I13=Dropdowns!$C$38,Dropdowns!$B$38,IF(I13=Dropdowns!$C$39,Dropdowns!$B$39,IF(I13=Dropdowns!$C$40,Dropdowns!$B$40,IF(I13=Dropdowns!$C$41,Dropdowns!$B$41,IF(I13=Dropdowns!$C$42,Dropdowns!$B$42,IF(I13=Dropdowns!$C$43,Dropdowns!$B$43,IF(I13=Dropdowns!$C$44,Dropdowns!$B$44,IF(I13=Dropdowns!$C$45,Dropdowns!$B$45,IF(I13=Dropdowns!$C$46,Dropdowns!$B$46,IF(I13=Dropdowns!$C$47,Dropdowns!$B$47, IF(I13=Dropdowns!$C$48,Dropdowns!$B$48,\"0\"))))))))))))))))))))))))))))))))))))))))))","v":0},{"$f":"IF(AX13=Dropdowns!$F$15,Dropdowns!$G$15,IF(AX13=Dropdowns!$F$16,Dropdowns!$G$16,IF(AX13=Dropdowns!$F$17,Dropdowns!$G$17,\"0\")))","v":"0"}]
[null,null,null,null,null,null,null,null,null,null,"-",null,null,null,null,null,null,null,null,null,null,0,null,null,null,null,null,0,null,null,null,null,null,null,0,null,null,null,null,0,0,null,0,0,0,0,"-",null,null,null,null,null,null,null,null,null,null,null,null,null,null,null,0,0,0,0,0,0,0,0,0,0,1,{"$f":"IFERROR(IF(L14=Dropdowns!$F$32,\"\",IF(J14=\"Project\",AR14/BT14,IF(J14=\"Program\",AP14/BT14,\"\"))),\"\")","v":""},"",null,null,null,null,null,null,null,null,null,{"$f":"IF($CA14=\"\",0,VLOOKUP($CA14,'Conversion Tables'!$B$37:$C$62,2,FALSE))+IF($CB14=\"\",0,VLOOKUP($CB14,'Conversion Tables'!$B$37:$C$62,2,FALSE))+IF($CC14=\"\",0,VLOOKUP($CC14,'Conversion Tables'!$B$37:$C$62,2,FALSE))+IF($CD14=\"\",0,VLOOKUP($CD14,'Conversion Tables'!$B$37:$C$62,2,FALSE))+IF($CE14=\"\",0,VLOOKUP($CE14,'Conversion Tables'!$B$37:$C$62,2,FALSE))+IF($CF14=\"\",0,VLOOKUP($CF14,'Conversion Tables'!$B$37:$C$62,2,FALSE))","v":0},null,null,null,null,null,null,{"$f":"IFERROR(VLOOKUP(CM14,Dropdowns!A$51:B$55,2,FALSE),\"\")","v":""},null,null,null,null,null,null,null,null,null,null,{"$f":"IFERROR(VLOOKUP(AZ14,'Conversion Tables'!$G$8:$N$12,3,FALSE)/'Conversion Tables'!$I$12*Max_Point,0)","v":0},{"$f":"CY14*'Weighting Scale'!$D$9*DS14*DT14","v":0},{"$f":"IFERROR(VLOOKUP(BB14,'Conversion Tables'!$B$8:$C$32,2,FALSE),0)","v":0},{"$f":"IFERROR(VLOOKUP(BC14,'Conversion Tables'!$B$8:$C$32,2,FALSE),0)","v":0},{"$f":"(DA14-DB14)/'Conversion Tables'!$C$32*Max_Point","v":0},{"$f":"DC14*'Weighting Scale'!$D$10*DS14*DT14","v":0},{"$f":"IFERROR(VLOOKUP(BE14,'Conversion Tables'!$G$8:$N$12,2, FALSE)/'Conversion Tables'!$H$12*Max_Point,0)","v":0},{"$f":"DE14*'Weighting Scale'!$D$11*DS14*DT14","v":0},{"$f":"IFERROR(VLOOKUP(BF14,'Conversion Tables'!$G$8:$N$12,6,FALSE)/'Conversion Tables'!$L$12*Max_Point,0)","v":0},{"$f":"DG14*'Weighting Scale'!$D$14*DS14*DT14","v":0},{"$f":"IFERROR(VLOOKUP(BG14,'Conversion Tables'!$G$8:$N$12,4,FALSE)/'Conversion Tables'!$J$12*Max_Point,0)","v":0},{"$f":"DI14*'Weighting Scale'!$D$12*DS14*DT14","v":0},{"$f":"IFERROR(VLOOKUP(BH14,'Conversion Tables'!$G$8:$N$12,5,FALSE)/'Conversion Tables'!$K$12*Max_Point,0)","v":0},{"$f":"DK14*'Weighting Scale'!$D$13*DS14*DT14","v":0},{"$f":"IFERROR(VLOOKUP(BI14,'Conversion Tables'!$G$8:$N$12,7,FALSE)/'Conversion Tables'!$M$12*Max_Point,0)","v":0},{"$f":"DM14*'Weighting Scale'!$D$15*DS14*DT14","v":0},{"$f":"IF(BJ14 = \"Yes\",('Conversion Tables'!$N$12)/'Conversion Tables'!$N$12*Max_Point,0)","v":0},{"$f":"DO14*'Weighting Scale'!$D$16*DS14*DT14","v":0},0,0,0,{"$f":"IF(I14=Dropdowns!$C$7,Dropdowns!$B$7,IF(I14=Dropdowns!$C$8,Dropdowns!$B$8,IF(I14=Dropdowns!$C$9,Dropdowns!$B$9,IF(I14=Dropdowns!$C$10,Dropdowns!$B$10,IF(I14=Dropdowns!$C$11,Dropdowns!$B$11,IF(I14=Dropdowns!$C$12,Dropdowns!$B$12,IF(I14=Dropdowns!$C$13,Dropdowns!$B$13,IF(I14=Dropdowns!$C$14,Dropdowns!$B$14,IF(I14=Dropdowns!$C$15,Dropdowns!$B$15,IF(I14=Dropdowns!$C$16,Dropdowns!$B$16,IF(I14=Dropdowns!$C$17,Dropdowns!$B$17,IF(I14=Dropdowns!$C$18,Dropdowns!$B$18,IF(I14=Dropdowns!$C$19,Dropdowns!$B$19,IF(I14=Dropdowns!$C$20,Dropdowns!$B$20,IF(I14=Dropdowns!$C$21,Dropdowns!$B$21,IF(I14=Dropdowns!$C$22,Dropdowns!$B$22,IF(I14=Dropdowns!$C$23,Dropdowns!$B$23,IF(I14=Dropdowns!$C$24,Dropdowns!$B$24,IF(I14=Dropdowns!$C$25,Dropdowns!$B$25,IF(I14=Dropdowns!$C$26,Dropdowns!$B$26,IF(I14=Dropdowns!$C$27,Dropdowns!$B$27,IF(I14=Dropdowns!$C$28,Dropdowns!$B$28,IF(I14=Dropdowns!$C$29,Dropdowns!$B$29,IF(I14=Dropdowns!$C$30,Dropdowns!$B$30,IF(I14=Dropdowns!$C$31,Dropdowns!$B$31,IF(I14=Dropdowns!$C$32,Dropdowns!$B$32,IF(I14=Dropdowns!$C$33,Dropdowns!$B$33,IF(I14=Dropdowns!$C$34,Dropdowns!$B$34,IF(I14=Dropdowns!$C$35,Dropdowns!$B$35,IF(I14=Dropdowns!$C$36,Dropdowns!$B$36,IF(I14=Dropdowns!$C$37,Dropdowns!$B$37,IF(I14=Dropdowns!$C$38,Dropdowns!$B$38,IF(I14=Dropdowns!$C$39,Dropdowns!$B$39,IF(I14=Dropdowns!$C$40,Dropdowns!$B$40,IF(I14=Dropdowns!$C$41,Dropdowns!$B$41,IF(I14=Dropdowns!$C$42,Dropdowns!$B$42,IF(I14=Dropdowns!$C$43,Dropdowns!$B$43,IF(I14=Dropdowns!$C$44,Dropdowns!$B$44,IF(I14=Dropdowns!$C$45,Dropdowns!$B$45,IF(I14=Dropdowns!$C$46,Dropdowns!$B$46,IF(I14=Dropdowns!$C$47,Dropdowns!$B$47, IF(I14=Dropdowns!$C$48,Dropdowns!$B$48,\"0\"))))))))))))))))))))))))))))))))))))))))))","v":0},{"$f":"IF(AX14=Dropdowns!$F$15,Dropdowns!$G$15,IF(AX14=Dropdowns!$F$16,Dropdowns!$G$16,IF(AX14=Dropdowns!$F$17,Dropdowns!$G$17,\"0\")))","v":"0"}]
[null,null,null,null,null,null,null,null,null,null,"-",null,null,null,null,null,null,null,null,null,null,0,null,null,null,null,null,0,null,null,null,null,null,null,0,null,null,null,null,0,0,null,0,0,0,0,"-",null,null,null,null,null,null,null,null,null,null,null,null,null,null,null,0,0,0,0,0,0,0,0,0,0,1,{"$f":"IFERROR(IF(L15=Dropdowns!$F$32,\"\",IF(J15=\"Project\",AR15/BT15,IF(J15=\"Program\",AP15/BT15,\"\"))),\"\")","v":""},"",null,null,null,null,null,null,null,null,null,{"$f":"IF($CA15=\"\",0,VLOOKUP($CA15,'Conversion Tables'!$B$37:$C$62,2,FALSE))+IF($CB15=\"\",0,VLOOKUP($CB15,'Conversion Tables'!$B$37:$C$62,2,FALSE))+IF($CC15=\"\",0,VLOOKUP($CC15,'Conversion Tables'!$B$37:$C$62,2,FALSE))+IF($CD15=\"\",0,VLOOKUP($CD15,'Conversion Tables'!$B$37:$C$62,2,FALSE))+IF($CE15=\"\",0,VLOOKUP($CE15,'Conversion Tables'!$B$37:$C$62,2,FALSE))+IF($CF15=\"\",0,VLOOKUP($CF15,'Conversion Tables'!$B$37:$C$62,2,FALSE))","v":0},null,null,null,null,null,null,{"$f":"IFERROR(VLOOKUP(CM15,Dropdowns!A$51:B$55,2,FALSE),\"\")","v":""},null,null,null,null,null,null,null,null,null,null,{"$f":"IFERROR(VLOOKUP(AZ15,'Conversion Tables'!$G$8:$N$12,3,FALSE)/'Conversion Tables'!$I$12*Max_Point,0)","v":0},{"$f":"CY15*'Weighting Scale'!$D$9*DS15*DT15","v":0},{"$f":"IFERROR(VLOOKUP(BB15,'Conversion Tables'!$B$8:$C$32,2,FALSE),0)","v":0},{"$f":"IFERROR(VLOOKUP(BC15,'Conversion Tables'!$B$8:$C$32,2,FALSE),0)","v":0},{"$f":"(DA15-DB15)/'Conversion Tables'!$C$32*Max_Point","v":0},{"$f":"DC15*'Weighting Scale'!$D$10*DS15*DT15","v":0},{"$f":"IFERROR(VLOOKUP(BE15,'Conversion Tables'!$G$8:$N$12,2, FALSE)/'Conversion Tables'!$H$12*Max_Point,0)","v":0},{"$f":"DE15*'Weighting Scale'!$D$11*DS15*DT15","v":0},{"$f":"IFERROR(VLOOKUP(BF15,'Conversion Tables'!$G$8:$N$12,6,FALSE)/'Conversion Tables'!$L$12*Max_Point,0)","v":0},{"$f":"DG15*'Weighting Scale'!$D$14*DS15*DT15","v":0},{"$f":"IFERROR(VLOOKUP(BG15,'Conversion Tables'!$G$8:$N$12,4,FALSE)/'Conversion Tables'!$J$12*Max_Point,0)","v":0},{"$f":"DI15*'Weighting Scale'!$D$12*DS15*DT15","v":0},{"$f":"IFERROR(VLOOKUP(BH15,'Conversion Tables'!$G$8:$N$12,5,FALSE)/'Conversion Tables'!$K$12*Max_Point,0)","v":0},{"$f":"DK15*'Weighting Scale'!$D$13*DS15*DT15","v":0},{"$f":"IFERROR(VLOOKUP(BI15,'Conversion Tables'!$G$8:$N$12,7,FALSE)/'Conversion Tables'!$M$12*Max_Point,0)","v":0},{"$f":"DM15*'Weighting Scale'!$D$15*DS15*DT15","v":0},{"$f":"IF(BJ15 = \"Yes\",('Conversion Tables'!$N$12)/'Conversion Tables'!$N$12*Max_Point,0)","v":0},{"$f":"DO15*'Weighting Scale'!$D$16*DS15*DT15","v":0},0,0,0,{"$f":"IF(I15=Dropdowns!$C$7,Dropdowns!$B$7,IF(I15=Dropdowns!$C$8,Dropdowns!$B$8,IF(I15=Dropdowns!$C$9,Dropdowns!$B$9,IF(I15=Dropdowns!$C$10,Dropdowns!$B$10,IF(I15=Dropdowns!$C$11,Dropdowns!$B$11,IF(I15=Dropdowns!$C$12,Dropdowns!$B$12,IF(I15=Dropdowns!$C$13,Dropdowns!$B$13,IF(I15=Dropdowns!$C$14,Dropdowns!$B$14,IF(I15=Dropdowns!$C$15,Dropdowns!$B$15,IF(I15=Dropdowns!$C$16,Dropdowns!$B$16,IF(I15=Dropdowns!$C$17,Dropdowns!$B$17,IF(I15=Dropdowns!$C$18,Dropdowns!$B$18,IF(I15=Dropdowns!$C$19,Dropdowns!$B$19,IF(I15=Dropdowns!$C$20,Dropdowns!$B$20,IF(I15=Dropdowns!$C$21,Dropdowns!$B$21,IF(I15=Dropdowns!$C$22,Dropdowns!$B$22,IF(I15=Dropdowns!$C$23,Dropdowns!$B$23,IF(I15=Dropdowns!$C$24,Dropdowns!$B$24,IF(I15=Dropdowns!$C$25,Dropdowns!$B$25,IF(I15=Dropdowns!$C$26,Dropdowns!$B$26,IF(I15=Dropdowns!$C$27,Dropdowns!$B$27,IF(I15=Dropdowns!$C$28,Dropdowns!$B$28,IF(I15=Dropdowns!$C$29,Dropdowns!$B$29,IF(I15=Dropdowns!$C$30,Dropdowns!$B$30,IF(I15=Dropdowns!$C$31,Dropdowns!$B$31,IF(I15=Dropdowns!$C$32,Dropdowns!$B$32,IF(I15=Dropdowns!$C$33,Dropdowns!$B$33,IF(I15=Dropdowns!$C$34,Dropdowns!$B$34,IF(I15=Dropdowns!$C$35,Dropdowns!$B$35,IF(I15=Dropdowns!$C$36,Dropdowns!$B$36,IF(I15=Dropdowns!$C$37,Dropdowns!$B$37,IF(I15=Dropdowns!$C$38,Dropdowns!$B$38,IF(I15=Dropdowns!$C$39,Dropdowns!$B$39,IF(I15=Dropdowns!$C$40,Dropdowns!$B$40,IF(I15=Dropdowns!$C$41,Dropdowns!$B$41,IF(I15=Dropdowns!$C$42,Dropdowns!$B$42,IF(I15=Dropdowns!$C$43,Dropdowns!$B$43,IF(I15=Dropdowns!$C$44,Dropdowns!$B$44,IF(I15=Dropdowns!$C$45,Dropdowns!$B$45,IF(I15=Dropdowns!$C$46,Dropdowns!$B$46,IF(I15=Dropdowns!$C$47,Dropdowns!$B$47, IF(I15=Dropdowns!$C$48,Dropdowns!$B$48,\"0\"))))))))))))))))))))))))))))))))))))))))))","v":0},{"$f":"IF(AX15=Dropdowns!$F$15,Dropdowns!$G$15,IF(AX15=Dropdowns!$F$16,Dropdowns!$G$16,IF(AX15=Dropdowns!$F$17,Dropdowns!$G$17,\"0\")))","v":"0"}]
[null,null,null,null,null,null,null,null,null,null,"-",null,null,null,null,null,null,null,null,null,null,0,null,null,null,null,null,0,null,null,null,null,null,null,0,null,null,null,null,0,0,null,0,0,0,0,"-",null,null,null,null,null,null,null,null,null,null,null,null,null,null,null,0,0,0,0,0,0,0,0,0,0,1,{"$f":"IFERROR(IF(L16=Dropdowns!$F$32,\"\",IF(J16=\"Project\",AR16/BT16,IF(J16=\"Program\",AP16/BT16,\"\"))),\"\")","v":""},"",null,null,null,null,null,null,null,null,null,{"$f":"IF($CA16=\"\",0,VLOOKUP($CA16,'Conversion Tables'!$B$37:$C$62,2,FALSE))+IF($CB16=\"\",0,VLOOKUP($CB16,'Conversion Tables'!$B$37:$C$62,2,FALSE))+IF($CC16=\"\",0,VLOOKUP($CC16,'Conversion Tables'!$B$37:$C$62,2,FALSE))+IF($CD16=\"\",0,VLOOKUP($CD16,'Conversion Tables'!$B$37:$C$62,2,FALSE))+IF($CE16=\"\",0,VLOOKUP($CE16,'Conversion Tables'!$B$37:$C$62,2,FALSE))+IF($CF16=\"\",0,VLOOKUP($CF16,'Conversion Tables'!$B$37:$C$62,2,FALSE))","v":0},null,null,null,null,null,null,{"$f":"IFERROR(VLOOKUP(CM16,Dropdowns!A$51:B$55,2,FALSE),\"\")","v":""},null,null,null,null,null,null,null,null,null,null,{"$f":"IFERROR(VLOOKUP(AZ16,'Conversion Tables'!$G$8:$N$12,3,FALSE)/'Conversion Tables'!$I$12*Max_Point,0)","v":0},{"$f":"CY16*'Weighting Scale'!$D$9*DS16*DT16","v":0},{"$f":"IFERROR(VLOOKUP(BB16,'Conversion Tables'!$B$8:$C$32,2,FALSE),0)","v":0},{"$f":"IFERROR(VLOOKUP(BC16,'Conversion Tables'!$B$8:$C$32,2,FALSE),0)","v":0},{"$f":"(DA16-DB16)/'Conversion Tables'!$C$32*Max_Point","v":0},{"$f":"DC16*'Weighting Scale'!$D$10*DS16*DT16","v":0},{"$f":"IFERROR(VLOOKUP(BE16,'Conversion Tables'!$G$8:$N$12,2, FALSE)/'Conversion Tables'!$H$12*Max_Point,0)","v":0},{"$f":"DE16*'Weighting Scale'!$D$11*DS16*DT16","v":0},{"$f":"IFERROR(VLOOKUP(BF16,'Conversion Tables'!$G$8:$N$12,6,FALSE)/'Conversion Tables'!$L$12*Max_Point,0)","v":0},{"$f":"DG16*'Weighting Scale'!$D$14*DS16*DT16","v":0},{"$f":"IFERROR(VLOOKUP(BG16,'Conversion Tables'!$G$8:$N$12,4,FALSE)/'Conversion Tables'!$J$12*Max_Point,0)","v":0},{"$f":"DI16*'Weighting Scale'!$D$12*DS16*DT16","v":0},{"$f":"IFERROR(VLOOKUP(BH16,'Conversion Tables'!$G$8:$N$12,5,FALSE)/'Conversion Tables'!$K$12*Max_Point,0)","v":0},{"$f":"DK16*'Weighting Scale'!$D$13*DS16*DT16","v":0},{"$f":"IFERROR(VLOOKUP(BI16,'Conversion Tables'!$G$8:$N$12,7,FALSE)/'Conversion Tables'!$M$12*Max_Point,0)","v":0},{"$f":"DM16*'Weighting Scale'!$D$15*DS16*DT16","v":0},{"$f":"IF(BJ16 = \"Yes\",('Conversion Tables'!$N$12)/'Conversion Tables'!$N$12*Max_Point,0)","v":0},{"$f":"DO16*'Weighting Scale'!$D$16*DS16*DT16","v":0},0,0,0,{"$f":"IF(I16=Dropdowns!$C$7,Dropdowns!$B$7,IF(I16=Dropdowns!$C$8,Dropdowns!$B$8,IF(I16=Dropdowns!$C$9,Dropdowns!$B$9,IF(I16=Dropdowns!$C$10,Dropdowns!$B$10,IF(I16=Dropdowns!$C$11,Dropdowns!$B$11,IF(I16=Dropdowns!$C$12,Dropdowns!$B$12,IF(I16=Dropdowns!$C$13,Dropdowns!$B$13,IF(I16=Dropdowns!$C$14,Dropdowns!$B$14,IF(I16=Dropdowns!$C$15,Dropdowns!$B$15,IF(I16=Dropdowns!$C$16,Dropdowns!$B$16,IF(I16=Dropdowns!$C$17,Dropdowns!$B$17,IF(I16=Dropdowns!$C$18,Dropdowns!$B$18,IF(I16=Dropdowns!$C$19,Dropdowns!$B$19,IF(I16=Dropdowns!$C$20,Dropdowns!$B$20,IF(I16=Dropdowns!$C$21,Dropdowns!$B$21,IF(I16=Dropdowns!$C$22,Dropdowns!$B$22,IF(I16=Dropdowns!$C$23,Dropdowns!$B$23,IF(I16=Dropdowns!$C$24,Dropdowns!$B$24,IF(I16=Dropdowns!$C$25,Dropdowns!$B$25,IF(I16=Dropdowns!$C$26,Dropdowns!$B$26,IF(I16=Dropdowns!$C$27,Dropdowns!$B$27,IF(I16=Dropdowns!$C$28,Dropdowns!$B$28,IF(I16=Dropdowns!$C$29,Dropdowns!$B$29,IF(I16=Dropdowns!$C$30,Dropdowns!$B$30,IF(I16=Dropdowns!$C$31,Dropdowns!$B$31,IF(I16=Dropdowns!$C$32,Dropdowns!$B$32,IF(I16=Dropdowns!$C$33,Dropdowns!$B$33,IF(I16=Dropdowns!$C$34,Dropdowns!$B$34,IF(I16=Dropdowns!$C$35,Dropdowns!$B$35,IF(I16=Dropdowns!$C$36,Dropdowns!$B$36,IF(I16=Dropdowns!$C$37,Dropdowns!$B$37,IF(I16=Dropdowns!$C$38,Dropdowns!$B$38,IF(I16=Dropdowns!$C$39,Dropdowns!$B$39,IF(I16=Dropdowns!$C$40,Dropdowns!$B$40,IF(I16=Dropdowns!$C$41,Dropdowns!$B$41,IF(I16=Dropdowns!$C$42,Dropdowns!$B$42,IF(I16=Dropdowns!$C$43,Dropdowns!$B$43,IF(I16=Dropdowns!$C$44,Dropdowns!$B$44,IF(I16=Dropdowns!$C$45,Dropdowns!$B$45,IF(I16=Dropdowns!$C$46,Dropdowns!$B$46,IF(I16=Dropdowns!$C$47,Dropdowns!$B$47, IF(I16=Dropdowns!$C$48,Dropdowns!$B$48,\"0\"))))))))))))))))))))))))))))))))))))))))))","v":0},{"$f":"IF(AX16=Dropdowns!$F$15,Dropdowns!$G$15,IF(AX16=Dropdowns!$F$16,Dropdowns!$G$16,IF(AX16=Dropdowns!$F$17,Dropdowns!$G$17,\"0\")))","v":"0"}]
[null,null,null,null,null,null,null,null,null,null,"-",null,null,null,null,null,null,null,null,null,null,0,null,null,null,null,null,0,null,null,null,null,null,null,0,null,null,null,null,0,0,null,0,0,0,0,"-",null,null,null,null,null,null,null,null,null,null,null,null,null,null,null,0,0,0,0,0,0,0,0,0,0,1,{"$f":"IFERROR(IF(L17=Dropdowns!$F$32,\"\",IF(J17=\"Project\",AR17/BT17,IF(J17=\"Program\",AP17/BT17,\"\"))),\"\")","v":""},"",null,null,null,null,null,null,null,null,null,{"$f":"IF($CA17=\"\",0,VLOOKUP($CA17,'Conversion Tables'!$B$37:$C$62,2,FALSE))+IF($CB17=\"\",0,VLOOKUP($CB17,'Conversion Tables'!$B$37:$C$62,2,FALSE))+IF($CC17=\"\",0,VLOOKUP($CC17,'Conversion Tables'!$B$37:$C$62,2,FALSE))+IF($CD17=\"\",0,VLOOKUP($CD17,'Conversion Tables'!$B$37:$C$62,2,FALSE))+IF($CE17=\"\",0,VLOOKUP($CE17,'Conversion Tables'!$B$37:$C$62,2,FALSE))+IF($CF17=\"\",0,VLOOKUP($CF17,'Conversion Tables'!$B$37:$C$62,2,FALSE))","v":0},null,null,null,null,null,null,{"$f":"IFERROR(VLOOKUP(CM17,Dropdowns!A$51:B$55,2,FALSE),\"\")","v":""},null,null,null,null,null,null,null,null,null,null,{"$f":"IFERROR(VLOOKUP(AZ17,'Conversion Tables'!$G$8:$N$12,3,FALSE)/'Conversion Tables'!$I$12*Max_Point,0)","v":0},{"$f":"CY17*'Weighting Scale'!$D$9*DS17*DT17","v":0},{"$f":"IFERROR(VLOOKUP(BB17,'Conversion Tables'!$B$8:$C$32,2,FALSE),0)","v":0},{"$f":"IFERROR(VLOOKUP(BC17,'Conversion Tables'!$B$8:$C$32,2,FALSE),0)","v":0},{"$f":"(DA17-DB17)/'Conversion Tables'!$C$32*Max_Point","v":0},{"$f":"DC17*'Weighting Scale'!$D$10*DS17*DT17","v":0},{"$f":"IFERROR(VLOOKUP(BE17,'Conversion Tables'!$G$8:$N$12,2, FALSE)/'Conversion Tables'!$H$12*Max_Point,0)","v":0},{"$f":"DE17*'Weighting Scale'!$D$11*DS17*DT17","v":0},{"$f":"IFERROR(VLOOKUP(BF17,'Conversion Tables'!$G$8:$N$12,6,FALSE)/'Conversion Tables'!$L$12*Max_Point,0)","v":0},{"$f":"DG17*'Weighting Scale'!$D$14*DS17*DT17","v":0},{"$f":"IFERROR(VLOOKUP(BG17,'Conversion Tables'!$G$8:$N$12,4,FALSE)/'Conversion Tables'!$J$12*Max_Point,0)","v":0},{"$f":"DI17*'Weighting Scale'!$D$12*DS17*DT17","v":0},{"$f":"IFERROR(VLOOKUP(BH17,'Conversion Tables'!$G$8:$N$12,5,FALSE)/'Conversion Tables'!$K$12*Max_Point,0)","v":0},{"$f":"DK17*'Weighting Scale'!$D$13*DS17*DT17","v":0},{"$f":"IFERROR(VLOOKUP(BI17,'Conversion Tables'!$G$8:$N$12,7,FALSE)/'Conversion Tables'!$M$12*Max_Point,0)","v":0},{"$f":"DM17*'Weighting Scale'!$D$15*DS17*DT17","v":0},{"$f":"IF(BJ17 = \"Yes\",('Conversion Tables'!$N$12)/'Conversion Tables'!$N$12*Max_Point,0)","v":0},{"$f":"DO17*'Weighting Scale'!$D$16*DS17*DT17","v":0},0,0,0,{"$f":"IF(I17=Dropdowns!$C$7,Dropdowns!$B$7,IF(I17=Dropdowns!$C$8,Dropdowns!$B$8,IF(I17=Dropdowns!$C$9,Dropdowns!$B$9,IF(I17=Dropdowns!$C$10,Dropdowns!$B$10,IF(I17=Dropdowns!$C$11,Dropdowns!$B$11,IF(I17=Dropdowns!$C$12,Dropdowns!$B$12,IF(I17=Dropdowns!$C$13,Dropdowns!$B$13,IF(I17=Dropdowns!$C$14,Dropdowns!$B$14,IF(I17=Dropdowns!$C$15,Dropdowns!$B$15,IF(I17=Dropdowns!$C$16,Dropdowns!$B$16,IF(I17=Dropdowns!$C$17,Dropdowns!$B$17,IF(I17=Dropdowns!$C$18,Dropdowns!$B$18,IF(I17=Dropdowns!$C$19,Dropdowns!$B$19,IF(I17=Dropdowns!$C$20,Dropdowns!$B$20,IF(I17=Dropdowns!$C$21,Dropdowns!$B$21,IF(I17=Dropdowns!$C$22,Dropdowns!$B$22,IF(I17=Dropdowns!$C$23,Dropdowns!$B$23,IF(I17=Dropdowns!$C$24,Dropdowns!$B$24,IF(I17=Dropdowns!$C$25,Dropdowns!$B$25,IF(I17=Dropdowns!$C$26,Dropdowns!$B$26,IF(I17=Dropdowns!$C$27,Dropdowns!$B$27,IF(I17=Dropdowns!$C$28,Dropdowns!$B$28,IF(I17=Dropdowns!$C$29,Dropdowns!$B$29,IF(I17=Dropdowns!$C$30,Dropdowns!$B$30,IF(I17=Dropdowns!$C$31,Dropdowns!$B$31,IF(I17=Dropdowns!$C$32,Dropdowns!$B$32,IF(I17=Dropdowns!$C$33,Dropdowns!$B$33,IF(I17=Dropdowns!$C$34,Dropdowns!$B$34,IF(I17=Dropdowns!$C$35,Dropdowns!$B$35,IF(I17=Dropdowns!$C$36,Dropdowns!$B$36,IF(I17=Dropdowns!$C$37,Dropdowns!$B$37,IF(I17=Dropdowns!$C$38,Dropdowns!$B$38,IF(I17=Dropdowns!$C$39,Dropdowns!$B$39,IF(I17=Dropdowns!$C$40,Dropdowns!$B$40,IF(I17=Dropdowns!$C$41,Dropdowns!$B$41,IF(I17=Dropdowns!$C$42,Dropdowns!$B$42,IF(I17=Dropdowns!$C$43,Dropdowns!$B$43,IF(I17=Dropdowns!$C$44,Dropdowns!$B$44,IF(I17=Dropdowns!$C$45,Dropdowns!$B$45,IF(I17=Dropdowns!$C$46,Dropdowns!$B$46,IF(I17=Dropdowns!$C$47,Dropdowns!$B$47, IF(I17=Dropdowns!$C$48,Dropdowns!$B$48,\"0\"))))))))))))))))))))))))))))))))))))))))))","v":0},{"$f":"IF(AX17=Dropdowns!$F$15,Dropdowns!$G$15,IF(AX17=Dropdowns!$F$16,Dropdowns!$G$16,IF(AX17=Dropdowns!$F$17,Dropdowns!$G$17,\"0\")))","v":"0"}]
[null,null,null,null,null,null,null,null,null,null,"-",null,null,null,null,null,null,null,null,null,null,0,null,null,null,null,null,0,null,null,null,null,null,null,0,null,null,null,null,0,0,null,0,0,0,0,"-",null,null,null,null,null,null,null,null,null,null,null,null,null,null,null,0,0,0,0,0,0,0,0,0,0,1,{"$f":"IFERROR(IF(L18=Dropdowns!$F$32,\"\",IF(J18=\"Project\",AR18/BT18,IF(J18=\"Program\",AP18/BT18,\"\"))),\"\")","v":""},"",null,null,null,null,null,null,null,null,null,{"$f":"IF($CA18=\"\",0,VLOOKUP($CA18,'Conversion Tables'!$B$37:$C$62,2,FALSE))+IF($CB18=\"\",0,VLOOKUP($CB18,'Conversion Tables'!$B$37:$C$62,2,FALSE))+IF($CC18=\"\",0,VLOOKUP($CC18,'Conversion Tables'!$B$37:$C$62,2,FALSE))+IF($CD18=\"\",0,VLOOKUP($CD18,'Conversion Tables'!$B$37:$C$62,2,FALSE))+IF($CE18=\"\",0,VLOOKUP($CE18,'Conversion Tables'!$B$37:$C$62,2,FALSE))+IF($CF18=\"\",0,VLOOKUP($CF18,'Conversion Tables'!$B$37:$C$62,2,FALSE))","v":0},null,null,null,null,null,null,{"$f":"IFERROR(VLOOKUP(CM18,Dropdowns!A$51:B$55,2,FALSE),\"\")","v":""},null,null,null,null,null,null,null,null,null,null,{"$f":"IFERROR(VLOOKUP(AZ18,'Conversion Tables'!$G$8:$N$12,3,FALSE)/'Conversion Tables'!$I$12*Max_Point,0)","v":0},{"$f":"CY18*'Weighting Scale'!$D$9*DS18*DT18","v":0},{"$f":"IFERROR(VLOOKUP(BB18,'Conversion Tables'!$B$8:$C$32,2,FALSE),0)","v":0},{"$f":"IFERROR(VLOOKUP(BC18,'Conversion Tables'!$B$8:$C$32,2,FALSE),0)","v":0},{"$f":"(DA18-DB18)/'Conversion Tables'!$C$32*Max_Point","v":0},{"$f":"DC18*'Weighting Scale'!$D$10*DS18*DT18","v":0},{"$f":"IFERROR(VLOOKUP(BE18,'Conversion Tables'!$G$8:$N$12,2, FALSE)/'Conversion Tables'!$H$12*Max_Point,0)","v":0},{"$f":"DE18*'Weighting Scale'!$D$11*DS18*DT18","v":0},{"$f":"IFERROR(VLOOKUP(BF18,'Conversion Tables'!$G$8:$N$12,6,FALSE)/'Conversion Tables'!$L$12*Max_Point,0)","v":0},{"$f":"DG18*'Weighting Scale'!$D$14*DS18*DT18","v":0},{"$f":"IFERROR(VLOOKUP(BG18,'Conversion Tables'!$G$8:$N$12,4,FALSE)/'Conversion Tables'!$J$12*Max_Point,0)","v":0},{"$f":"DI18*'Weighting Scale'!$D$12*DS18*DT18","v":0},{"$f":"IFERROR(VLOOKUP(BH18,'Conversion Tables'!$G$8:$N$12,5,FALSE)/'Conversion Tables'!$K$12*Max_Point,0)","v":0},{"$f":"DK18*'Weighting Scale'!$D$13*DS18*DT18","v":0},{"$f":"IFERROR(VLOOKUP(BI18,'Conversion Tables'!$G$8:$N$12,7,FALSE)/'Conversion Tables'!$M$12*Max_Point,0)","v":0},{"$f":"DM18*'Weighting Scale'!$D$15*DS18*DT18","v":0},{"$f":"IF(BJ18 = \"Yes\",('Conversion Tables'!$N$12)/'Conversion Tables'!$N$12*Max_Point,0)","v":0},{"$f":"DO18*'Weighting Scale'!$D$16*DS18*DT18","v":0},0,0,0,{"$f":"IF(I18=Dropdowns!$C$7,Dropdowns!$B$7,IF(I18=Dropdowns!$C$8,Dropdowns!$B$8,IF(I18=Dropdowns!$C$9,Dropdowns!$B$9,IF(I18=Dropdowns!$C$10,Dropdowns!$B$10,IF(I18=Dropdowns!$C$11,Dropdowns!$B$11,IF(I18=Dropdowns!$C$12,Dropdowns!$B$12,IF(I18=Dropdowns!$C$13,Dropdowns!$B$13,IF(I18=Dropdowns!$C$14,Dropdowns!$B$14,IF(I18=Dropdowns!$C$15,Dropdowns!$B$15,IF(I18=Dropdowns!$C$16,Dropdowns!$B$16,IF(I18=Dropdowns!$C$17,Dropdowns!$B$17,IF(I18=Dropdowns!$C$18,Dropdowns!$B$18,IF(I18=Dropdowns!$C$19,Dropdowns!$B$19,IF(I18=Dropdowns!$C$20,Dropdowns!$B$20,IF(I18=Dropdowns!$C$21,Dropdowns!$B$21,IF(I18=Dropdowns!$C$22,Dropdowns!$B$22,IF(I18=Dropdowns!$C$23,Dropdowns!$B$23,IF(I18=Dropdowns!$C$24,Dropdowns!$B$24,IF(I18=Dropdowns!$C$25,Dropdowns!$B$25,IF(I18=Dropdowns!$C$26,Dropdowns!$B$26,IF(I18=Dropdowns!$C$27,Dropdowns!$B$27,IF(I18=Dropdowns!$C$28,Dropdowns!$B$28,IF(I18=Dropdowns!$C$29,Dropdowns!$B$29,IF(I18=Dropdowns!$C$30,Dropdowns!$B$30,IF(I18=Dropdowns!$C$31,Dropdowns!$B$31,IF(I18=Dropdowns!$C$32,Dropdowns!$B$32,IF(I18=Dropdowns!$C$33,Dropdowns!$B$33,IF(I18=Dropdowns!$C$34,Dropdowns!$B$34,IF(I18=Dropdowns!$C$35,Dropdowns!$B$35,IF(I18=Dropdowns!$C$36,Dropdowns!$B$36,IF(I18=Dropdowns!$C$37,Dropdowns!$B$37,IF(I18=Dropdowns!$C$38,Dropdowns!$B$38,IF(I18=Dropdowns!$C$39,Dropdowns!$B$39,IF(I18=Dropdowns!$C$40,Dropdowns!$B$40,IF(I18=Dropdowns!$C$41,Dropdowns!$B$41,IF(I18=Dropdowns!$C$42,Dropdowns!$B$42,IF(I18=Dropdowns!$C$43,Dropdowns!$B$43,IF(I18=Dropdowns!$C$44,Dropdowns!$B$44,IF(I18=Dropdowns!$C$45,Dropdowns!$B$45,IF(I18=Dropdowns!$C$46,Dropdowns!$B$46,IF(I18=Dropdowns!$C$47,Dropdowns!$B$47, IF(I18=Dropdowns!$C$48,Dropdowns!$B$48,\"0\"))))))))))))))))))))))))))))))))))))))))))","v":0},{"$f":"IF(AX18=Dropdowns!$F$15,Dropdowns!$G$15,IF(AX18=Dropdowns!$F$16,Dropdowns!$G$16,IF(AX18=Dropdowns!$F$17,Dropdowns!$G$17,\"0\")))","v":"0"}]
[null,null,null,null,null,null,null,null,null,null,"-",null,null,null,null,null,null,null,null,null,null,0,null,null,null,null,null,0,null,null,null,null,null,null,0,null,null,null,null,0,0,null,0,0,0,0,"-",null,null,null,null,null,null,null,null,null,null,null,null,null,null,null,0,0,0,0,0,0,0,0,0,0,1,{"$f":"IFERROR(IF(L19=Dropdowns!$F$32,\"\",IF(J19=\"Project\",AR19/BT19,IF(J19=\"Program\",AP19/BT19,\"\"))),\"\")","v":""},"",null,null,null,null,null,null,null,null,null,{"$f":"IF($CA19=\"\",0,VLOOKUP($CA19,'Conversion Tables'!$B$37:$C$62,2,FALSE))+IF($CB19=\"\",0,VLOOKUP($CB19,'Conversion Tables'!$B$37:$C$62,2,FALSE))+IF($CC19=\"\",0,VLOOKUP($CC19,'Conversion Tables'!$B$37:$C$62,2,FALSE))+IF($CD19=\"\",0,VLOOKUP($CD19,'Conversion Tables'!$B$37:$C$62,2,FALSE))+IF($CE19=\"\",0,VLOOKUP($CE19,'Conversion Tables'!$B$37:$C$62,2,FALSE))+IF($CF19=\"\",0,VLOOKUP($CF19,'Conversion Tables'!$B$37:$C$62,2,FALSE))","v":0},null,null,null,null,null,null,{"$f":"IFERROR(VLOOKUP(CM19,Dropdowns!A$51:B$55,2,FALSE),\"\")","v":""},null,null,null,null,null,null,null,null,null,null,{"$f":"IFERROR(VLOOKUP(AZ19,'Conversion Tables'!$G$8:$N$12,3,FALSE)/'Conversion Tables'!$I$12*Max_Point,0)","v":0},{"$f":"CY19*'Weighting Scale'!$D$9*DS19*DT19","v":0},{"$f":"IFERROR(VLOOKUP(BB19,'Conversion Tables'!$B$8:$C$32,2,FALSE),0)","v":0},{"$f":"IFERROR(VLOOKUP(BC19,'Conversion Tables'!$B$8:$C$32,2,FALSE),0)","v":0},{"$f":"(DA19-DB19)/'Conversion Tables'!$C$32*Max_Point","v":0},{"$f":"DC19*'Weighting Scale'!$D$10*DS19*DT19","v":0},{"$f":"IFERROR(VLOOKUP(BE19,'Conversion Tables'!$G$8:$N$12,2, FALSE)/'Conversion Tables'!$H$12*Max_Point,0)","v":0},{"$f":"DE19*'Weighting Scale'!$D$11*DS19*DT19","v":0},{"$f":"IFERROR(VLOOKUP(BF19,'Conversion Tables'!$G$8:$N$12,6,FALSE)/'Conversion Tables'!$L$12*Max_Point,0)","v":0},{"$f":"DG19*'Weighting Scale'!$D$14*DS19*DT19","v":0},{"$f":"IFERROR(VLOOKUP(BG19,'Conversion Tables'!$G$8:$N$12,4,FALSE)/'Conversion Tables'!$J$12*Max_Point,0)","v":0},{"$f":"DI19*'Weighting Scale'!$D$12*DS19*DT19","v":0},{"$f":"IFERROR(VLOOKUP(BH19,'Conversion Tables'!$G$8:$N$12,5,FALSE)/'Conversion Tables'!$K$12*Max_Point,0)","v":0},{"$f":"DK19*'Weighting Scale'!$D$13*DS19*DT19","v":0},{"$f":"IFERROR(VLOOKUP(BI19,'Conversion Tables'!$G$8:$N$12,7,FALSE)/'Conversion Tables'!$M$12*Max_Point,0)","v":0},{"$f":"DM19*'Weighting Scale'!$D$15*DS19*DT19","v":0},{"$f":"IF(BJ19 = \"Yes\",('Conversion Tables'!$N$12)/'Conversion Tables'!$N$12*Max_Point,0)","v":0},{"$f":"DO19*'Weighting Scale'!$D$16*DS19*DT19","v":0},0,0,0,{"$f":"IF(I19=Dropdowns!$C$7,Dropdowns!$B$7,IF(I19=Dropdowns!$C$8,Dropdowns!$B$8,IF(I19=Dropdowns!$C$9,Dropdowns!$B$9,IF(I19=Dropdowns!$C$10,Dropdowns!$B$10,IF(I19=Dropdowns!$C$11,Dropdowns!$B$11,IF(I19=Dropdowns!$C$12,Dropdowns!$B$12,IF(I19=Dropdowns!$C$13,Dropdowns!$B$13,IF(I19=Dropdowns!$C$14,Dropdowns!$B$14,IF(I19=Dropdowns!$C$15,Dropdowns!$B$15,IF(I19=Dropdowns!$C$16,Dropdowns!$B$16,IF(I19=Dropdowns!$C$17,Dropdowns!$B$17,IF(I19=Dropdowns!$C$18,Dropdowns!$B$18,IF(I19=Dropdowns!$C$19,Dropdowns!$B$19,IF(I19=Dropdowns!$C$20,Dropdowns!$B$20,IF(I19=Dropdowns!$C$21,Dropdowns!$B$21,IF(I19=Dropdowns!$C$22,Dropdowns!$B$22,IF(I19=Dropdowns!$C$23,Dropdowns!$B$23,IF(I19=Dropdowns!$C$24,Dropdowns!$B$24,IF(I19=Dropdowns!$C$25,Dropdowns!$B$25,IF(I19=Dropdowns!$C$26,Dropdowns!$B$26,IF(I19=Dropdowns!$C$27,Dropdowns!$B$27,IF(I19=Dropdowns!$C$28,Dropdowns!$B$28,IF(I19=Dropdowns!$C$29,Dropdowns!$B$29,IF(I19=Dropdowns!$C$30,Dropdowns!$B$30,IF(I19=Dropdowns!$C$31,Dropdowns!$B$31,IF(I19=Dropdowns!$C$32,Dropdowns!$B$32,IF(I19=Dropdowns!$C$33,Dropdowns!$B$33,IF(I19=Dropdowns!$C$34,Dropdowns!$B$34,IF(I19=Dropdowns!$C$35,Dropdowns!$B$35,IF(I19=Dropdowns!$C$36,Dropdowns!$B$36,IF(I19=Dropdowns!$C$37,Dropdowns!$B$37,IF(I19=Dropdowns!$C$38,Dropdowns!$B$38,IF(I19=Dropdowns!$C$39,Dropdowns!$B$39,IF(I19=Dropdowns!$C$40,Dropdowns!$B$40,IF(I19=Dropdowns!$C$41,Dropdowns!$B$41,IF(I19=Dropdowns!$C$42,Dropdowns!$B$42,IF(I19=Dropdowns!$C$43,Dropdowns!$B$43,IF(I19=Dropdowns!$C$44,Dropdowns!$B$44,IF(I19=Dropdowns!$C$45,Dropdowns!$B$45,IF(I19=Dropdowns!$C$46,Dropdowns!$B$46,IF(I19=Dropdowns!$C$47,Dropdowns!$B$47, IF(I19=Dropdowns!$C$48,Dropdowns!$B$48,\"0\"))))))))))))))))))))))))))))))))))))))))))","v":0},{"$f":"IF(AX19=Dropdowns!$F$15,Dropdowns!$G$15,IF(AX19=Dropdowns!$F$16,Dropdowns!$G$16,IF(AX19=Dropdowns!$F$17,Dropdowns!$G$17,\"0\")))","v":"0"}]
[null,null,null,null,null,null,null,null,null,null,"-",null,null,null,null,null,null,null,null,null,null,0,null,null,null,null,null,0,null,null,null,null,null,null,0,null,null,null,null,0,0,null,0,0,0,0,"-",null,null,null,null,null,null,null,null,null,null,null,null,null,null,null,0,0,0,0,0,0,0,0,0,0,1,{"$f":"IFERROR(IF(L20=Dropdowns!$F$32,\"\",IF(J20=\"Project\",AR20/BT20,IF(J20=\"Program\",AP20/BT20,\"\"))),\"\")","v":""},"",null,null,null,null,null,null,null,null,null,{"$f":"IF($CA20=\"\",0,VLOOKUP($CA20,'Conversion Tables'!$B$37:$C$62,2,FALSE))+IF($CB20=\"\",0,VLOOKUP($CB20,'Conversion Tables'!$B$37:$C$62,2,FALSE))+IF($CC20=\"\",0,VLOOKUP($CC20,'Conversion Tables'!$B$37:$C$62,2,FALSE))+IF($CD20=\"\",0,VLOOKUP($CD20,'Conversion Tables'!$B$37:$C$62,2,FALSE))+IF($CE20=\"\",0,VLOOKUP($CE20,'Conversion Tables'!$B$37:$C$62,2,FALSE))+IF($CF20=\"\",0,VLOOKUP($CF20,'Conversion Tables'!$B$37:$C$62,2,FALSE))","v":0},null,null,null,null,null,null,{"$f":"IFERROR(VLOOKUP(CM20,Dropdowns!A$51:B$55,2,FALSE),\"\")","v":""},null,null,null,null,null,null,null,null,null,null,{"$f":"IFERROR(VLOOKUP(AZ20,'Conversion Tables'!$G$8:$N$12,3,FALSE)/'Conversion Tables'!$I$12*Max_Point,0)","v":0},{"$f":"CY20*'Weighting Scale'!$D$9*DS20*DT20","v":0},{"$f":"IFERROR(VLOOKUP(BB20,'Conversion Tables'!$B$8:$C$32,2,FALSE),0)","v":0},{"$f":"IFERROR(VLOOKUP(BC20,'Conversion Tables'!$B$8:$C$32,2,FALSE),0)","v":0},{"$f":"(DA20-DB20)/'Conversion Tables'!$C$32*Max_Point","v":0},{"$f":"DC20*'Weighting Scale'!$D$10*DS20*DT20","v":0},{"$f":"IFERROR(VLOOKUP(BE20,'Conversion Tables'!$G$8:$N$12,2, FALSE)/'Conversion Tables'!$H$12*Max_Point,0)","v":0},{"$f":"DE20*'Weighting Scale'!$D$11*DS20*DT20","v":0},{"$f":"IFERROR(VLOOKUP(BF20,'Conversion Tables'!$G$8:$N$12,6,FALSE)/'Conversion Tables'!$L$12*Max_Point,0)","v":0},{"$f":"DG20*'Weighting Scale'!$D$14*DS20*DT20","v":0},{"$f":"IFERROR(VLOOKUP(BG20,'Conversion Tables'!$G$8:$N$12,4,FALSE)/'Conversion Tables'!$J$12*Max_Point,0)","v":0},{"$f":"DI20*'Weighting Scale'!$D$12*DS20*DT20","v":0},{"$f":"IFERROR(VLOOKUP(BH20,'Conversion Tables'!$G$8:$N$12,5,FALSE)/'Conversion Tables'!$K$12*Max_Point,0)","v":0},{"$f":"DK20*'Weighting Scale'!$D$13*DS20*DT20","v":0},{"$f":"IFERROR(VLOOKUP(BI20,'Conversion Tables'!$G$8:$N$12,7,FALSE)/'Conversion Tables'!$M$12*Max_Point,0)","v":0},{"$f":"DM20*'Weighting Scale'!$D$15*DS20*DT20","v":0},{"$f":"IF(BJ20 = \"Yes\",('Conversion Tables'!$N$12)/'Conversion Tables'!$N$12*Max_Point,0)","v":0},{"$f":"DO20*'Weighting Scale'!$D$16*DS20*DT20","v":0},0,0,0,{"$f":"IF(I20=Dropdowns!$C$7,Dropdowns!$B$7,IF(I20=Dropdowns!$C$8,Dropdowns!$B$8,IF(I20=Dropdowns!$C$9,Dropdowns!$B$9,IF(I20=Dropdowns!$C$10,Dropdowns!$B$10,IF(I20=Dropdowns!$C$11,Dropdowns!$B$11,IF(I20=Dropdowns!$C$12,Dropdowns!$B$12,IF(I20=Dropdowns!$C$13,Dropdowns!$B$13,IF(I20=Dropdowns!$C$14,Dropdowns!$B$14,IF(I20=Dropdowns!$C$15,Dropdowns!$B$15,IF(I20=Dropdowns!$C$16,Dropdowns!$B$16,IF(I20=Dropdowns!$C$17,Dropdowns!$B$17,IF(I20=Dropdowns!$C$18,Dropdowns!$B$18,IF(I20=Dropdowns!$C$19,Dropdowns!$B$19,IF(I20=Dropdowns!$C$20,Dropdowns!$B$20,IF(I20=Dropdowns!$C$21,Dropdowns!$B$21,IF(I20=Dropdowns!$C$22,Dropdowns!$B$22,IF(I20=Dropdowns!$C$23,Dropdowns!$B$23,IF(I20=Dropdowns!$C$24,Dropdowns!$B$24,IF(I20=Dropdowns!$C$25,Dropdowns!$B$25,IF(I20=Dropdowns!$C$26,Dropdowns!$B$26,IF(I20=Dropdowns!$C$27,Dropdowns!$B$27,IF(I20=Dropdowns!$C$28,Dropdowns!$B$28,IF(I20=Dropdowns!$C$29,Dropdowns!$B$29,IF(I20=Dropdowns!$C$30,Dropdowns!$B$30,IF(I20=Dropdowns!$C$31,Dropdowns!$B$31,IF(I20=Dropdowns!$C$32,Dropdowns!$B$32,IF(I20=Dropdowns!$C$33,Dropdowns!$B$33,IF(I20=Dropdowns!$C$34,Dropdowns!$B$34,IF(I20=Dropdowns!$C$35,Dropdowns!$B$35,IF(I20=Dropdowns!$C$36,Dropdowns!$B$36,IF(I20=Dropdowns!$C$37,Dropdowns!$B$37,IF(I20=Dropdowns!$C$38,Dropdowns!$B$38,IF(I20=Dropdowns!$C$39,Dropdowns!$B$39,IF(I20=Dropdowns!$C$40,Dropdowns!$B$40,IF(I20=Dropdowns!$C$41,Dropdowns!$B$41,IF(I20=Dropdowns!$C$42,Dropdowns!$B$42,IF(I20=Dropdowns!$C$43,Dropdowns!$B$43,IF(I20=Dropdowns!$C$44,Dropdowns!$B$44,IF(I20=Dropdowns!$C$45,Dropdowns!$B$45,IF(I20=Dropdowns!$C$46,Dropdowns!$B$46,IF(I20=Dropdowns!$C$47,Dropdowns!$B$47, IF(I20=Dropdowns!$C$48,Dropdowns!$B$48,\"0\"))))))))))))))))))))))))))))))))))))))))))","v":0},{"$f":"IF(AX20=Dropdowns!$F$15,Dropdowns!$G$15,IF(AX20=Dropdowns!$F$16,Dropdowns!$G$16,IF(AX20=Dropdowns!$F$17,Dropdowns!$G$17,\"0\")))","v":"0"}]
[null,null,null,null,null,null,null,null,null,null,"-",null,null,null,null,null,null,null,null,null,null,0,null,null,null,null,null,0,null,null,null,null,null,null,0,null,null,null,null,0,0,null,0,0,0,0,"-",null,null,null,null,null,null,null,null,null,null,null,null,null,null,null,0,0,0,0,0,0,0,0,0,0,1,{"$f":"IFERROR(IF(L21=Dropdowns!$F$32,\"\",IF(J21=\"Project\",AR21/BT21,IF(J21=\"Program\",AP21/BT21,\"\"))),\"\")","v":""},"",null,null,null,null,null,null,null,null,null,{"$f":"IF($CA21=\"\",0,VLOOKUP($CA21,'Conversion Tables'!$B$37:$C$62,2,FALSE))+IF($CB21=\"\",0,VLOOKUP($CB21,'Conversion Tables'!$B$37:$C$62,2,FALSE))+IF($CC21=\"\",0,VLOOKUP($CC21,'Conversion Tables'!$B$37:$C$62,2,FALSE))+IF($CD21=\"\",0,VLOOKUP($CD21,'Conversion Tables'!$B$37:$C$62,2,FALSE))+IF($CE21=\"\",0,VLOOKUP($CE21,'Conversion Tables'!$B$37:$C$62,2,FALSE))+IF($CF21=\"\",0,VLOOKUP($CF21,'Conversion Tables'!$B$37:$C$62,2,FALSE))","v":0},null,null,null,null,null,null,{"$f":"IFERROR(VLOOKUP(CM21,Dropdowns!A$51:B$55,2,FALSE),\"\")","v":""},null,null,null,null,null,null,null,null,null,null,{"$f":"IFERROR(VLOOKUP(AZ21,'Conversion Tables'!$G$8:$N$12,3,FALSE)/'Conversion Tables'!$I$12*Max_Point,0)","v":0},{"$f":"CY21*'Weighting Scale'!$D$9*DS21*DT21","v":0},{"$f":"IFERROR(VLOOKUP(BB21,'Conversion Tables'!$B$8:$C$32,2,FALSE),0)","v":0},{"$f":"IFERROR(VLOOKUP(BC21,'Conversion Tables'!$B$8:$C$32,2,FALSE),0)","v":0},{"$f":"(DA21-DB21)/'Conversion Tables'!$C$32*Max_Point","v":0},{"$f":"DC21*'Weighting Scale'!$D$10*DS21*DT21","v":0},{"$f":"IFERROR(VLOOKUP(BE21,'Conversion Tables'!$G$8:$N$12,2, FALSE)/'Conversion Tables'!$H$12*Max_Point,0)","v":0},{"$f":"DE21*'Weighting Scale'!$D$11*DS21*DT21","v":0},{"$f":"IFERROR(VLOOKUP(BF21,'Conversion Tables'!$G$8:$N$12,6,FALSE)/'Conversion Tables'!$L$12*Max_Point,0)","v":0},{"$f":"DG21*'Weighting Scale'!$D$14*DS21*DT21","v":0},{"$f":"IFERROR(VLOOKUP(BG21,'Conversion Tables'!$G$8:$N$12,4,FALSE)/'Conversion Tables'!$J$12*Max_Point,0)","v":0},{"$f":"DI21*'Weighting Scale'!$D$12*DS21*DT21","v":0},{"$f":"IFERROR(VLOOKUP(BH21,'Conversion Tables'!$G$8:$N$12,5,FALSE)/'Conversion Tables'!$K$12*Max_Point,0)","v":0},{"$f":"DK21*'Weighting Scale'!$D$13*DS21*DT21","v":0},{"$f":"IFERROR(VLOOKUP(BI21,'Conversion Tables'!$G$8:$N$12,7,FALSE)/'Conversion Tables'!$M$12*Max_Point,0)","v":0},{"$f":"DM21*'Weighting Scale'!$D$15*DS21*DT21","v":0},{"$f":"IF(BJ21 = \"Yes\",('Conversion Tables'!$N$12)/'Conversion Tables'!$N$12*Max_Point,0)","v":0},{"$f":"DO21*'Weighting Scale'!$D$16*DS21*DT21","v":0},0,0,0,{"$f":"IF(I21=Dropdowns!$C$7,Dropdowns!$B$7,IF(I21=Dropdowns!$C$8,Dropdowns!$B$8,IF(I21=Dropdowns!$C$9,Dropdowns!$B$9,IF(I21=Dropdowns!$C$10,Dropdowns!$B$10,IF(I21=Dropdowns!$C$11,Dropdowns!$B$11,IF(I21=Dropdowns!$C$12,Dropdowns!$B$12,IF(I21=Dropdowns!$C$13,Dropdowns!$B$13,IF(I21=Dropdowns!$C$14,Dropdowns!$B$14,IF(I21=Dropdowns!$C$15,Dropdowns!$B$15,IF(I21=Dropdowns!$C$16,Dropdowns!$B$16,IF(I21=Dropdowns!$C$17,Dropdowns!$B$17,IF(I21=Dropdowns!$C$18,Dropdowns!$B$18,IF(I21=Dropdowns!$C$19,Dropdowns!$B$19,IF(I21=Dropdowns!$C$20,Dropdowns!$B$20,IF(I21=Dropdowns!$C$21,Dropdowns!$B$21,IF(I21=Dropdowns!$C$22,Dropdowns!$B$22,IF(I21=Dropdowns!$C$23,Dropdowns!$B$23,IF(I21=Dropdowns!$C$24,Dropdowns!$B$24,IF(I21=Dropdowns!$C$25,Dropdowns!$B$25,IF(I21=Dropdowns!$C$26,Dropdowns!$B$26,IF(I21=Dropdowns!$C$27,Dropdowns!$B$27,IF(I21=Dropdowns!$C$28,Dropdowns!$B$28,IF(I21=Dropdowns!$C$29,Dropdowns!$B$29,IF(I21=Dropdowns!$C$30,Dropdowns!$B$30,IF(I21=Dropdowns!$C$31,Dropdowns!$B$31,IF(I21=Dropdowns!$C$32,Dropdowns!$B$32,IF(I21=Dropdowns!$C$33,Dropdowns!$B$33,IF(I21=Dropdowns!$C$34,Dropdowns!$B$34,IF(I21=Dropdowns!$C$35,Dropdowns!$B$35,IF(I21=Dropdowns!$C$36,Dropdowns!$B$36,IF(I21=Dropdowns!$C$37,Dropdowns!$B$37,IF(I21=Dropdowns!$C$38,Dropdowns!$B$38,IF(I21=Dropdowns!$C$39,Dropdowns!$B$39,IF(I21=Dropdowns!$C$40,Dropdowns!$B$40,IF(I21=Dropdowns!$C$41,Dropdowns!$B$41,IF(I21=Dropdowns!$C$42,Dropdowns!$B$42,IF(I21=Dropdowns!$C$43,Dropdowns!$B$43,IF(I21=Dropdowns!$C$44,Dropdowns!$B$44,IF(I21=Dropdowns!$C$45,Dropdowns!$B$45,IF(I21=Dropdowns!$C$46,Dropdowns!$B$46,IF(I21=Dropdowns!$C$47,Dropdowns!$B$47, IF(I21=Dropdowns!$C$48,Dropdowns!$B$48,\"0\"))))))))))))))))))))))))))))))))))))))))))","v":0},{"$f":"IF(AX21=Dropdowns!$F$15,Dropdowns!$G$15,IF(AX21=Dropdowns!$F$16,Dropdowns!$G$16,IF(AX21=Dropdowns!$F$17,Dropdowns!$G$17,\"0\")))","v":"0"}]
[null,null,null,null,null,null,null,null,null,null,"-",null,null,null,null,null,null,null,null,null,null,0,null,null,null,null,null,0,null,null,null,null,null,null,0,null,null,null,null,0,0,null,0,0,0,0,"-",null,null,null,null,null,null,null,null,null,null,null,null,null,null,null,0,0,0,0,0,0,0,0,0,0,1,{"$f":"IFERROR(IF(L22=Dropdowns!$F$32,\"\",IF(J22=\"Project\",AR22/BT22,IF(J22=\"Program\",AP22/BT22,\"\"))),\"\")","v":""},"",null,null,null,null,null,null,null,null,null,{"$f":"IF($CA22=\"\",0,VLOOKUP($CA22,'Conversion Tables'!$B$37:$C$62,2,FALSE))+IF($CB22=\"\",0,VLOOKUP($CB22,'Conversion Tables'!$B$37:$C$62,2,FALSE))+IF($CC22=\"\",0,VLOOKUP($CC22,'Conversion Tables'!$B$37:$C$62,2,FALSE))+IF($CD22=\"\",0,VLOOKUP($CD22,'Conversion Tables'!$B$37:$C$62,2,FALSE))+IF($CE22=\"\",0,VLOOKUP($CE22,'Conversion Tables'!$B$37:$C$62,2,FALSE))+IF($CF22=\"\",0,VLOOKUP($CF22,'Conversion Tables'!$B$37:$C$62,2,FALSE))","v":0},null,null,null,null,null,null,{"$f":"IFERROR(VLOOKUP(CM22,Dropdowns!A$51:B$55,2,FALSE),\"\")","v":""},null,null,null,null,null,null,null,null,null,null,{"$f":"IFERROR(VLOOKUP(AZ22,'Conversion Tables'!$G$8:$N$12,3,FALSE)/'Conversion Tables'!$I$12*Max_Point,0)","v":0},{"$f":"CY22*'Weighting Scale'!$D$9*DS22*DT22","v":0},{"$f":"IFERROR(VLOOKUP(BB22,'Conversion Tables'!$B$8:$C$32,2,FALSE),0)","v":0},{"$f":"IFERROR(VLOOKUP(BC22,'Conversion Tables'!$B$8:$C$32,2,FALSE),0)","v":0},{"$f":"(DA22-DB22)/'Conversion Tables'!$C$32*Max_Point","v":0},{"$f":"DC22*'Weighting Scale'!$D$10*DS22*DT22","v":0},{"$f":"IFERROR(VLOOKUP(BE22,'Conversion Tables'!$G$8:$N$12,2, FALSE)/'Conversion Tables'!$H$12*Max_Point,0)","v":0},{"$f":"DE22*'Weighting Scale'!$D$11*DS22*DT22","v":0},{"$f":"IFERROR(VLOOKUP(BF22,'Conversion Tables'!$G$8:$N$12,6,FALSE)/'Conversion Tables'!$L$12*Max_Point,0)","v":0},{"$f":"DG22*'Weighting Scale'!$D$14*DS22*DT22","v":0},{"$f":"IFERROR(VLOOKUP(BG22,'Conversion Tables'!$G$8:$N$12,4,FALSE)/'Conversion Tables'!$J$12*Max_Point,0)","v":0},{"$f":"DI22*'Weighting Scale'!$D$12*DS22*DT22","v":0},{"$f":"IFERROR(VLOOKUP(BH22,'Conversion Tables'!$G$8:$N$12,5,FALSE)/'Conversion Tables'!$K$12*Max_Point,0)","v":0},{"$f":"DK22*'Weighting Scale'!$D$13*DS22*DT22","v":0},{"$f":"IFERROR(VLOOKUP(BI22,'Conversion Tables'!$G$8:$N$12,7,FALSE)/'Conversion Tables'!$M$12*Max_Point,0)","v":0},{"$f":"DM22*'Weighting Scale'!$D$15*DS22*DT22","v":0},{"$f":"IF(BJ22 = \"Yes\",('Conversion Tables'!$N$12)/'Conversion Tables'!$N$12*Max_Point,0)","v":0},{"$f":"DO22*'Weighting Scale'!$D$16*DS22*DT22","v":0},0,0,0,{"$f":"IF(I22=Dropdowns!$C$7,Dropdowns!$B$7,IF(I22=Dropdowns!$C$8,Dropdowns!$B$8,IF(I22=Dropdowns!$C$9,Dropdowns!$B$9,IF(I22=Dropdowns!$C$10,Dropdowns!$B$10,IF(I22=Dropdowns!$C$11,Dropdowns!$B$11,IF(I22=Dropdowns!$C$12,Dropdowns!$B$12,IF(I22=Dropdowns!$C$13,Dropdowns!$B$13,IF(I22=Dropdowns!$C$14,Dropdowns!$B$14,IF(I22=Dropdowns!$C$15,Dropdowns!$B$15,IF(I22=Dropdowns!$C$16,Dropdowns!$B$16,IF(I22=Dropdowns!$C$17,Dropdowns!$B$17,IF(I22=Dropdowns!$C$18,Dropdowns!$B$18,IF(I22=Dropdowns!$C$19,Dropdowns!$B$19,IF(I22=Dropdowns!$C$20,Dropdowns!$B$20,IF(I22=Dropdowns!$C$21,Dropdowns!$B$21,IF(I22=Dropdowns!$C$22,Dropdowns!$B$22,IF(I22=Dropdowns!$C$23,Dropdowns!$B$23,IF(I22=Dropdowns!$C$24,Dropdowns!$B$24,IF(I22=Dropdowns!$C$25,Dropdowns!$B$25,IF(I22=Dropdowns!$C$26,Dropdowns!$B$26,IF(I22=Dropdowns!$C$27,Dropdowns!$B$27,IF(I22=Dropdowns!$C$28,Dropdowns!$B$28,IF(I22=Dropdowns!$C$29,Dropdowns!$B$29,IF(I22=Dropdowns!$C$30,Dropdowns!$B$30,IF(I22=Dropdowns!$C$31,Dropdowns!$B$31,IF(I22=Dropdowns!$C$32,Dropdowns!$B$32,IF(I22=Dropdowns!$C$33,Dropdowns!$B$33,IF(I22=Dropdowns!$C$34,Dropdowns!$B$34,IF(I22=Dropdowns!$C$35,Dropdowns!$B$35,IF(I22=Dropdowns!$C$36,Dropdowns!$B$36,IF(I22=Dropdowns!$C$37,Dropdowns!$B$37,IF(I22=Dropdowns!$C$38,Dropdowns!$B$38,IF(I22=Dropdowns!$C$39,Dropdowns!$B$39,IF(I22=Dropdowns!$C$40,Dropdowns!$B$40,IF(I22=Dropdowns!$C$41,Dropdowns!$B$41,IF(I22=Dropdowns!$C$42,Dropdowns!$B$42,IF(I22=Dropdowns!$C$43,Dropdowns!$B$43,IF(I22=Dropdowns!$C$44,Dropdowns!$B$44,IF(I22=Dropdowns!$C$45,Dropdowns!$B$45,IF(I22=Dropdowns!$C$46,Dropdowns!$B$46,IF(I22=Dropdowns!$C$47,Dropdowns!$B$47, IF(I22=Dropdowns!$C$48,Dropdowns!$B$48,\"0\"))))))))))))))))))))))))))))))))))))))))))","v":0},{"$f":"IF(AX22=Dropdowns!$F$15,Dropdowns!$G$15,IF(AX22=Dropdowns!$F$16,Dropdowns!$G$16,IF(AX22=Dropdowns!$F$17,Dropdowns!$G$17,\"0\")))","v":"0"}]
[null,null,null,null,null,null,null,null,null,null,"-",null,null,null,null,null,null,null,null,null,null,0,null,null,null,null,null,0,null,null,null,null,null,null,0,null,null,null,null,0,0,null,0,0,0,0,"-",null,null,null,null,null,null,null,null,null,null,null,null,null,null,null,0,0,0,0,0,0,0,0,0,0,1,{"$f":"IFERROR(IF(L23=Dropdowns!$F$32,\"\",IF(J23=\"Project\",AR23/BT23,IF(J23=\"Program\",AP23/BT23,\"\"))),\"\")","v":""},"",null,null,null,null,null,null,null,null,null,{"$f":"IF($CA23=\"\",0,VLOOKUP($CA23,'Conversion Tables'!$B$37:$C$62,2,FALSE))+IF($CB23=\"\",0,VLOOKUP($CB23,'Conversion Tables'!$B$37:$C$62,2,FALSE))+IF($CC23=\"\",0,VLOOKUP($CC23,'Conversion Tables'!$B$37:$C$62,2,FALSE))+IF($CD23=\"\",0,VLOOKUP($CD23,'Conversion Tables'!$B$37:$C$62,2,FALSE))+IF($CE23=\"\",0,VLOOKUP($CE23,'Conversion Tables'!$B$37:$C$62,2,FALSE))+IF($CF23=\"\",0,VLOOKUP($CF23,'Conversion Tables'!$B$37:$C$62,2,FALSE))","v":0},null,null,null,null,null,null,{"$f":"IFERROR(VLOOKUP(CM23,Dropdowns!A$51:B$55,2,FALSE),\"\")","v":""},null,null,null,null,null,null,null,null,null,null,{"$f":"IFERROR(VLOOKUP(AZ23,'Conversion Tables'!$G$8:$N$12,3,FALSE)/'Conversion Tables'!$I$12*Max_Point,0)","v":0},{"$f":"CY23*'Weighting Scale'!$D$9*DS23*DT23","v":0},{"$f":"IFERROR(VLOOKUP(BB23,'Conversion Tables'!$B$8:$C$32,2,FALSE),0)","v":0},{"$f":"IFERROR(VLOOKUP(BC23,'Conversion Tables'!$B$8:$C$32,2,FALSE),0)","v":0},{"$f":"(DA23-DB23)/'Conversion Tables'!$C$32*Max_Point","v":0},{"$f":"DC23*'Weighting Scale'!$D$10*DS23*DT23","v":0},{"$f":"IFERROR(VLOOKUP(BE23,'Conversion Tables'!$G$8:$N$12,2, FALSE)/'Conversion Tables'!$H$12*Max_Point,0)","v":0},{"$f":"DE23*'Weighting Scale'!$D$11*DS23*DT23","v":0},{"$f":"IFERROR(VLOOKUP(BF23,'Conversion Tables'!$G$8:$N$12,6,FALSE)/'Conversion Tables'!$L$12*Max_Point,0)","v":0},{"$f":"DG23*'Weighting Scale'!$D$14*DS23*DT23","v":0},{"$f":"IFERROR(VLOOKUP(BG23,'Conversion Tables'!$G$8:$N$12,4,FALSE)/'Conversion Tables'!$J$12*Max_Point,0)","v":0},{"$f":"DI23*'Weighting Scale'!$D$12*DS23*DT23","v":0},{"$f":"IFERROR(VLOOKUP(BH23,'Conversion Tables'!$G$8:$N$12,5,FALSE)/'Conversion Tables'!$K$12*Max_Point,0)","v":0},{"$f":"DK23*'Weighting Scale'!$D$13*DS23*DT23","v":0},{"$f":"IFERROR(VLOOKUP(BI23,'Conversion Tables'!$G$8:$N$12,7,FALSE)/'Conversion Tables'!$M$12*Max_Point,0)","v":0},{"$f":"DM23*'Weighting Scale'!$D$15*DS23*DT23","v":0},{"$f":"IF(BJ23 = \"Yes\",('Conversion Tables'!$N$12)/'Conversion Tables'!$N$12*Max_Point,0)","v":0},{"$f":"DO23*'Weighting Scale'!$D$16*DS23*DT23","v":0},0,0,0,{"$f":"IF(I23=Dropdowns!$C$7,Dropdowns!$B$7,IF(I23=Dropdowns!$C$8,Dropdowns!$B$8,IF(I23=Dropdowns!$C$9,Dropdowns!$B$9,IF(I23=Dropdowns!$C$10,Dropdowns!$B$10,IF(I23=Dropdowns!$C$11,Dropdowns!$B$11,IF(I23=Dropdowns!$C$12,Dropdowns!$B$12,IF(I23=Dropdowns!$C$13,Dropdowns!$B$13,IF(I23=Dropdowns!$C$14,Dropdowns!$B$14,IF(I23=Dropdowns!$C$15,Dropdowns!$B$15,IF(I23=Dropdowns!$C$16,Dropdowns!$B$16,IF(I23=Dropdowns!$C$17,Dropdowns!$B$17,IF(I23=Dropdowns!$C$18,Dropdowns!$B$18,IF(I23=Dropdowns!$C$19,Dropdowns!$B$19,IF(I23=Dropdowns!$C$20,Dropdowns!$B$20,IF(I23=Dropdowns!$C$21,Dropdowns!$B$21,IF(I23=Dropdowns!$C$22,Dropdowns!$B$22,IF(I23=Dropdowns!$C$23,Dropdowns!$B$23,IF(I23=Dropdowns!$C$24,Dropdowns!$B$24,IF(I23=Dropdowns!$C$25,Dropdowns!$B$25,IF(I23=Dropdowns!$C$26,Dropdowns!$B$26,IF(I23=Dropdowns!$C$27,Dropdowns!$B$27,IF(I23=Dropdowns!$C$28,Dropdowns!$B$28,IF(I23=Dropdowns!$C$29,Dropdowns!$B$29,IF(I23=Dropdowns!$C$30,Dropdowns!$B$30,IF(I23=Dropdowns!$C$31,Dropdowns!$B$31,IF(I23=Dropdowns!$C$32,Dropdowns!$B$32,IF(I23=Dropdowns!$C$33,Dropdowns!$B$33,IF(I23=Dropdowns!$C$34,Dropdowns!$B$34,IF(I23=Dropdowns!$C$35,Dropdowns!$B$35,IF(I23=Dropdowns!$C$36,Dropdowns!$B$36,IF(I23=Dropdowns!$C$37,Dropdowns!$B$37,IF(I23=Dropdowns!$C$38,Dropdowns!$B$38,IF(I23=Dropdowns!$C$39,Dropdowns!$B$39,IF(I23=Dropdowns!$C$40,Dropdowns!$B$40,IF(I23=Dropdowns!$C$41,Dropdowns!$B$41,IF(I23=Dropdowns!$C$42,Dropdowns!$B$42,IF(I23=Dropdowns!$C$43,Dropdowns!$B$43,IF(I23=Dropdowns!$C$44,Dropdowns!$B$44,IF(I23=Dropdowns!$C$45,Dropdowns!$B$45,IF(I23=Dropdowns!$C$46,Dropdowns!$B$46,IF(I23=Dropdowns!$C$47,Dropdowns!$B$47, IF(I23=Dropdowns!$C$48,Dropdowns!$B$48,\"0\"))))))))))))))))))))))))))))))))))))))))))","v":0},{"$f":"IF(AX23=Dropdowns!$F$15,Dropdowns!$G$15,IF(AX23=Dropdowns!$F$16,Dropdowns!$G$16,IF(AX23=Dropdowns!$F$17,Dropdowns!$G$17,\"0\")))","v":"0"}]
[null,null,null,null,null,null,null,null,null,null,"-",null,null,null,null,null,null,null,null,null,null,0,null,null,null,null,null,0,null,null,null,null,null,null,0,null,null,null,null,0,0,null,0,0,0,0,"-",null,null,null,null,null,null,null,null,null,null,null,null,null,null,null,0,0,0,0,0,0,0,0,0,0,1,{"$f":"IFERROR(IF(L24=Dropdowns!$F$32,\"\",IF(J24=\"Project\",AR24/BT24,IF(J24=\"Program\",AP24/BT24,\"\"))),\"\")","v":""},"",null,null,null,null,null,null,null,null,null,{"$f":"IF($CA24=\"\",0,VLOOKUP($CA24,'Conversion Tables'!$B$37:$C$62,2,FALSE))+IF($CB24=\"\",0,VLOOKUP($CB24,'Conversion Tables'!$B$37:$C$62,2,FALSE))+IF($CC24=\"\",0,VLOOKUP($CC24,'Conversion Tables'!$B$37:$C$62,2,FALSE))+IF($CD24=\"\",0,VLOOKUP($CD24,'Conversion Tables'!$B$37:$C$62,2,FALSE))+IF($CE24=\"\",0,VLOOKUP($CE24,'Conversion Tables'!$B$37:$C$62,2,FALSE))+IF($CF24=\"\",0,VLOOKUP($CF24,'Conversion Tables'!$B$37:$C$62,2,FALSE))","v":0},null,null,null,null,null,null,{"$f":"IFERROR(VLOOKUP(CM24,Dropdowns!A$51:B$55,2,FALSE),\"\")","v":""},null,null,null,null,null,null,null,null,null,null,{"$f":"IFERROR(VLOOKUP(AZ24,'Conversion Tables'!$G$8:$N$12,3,FALSE)/'Conversion Tables'!$I$12*Max_Point,0)","v":0},{"$f":"CY24*'Weighting Scale'!$D$9*DS24*DT24","v":0},{"$f":"IFERROR(VLOOKUP(BB24,'Conversion Tables'!$B$8:$C$32,2,FALSE),0)","v":0},{"$f":"IFERROR(VLOOKUP(BC24,'Conversion Tables'!$B$8:$C$32,2,FALSE),0)","v":0},{"$f":"(DA24-DB24)/'Conversion Tables'!$C$32*Max_Point","v":0},{"$f":"DC24*'Weighting Scale'!$D$10*DS24*DT24","v":0},{"$f":"IFERROR(VLOOKUP(BE24,'Conversion Tables'!$G$8:$N$12,2, FALSE)/'Conversion Tables'!$H$12*Max_Point,0)","v":0},{"$f":"DE24*'Weighting Scale'!$D$11*DS24*DT24","v":0},{"$f":"IFERROR(VLOOKUP(BF24,'Conversion Tables'!$G$8:$N$12,6,FALSE)/'Conversion Tables'!$L$12*Max_Point,0)","v":0},{"$f":"DG24*'Weighting Scale'!$D$14*DS24*DT24","v":0},{"$f":"IFERROR(VLOOKUP(BG24,'Conversion Tables'!$G$8:$N$12,4,FALSE)/'Conversion Tables'!$J$12*Max_Point,0)","v":0},{"$f":"DI24*'Weighting Scale'!$D$12*DS24*DT24","v":0},{"$f":"IFERROR(VLOOKUP(BH24,'Conversion Tables'!$G$8:$N$12,5,FALSE)/'Conversion Tables'!$K$12*Max_Point,0)","v":0},{"$f":"DK24*'Weighting Scale'!$D$13*DS24*DT24","v":0},{"$f":"IFERROR(VLOOKUP(BI24,'Conversion Tables'!$G$8:$N$12,7,FALSE)/'Conversion Tables'!$M$12*Max_Point,0)","v":0},{"$f":"DM24*'Weighting Scale'!$D$15*DS24*DT24","v":0},{"$f":"IF(BJ24 = \"Yes\",('Conversion Tables'!$N$12)/'Conversion Tables'!$N$12*Max_Point,0)","v":0},{"$f":"DO24*'Weighting Scale'!$D$16*DS24*DT24","v":0},0,0,0,{"$f":"IF(I24=Dropdowns!$C$7,Dropdowns!$B$7,IF(I24=Dropdowns!$C$8,Dropdowns!$B$8,IF(I24=Dropdowns!$C$9,Dropdowns!$B$9,IF(I24=Dropdowns!$C$10,Dropdowns!$B$10,IF(I24=Dropdowns!$C$11,Dropdowns!$B$11,IF(I24=Dropdowns!$C$12,Dropdowns!$B$12,IF(I24=Dropdowns!$C$13,Dropdowns!$B$13,IF(I24=Dropdowns!$C$14,Dropdowns!$B$14,IF(I24=Dropdowns!$C$15,Dropdowns!$B$15,IF(I24=Dropdowns!$C$16,Dropdowns!$B$16,IF(I24=Dropdowns!$C$17,Dropdowns!$B$17,IF(I24=Dropdowns!$C$18,Dropdowns!$B$18,IF(I24=Dropdowns!$C$19,Dropdowns!$B$19,IF(I24=Dropdowns!$C$20,Dropdowns!$B$20,IF(I24=Dropdowns!$C$21,Dropdowns!$B$21,IF(I24=Dropdowns!$C$22,Dropdowns!$B$22,IF(I24=Dropdowns!$C$23,Dropdowns!$B$23,IF(I24=Dropdowns!$C$24,Dropdowns!$B$24,IF(I24=Dropdowns!$C$25,Dropdowns!$B$25,IF(I24=Dropdowns!$C$26,Dropdowns!$B$26,IF(I24=Dropdowns!$C$27,Dropdowns!$B$27,IF(I24=Dropdowns!$C$28,Dropdowns!$B$28,IF(I24=Dropdowns!$C$29,Dropdowns!$B$29,IF(I24=Dropdowns!$C$30,Dropdowns!$B$30,IF(I24=Dropdowns!$C$31,Dropdowns!$B$31,IF(I24=Dropdowns!$C$32,Dropdowns!$B$32,IF(I24=Dropdowns!$C$33,Dropdowns!$B$33,IF(I24=Dropdowns!$C$34,Dropdowns!$B$34,IF(I24=Dropdowns!$C$35,Dropdowns!$B$35,IF(I24=Dropdowns!$C$36,Dropdowns!$B$36,IF(I24=Dropdowns!$C$37,Dropdowns!$B$37,IF(I24=Dropdowns!$C$38,Dropdowns!$B$38,IF(I24=Dropdowns!$C$39,Dropdowns!$B$39,IF(I24=Dropdowns!$C$40,Dropdowns!$B$40,IF(I24=Dropdowns!$C$41,Dropdowns!$B$41,IF(I24=Dropdowns!$C$42,Dropdowns!$B$42,IF(I24=Dropdowns!$C$43,Dropdowns!$B$43,IF(I24=Dropdowns!$C$44,Dropdowns!$B$44,IF(I24=Dropdowns!$C$45,Dropdowns!$B$45,IF(I24=Dropdowns!$C$46,Dropdowns!$B$46,IF(I24=Dropdowns!$C$47,Dropdowns!$B$47, IF(I24=Dropdowns!$C$48,Dropdowns!$B$48,\"0\"))))))))))))))))))))))))))))))))))))))))))","v":0},{"$f":"IF(AX24=Dropdowns!$F$15,Dropdowns!$G$15,IF(AX24=Dropdowns!$F$16,Dropdowns!$G$16,IF(AX24=Dropdowns!$F$17,Dropdowns!$G$17,\"0\")))","v":"0"}]
[null,null,null,null,null,null,null,null,null,null,"-",null,null,null,null,null,null,null,null,null,null,0,null,null,null,null,null,0,null,null,null,null,null,null,0,null,null,null,null,0,0,null,0,0,0,0,"-",null,null,null,null,null,null,null,null,null,null,null,null,null,null,null,0,0,0,0,0,0,0,0,0,0,1,{"$f":"IFERROR(IF(L25=Dropdowns!$F$32,\"\",IF(J25=\"Project\",AR25/BT25,IF(J25=\"Program\",AP25/BT25,\"\"))),\"\")","v":""},"",null,null,null,null,null,null,null,null,null,{"$f":"IF($CA25=\"\",0,VLOOKUP($CA25,'Conversion Tables'!$B$37:$C$62,2,FALSE))+IF($CB25=\"\",0,VLOOKUP($CB25,'Conversion Tables'!$B$37:$C$62,2,FALSE))+IF($CC25=\"\",0,VLOOKUP($CC25,'Conversion Tables'!$B$37:$C$62,2,FALSE))+IF($CD25=\"\",0,VLOOKUP($CD25,'Conversion Tables'!$B$37:$C$62,2,FALSE))+IF($CE25=\"\",0,VLOOKUP($CE25,'Conversion Tables'!$B$37:$C$62,2,FALSE))+IF($CF25=\"\",0,VLOOKUP($CF25,'Conversion Tables'!$B$37:$C$62,2,FALSE))","v":0},null,null,null,null,null,null,{"$f":"IFERROR(VLOOKUP(CM25,Dropdowns!A$51:B$55,2,FALSE),\"\")","v":""},null,null,null,null,null,null,null,null,null,null,{"$f":"IFERROR(VLOOKUP(AZ25,'Conversion Tables'!$G$8:$N$12,3,FALSE)/'Conversion Tables'!$I$12*Max_Point,0)","v":0},{"$f":"CY25*'Weighting Scale'!$D$9*DS25*DT25","v":0},{"$f":"IFERROR(VLOOKUP(BB25,'Conversion Tables'!$B$8:$C$32,2,FALSE),0)","v":0},{"$f":"IFERROR(VLOOKUP(BC25,'Conversion Tables'!$B$8:$C$32,2,FALSE),0)","v":0},{"$f":"(DA25-DB25)/'Conversion Tables'!$C$32*Max_Point","v":0},{"$f":"DC25*'Weighting Scale'!$D$10*DS25*DT25","v":0},{"$f":"IFERROR(VLOOKUP(BE25,'Conversion Tables'!$G$8:$N$12,2, FALSE)/'Conversion Tables'!$H$12*Max_Point,0)","v":0},{"$f":"DE25*'Weighting Scale'!$D$11*DS25*DT25","v":0},{"$f":"IFERROR(VLOOKUP(BF25,'Conversion Tables'!$G$8:$N$12,6,FALSE)/'Conversion Tables'!$L$12*Max_Point,0)","v":0},{"$f":"DG25*'Weighting Scale'!$D$14*DS25*DT25","v":0},{"$f":"IFERROR(VLOOKUP(BG25,'Conversion Tables'!$G$8:$N$12,4,FALSE)/'Conversion Tables'!$J$12*Max_Point,0)","v":0},{"$f":"DI25*'Weighting Scale'!$D$12*DS25*DT25","v":0},{"$f":"IFERROR(VLOOKUP(BH25,'Conversion Tables'!$G$8:$N$12,5,FALSE)/'Conversion Tables'!$K$12*Max_Point,0)","v":0},{"$f":"DK25*'Weighting Scale'!$D$13*DS25*DT25","v":0},{"$f":"IFERROR(VLOOKUP(BI25,'Conversion Tables'!$G$8:$N$12,7,FALSE)/'Conversion Tables'!$M$12*Max_Point,0)","v":0},{"$f":"DM25*'Weighting Scale'!$D$15*DS25*DT25","v":0},{"$f":"IF(BJ25 = \"Yes\",('Conversion Tables'!$N$12)/'Conversion Tables'!$N$12*Max_Point,0)","v":0},{"$f":"DO25*'Weighting Scale'!$D$16*DS25*DT25","v":0},0,0,0,{"$f":"IF(I25=Dropdowns!$C$7,Dropdowns!$B$7,IF(I25=Dropdowns!$C$8,Dropdowns!$B$8,IF(I25=Dropdowns!$C$9,Dropdowns!$B$9,IF(I25=Dropdowns!$C$10,Dropdowns!$B$10,IF(I25=Dropdowns!$C$11,Dropdowns!$B$11,IF(I25=Dropdowns!$C$12,Dropdowns!$B$12,IF(I25=Dropdowns!$C$13,Dropdowns!$B$13,IF(I25=Dropdowns!$C$14,Dropdowns!$B$14,IF(I25=Dropdowns!$C$15,Dropdowns!$B$15,IF(I25=Dropdowns!$C$16,Dropdowns!$B$16,IF(I25=Dropdowns!$C$17,Dropdowns!$B$17,IF(I25=Dropdowns!$C$18,Dropdowns!$B$18,IF(I25=Dropdowns!$C$19,Dropdowns!$B$19,IF(I25=Dropdowns!$C$20,Dropdowns!$B$20,IF(I25=Dropdowns!$C$21,Dropdowns!$B$21,IF(I25=Dropdowns!$C$22,Dropdowns!$B$22,IF(I25=Dropdowns!$C$23,Dropdowns!$B$23,IF(I25=Dropdowns!$C$24,Dropdowns!$B$24,IF(I25=Dropdowns!$C$25,Dropdowns!$B$25,IF(I25=Dropdowns!$C$26,Dropdowns!$B$26,IF(I25=Dropdowns!$C$27,Dropdowns!$B$27,IF(I25=Dropdowns!$C$28,Dropdowns!$B$28,IF(I25=Dropdowns!$C$29,Dropdowns!$B$29,IF(I25=Dropdowns!$C$30,Dropdowns!$B$30,IF(I25=Dropdowns!$C$31,Dropdowns!$B$31,IF(I25=Dropdowns!$C$32,Dropdowns!$B$32,IF(I25=Dropdowns!$C$33,Dropdowns!$B$33,IF(I25=Dropdowns!$C$34,Dropdowns!$B$34,IF(I25=Dropdowns!$C$35,Dropdowns!$B$35,IF(I25=Dropdowns!$C$36,Dropdowns!$B$36,IF(I25=Dropdowns!$C$37,Dropdowns!$B$37,IF(I25=Dropdowns!$C$38,Dropdowns!$B$38,IF(I25=Dropdowns!$C$39,Dropdowns!$B$39,IF(I25=Dropdowns!$C$40,Dropdowns!$B$40,IF(I25=Dropdowns!$C$41,Dropdowns!$B$41,IF(I25=Dropdowns!$C$42,Dropdowns!$B$42,IF(I25=Dropdowns!$C$43,Dropdowns!$B$43,IF(I25=Dropdowns!$C$44,Dropdowns!$B$44,IF(I25=Dropdowns!$C$45,Dropdowns!$B$45,IF(I25=Dropdowns!$C$46,Dropdowns!$B$46,IF(I25=Dropdowns!$C$47,Dropdowns!$B$47, IF(I25=Dropdowns!$C$48,Dropdowns!$B$48,\"0\"))))))))))))))))))))))))))))))))))))))))))","v":0},{"$f":"IF(AX25=Dropdowns!$F$15,Dropdowns!$G$15,IF(AX25=Dropdowns!$F$16,Dropdowns!$G$16,IF(AX25=Dropdowns!$F$17,Dropdowns!$G$17,\"0\")))","v":"0"}]
[null,null,null,null,null,null,null,null,null,null,"-",null,null,null,null,null,null,null,null,null,null,0,null,null,null,null,null,0,null,null,null,null,null,null,0,null,null,null,null,0,0,null,0,0,0,0,"-",null,null,null,null,null,null,null,null,null,null,null,null,null,null,null,0,0,0,0,0,0,0,0,0,0,1,{"$f":"IFERROR(IF(L26=Dropdowns!$F$32,\"\",IF(J26=\"Project\",AR26/BT26,IF(J26=\"Program\",AP26/BT26,\"\"))),\"\")","v":""},"",null,null,null,null,null,null,null,null,null,{"$f":"IF($CA26=\"\",0,VLOOKUP($CA26,'Conversion Tables'!$B$37:$C$62,2,FALSE))+IF($CB26=\"\",0,VLOOKUP($CB26,'Conversion Tables'!$B$37:$C$62,2,FALSE))+IF($CC26=\"\",0,VLOOKUP($CC26,'Conversion Tables'!$B$37:$C$62,2,FALSE))+IF($CD26=\"\",0,VLOOKUP($CD26,'Conversion Tables'!$B$37:$C$62,2,FALSE))+IF($CE26=\"\",0,VLOOKUP($CE26,'Conversion Tables'!$B$37:$C$62,2,FALSE))+IF($CF26=\"\",0,VLOOKUP($CF26,'Conversion Tables'!$B$37:$C$62,2,FALSE))","v":0},null,null,null,null,null,null,{"$f":"IFERROR(VLOOKUP(CM26,Dropdowns!A$51:B$55,2,FALSE),\"\")","v":""},null,null,null,null,null,null,null,null,null,null,{"$f":"IFERROR(VLOOKUP(AZ26,'Conversion Tables'!$G$8:$N$12,3,FALSE)/'Conversion Tables'!$I$12*Max_Point,0)","v":0},{"$f":"CY26*'Weighting Scale'!$D$9*DS26*DT26","v":0},{"$f":"IFERROR(VLOOKUP(BB26,'Conversion Tables'!$B$8:$C$32,2,FALSE),0)","v":0},{"$f":"IFERROR(VLOOKUP(BC26,'Conversion Tables'!$B$8:$C$32,2,FALSE),0)","v":0},{"$f":"(DA26-DB26)/'Conversion Tables'!$C$32*Max_Point","v":0},{"$f":"DC26*'Weighting Scale'!$D$10*DS26*DT26","v":0},{"$f":"IFERROR(VLOOKUP(BE26,'Conversion Tables'!$G$8:$N$12,2, FALSE)/'Conversion Tables'!$H$12*Max_Point,0)","v":0},{"$f":"DE26*'Weighting Scale'!$D$11*DS26*DT26","v":0},{"$f":"IFERROR(VLOOKUP(BF26,'Conversion Tables'!$G$8:$N$12,6,FALSE)/'Conversion Tables'!$L$12*Max_Point,0)","v":0},{"$f":"DG26*'Weighting Scale'!$D$14*DS26*DT26","v":0},{"$f":"IFERROR(VLOOKUP(BG26,'Conversion Tables'!$G$8:$N$12,4,FALSE)/'Conversion Tables'!$J$12*Max_Point,0)","v":0},{"$f":"DI26*'Weighting Scale'!$D$12*DS26*DT26","v":0},{"$f":"IFERROR(VLOOKUP(BH26,'Conversion Tables'!$G$8:$N$12,5,FALSE)/'Conversion Tables'!$K$12*Max_Point,0)","v":0},{"$f":"DK26*'Weighting Scale'!$D$13*DS26*DT26","v":0},{"$f":"IFERROR(VLOOKUP(BI26,'Conversion Tables'!$G$8:$N$12,7,FALSE)/'Conversion Tables'!$M$12*Max_Point,0)","v":0},{"$f":"DM26*'Weighting Scale'!$D$15*DS26*DT26","v":0},{"$f":"IF(BJ26 = \"Yes\",('Conversion Tables'!$N$12)/'Conversion Tables'!$N$12*Max_Point,0)","v":0},{"$f":"DO26*'Weighting Scale'!$D$16*DS26*DT26","v":0},0,0,0,{"$f":"IF(I26=Dropdowns!$C$7,Dropdowns!$B$7,IF(I26=Dropdowns!$C$8,Dropdowns!$B$8,IF(I26=Dropdowns!$C$9,Dropdowns!$B$9,IF(I26=Dropdowns!$C$10,Dropdowns!$B$10,IF(I26=Dropdowns!$C$11,Dropdowns!$B$11,IF(I26=Dropdowns!$C$12,Dropdowns!$B$12,IF(I26=Dropdowns!$C$13,Dropdowns!$B$13,IF(I26=Dropdowns!$C$14,Dropdowns!$B$14,IF(I26=Dropdowns!$C$15,Dropdowns!$B$15,IF(I26=Dropdowns!$C$16,Dropdowns!$B$16,IF(I26=Dropdowns!$C$17,Dropdowns!$B$17,IF(I26=Dropdowns!$C$18,Dropdowns!$B$18,IF(I26=Dropdowns!$C$19,Dropdowns!$B$19,IF(I26=Dropdowns!$C$20,Dropdowns!$B$20,IF(I26=Dropdowns!$C$21,Dropdowns!$B$21,IF(I26=Dropdowns!$C$22,Dropdowns!$B$22,IF(I26=Dropdowns!$C$23,Dropdowns!$B$23,IF(I26=Dropdowns!$C$24,Dropdowns!$B$24,IF(I26=Dropdowns!$C$25,Dropdowns!$B$25,IF(I26=Dropdowns!$C$26,Dropdowns!$B$26,IF(I26=Dropdowns!$C$27,Dropdowns!$B$27,IF(I26=Dropdowns!$C$28,Dropdowns!$B$28,IF(I26=Dropdowns!$C$29,Dropdowns!$B$29,IF(I26=Dropdowns!$C$30,Dropdowns!$B$30,IF(I26=Dropdowns!$C$31,Dropdowns!$B$31,IF(I26=Dropdowns!$C$32,Dropdowns!$B$32,IF(I26=Dropdowns!$C$33,Dropdowns!$B$33,IF(I26=Dropdowns!$C$34,Dropdowns!$B$34,IF(I26=Dropdowns!$C$35,Dropdowns!$B$35,IF(I26=Dropdowns!$C$36,Dropdowns!$B$36,IF(I26=Dropdowns!$C$37,Dropdowns!$B$37,IF(I26=Dropdowns!$C$38,Dropdowns!$B$38,IF(I26=Dropdowns!$C$39,Dropdowns!$B$39,IF(I26=Dropdowns!$C$40,Dropdowns!$B$40,IF(I26=Dropdowns!$C$41,Dropdowns!$B$41,IF(I26=Dropdowns!$C$42,Dropdowns!$B$42,IF(I26=Dropdowns!$C$43,Dropdowns!$B$43,IF(I26=Dropdowns!$C$44,Dropdowns!$B$44,IF(I26=Dropdowns!$C$45,Dropdowns!$B$45,IF(I26=Dropdowns!$C$46,Dropdowns!$B$46,IF(I26=Dropdowns!$C$47,Dropdowns!$B$47, IF(I26=Dropdowns!$C$48,Dropdowns!$B$48,\"0\"))))))))))))))))))))))))))))))))))))))))))","v":0},{"$f":"IF(AX26=Dropdowns!$F$15,Dropdowns!$G$15,IF(AX26=Dropdowns!$F$16,Dropdowns!$G$16,IF(AX26=Dropdowns!$F$17,Dropdowns!$G$17,\"0\")))","v":"0"}]
[null,null,null,null,null,null,null,null,null,null,"-",null,null,null,null,null,null,null,null,null,null,0,null,null,null,null,null,0,null,null,null,null,null,null,0,null,null,null,null,0,0,null,0,0,0,0,"-",null,null,null,null,null,null,null,null,null,null,null,null,null,null,null,0,0,0,0,0,0,0,0,0,0,1,{"$f":"IFERROR(IF(L27=Dropdowns!$F$32,\"\",IF(J27=\"Project\",AR27/BT27,IF(J27=\"Program\",AP27/BT27,\"\"))),\"\")","v":""},"",null,null,null,null,null,null,null,null,null,{"$f":"IF($CA27=\"\",0,VLOOKUP($CA27,'Conversion Tables'!$B$37:$C$62,2,FALSE))+IF($CB27=\"\",0,VLOOKUP($CB27,'Conversion Tables'!$B$37:$C$62,2,FALSE))+IF($CC27=\"\",0,VLOOKUP($CC27,'Conversion Tables'!$B$37:$C$62,2,FALSE))+IF($CD27=\"\",0,VLOOKUP($CD27,'Conversion Tables'!$B$37:$C$62,2,FALSE))+IF($CE27=\"\",0,VLOOKUP($CE27,'Conversion Tables'!$B$37:$C$62,2,FALSE))+IF($CF27=\"\",0,VLOOKUP($CF27,'Conversion Tables'!$B$37:$C$62,2,FALSE))","v":0},null,null,null,null,null,null,{"$f":"IFERROR(VLOOKUP(CM27,Dropdowns!A$51:B$55,2,FALSE),\"\")","v":""},null,null,null,null,null,null,null,null,null,null,{"$f":"IFERROR(VLOOKUP(AZ27,'Conversion Tables'!$G$8:$N$12,3,FALSE)/'Conversion Tables'!$I$12*Max_Point,0)","v":0},{"$f":"CY27*'Weighting Scale'!$D$9*DS27*DT27","v":0},{"$f":"IFERROR(VLOOKUP(BB27,'Conversion Tables'!$B$8:$C$32,2,FALSE),0)","v":0},{"$f":"IFERROR(VLOOKUP(BC27,'Conversion Tables'!$B$8:$C$32,2,FALSE),0)","v":0},{"$f":"(DA27-DB27)/'Conversion Tables'!$C$32*Max_Point","v":0},{"$f":"DC27*'Weighting Scale'!$D$10*DS27*DT27","v":0},{"$f":"IFERROR(VLOOKUP(BE27,'Conversion Tables'!$G$8:$N$12,2, FALSE)/'Conversion Tables'!$H$12*Max_Point,0)","v":0},{"$f":"DE27*'Weighting Scale'!$D$11*DS27*DT27","v":0},{"$f":"IFERROR(VLOOKUP(BF27,'Conversion Tables'!$G$8:$N$12,6,FALSE)/'Conversion Tables'!$L$12*Max_Point,0)","v":0},{"$f":"DG27*'Weighting Scale'!$D$14*DS27*DT27","v":0},{"$f":"IFERROR(VLOOKUP(BG27,'Conversion Tables'!$G$8:$N$12,4,FALSE)/'Conversion Tables'!$J$12*Max_Point,0)","v":0},{"$f":"DI27*'Weighting Scale'!$D$12*DS27*DT27","v":0},{"$f":"IFERROR(VLOOKUP(BH27,'Conversion Tables'!$G$8:$N$12,5,FALSE)/'Conversion Tables'!$K$12*Max_Point,0)","v":0},{"$f":"DK27*'Weighting Scale'!$D$13*DS27*DT27","v":0},{"$f":"IFERROR(VLOOKUP(BI27,'Conversion Tables'!$G$8:$N$12,7,FALSE)/'Conversion Tables'!$M$12*Max_Point,0)","v":0},{"$f":"DM27*'Weighting Scale'!$D$15*DS27*DT27","v":0},{"$f":"IF(BJ27 = \"Yes\",('Conversion Tables'!$N$12)/'Conversion Tables'!$N$12*Max_Point,0)","v":0},{"$f":"DO27*'Weighting Scale'!$D$16*DS27*DT27","v":0},0,0,0,{"$f":"IF(I27=Dropdowns!$C$7,Dropdowns!$B$7,IF(I27=Dropdowns!$C$8,Dropdowns!$B$8,IF(I27=Dropdowns!$C$9,Dropdowns!$B$9,IF(I27=Dropdowns!$C$10,Dropdowns!$B$10,IF(I27=Dropdowns!$C$11,Dropdowns!$B$11,IF(I27=Dropdowns!$C$12,Dropdowns!$B$12,IF(I27=Dropdowns!$C$13,Dropdowns!$B$13,IF(I27=Dropdowns!$C$14,Dropdowns!$B$14,IF(I27=Dropdowns!$C$15,Dropdowns!$B$15,IF(I27=Dropdowns!$C$16,Dropdowns!$B$16,IF(I27=Dropdowns!$C$17,Dropdowns!$B$17,IF(I27=Dropdowns!$C$18,Dropdowns!$B$18,IF(I27=Dropdowns!$C$19,Dropdowns!$B$19,IF(I27=Dropdowns!$C$20,Dropdowns!$B$20,IF(I27=Dropdowns!$C$21,Dropdowns!$B$21,IF(I27=Dropdowns!$C$22,Dropdowns!$B$22,IF(I27=Dropdowns!$C$23,Dropdowns!$B$23,IF(I27=Dropdowns!$C$24,Dropdowns!$B$24,IF(I27=Dropdowns!$C$25,Dropdowns!$B$25,IF(I27=Dropdowns!$C$26,Dropdowns!$B$26,IF(I27=Dropdowns!$C$27,Dropdowns!$B$27,IF(I27=Dropdowns!$C$28,Dropdowns!$B$28,IF(I27=Dropdowns!$C$29,Dropdowns!$B$29,IF(I27=Dropdowns!$C$30,Dropdowns!$B$30,IF(I27=Dropdowns!$C$31,Dropdowns!$B$31,IF(I27=Dropdowns!$C$32,Dropdowns!$B$32,IF(I27=Dropdowns!$C$33,Dropdowns!$B$33,IF(I27=Dropdowns!$C$34,Dropdowns!$B$34,IF(I27=Dropdowns!$C$35,Dropdowns!$B$35,IF(I27=Dropdowns!$C$36,Dropdowns!$B$36,IF(I27=Dropdowns!$C$37,Dropdowns!$B$37,IF(I27=Dropdowns!$C$38,Dropdowns!$B$38,IF(I27=Dropdowns!$C$39,Dropdowns!$B$39,IF(I27=Dropdowns!$C$40,Dropdowns!$B$40,IF(I27=Dropdowns!$C$41,Dropdowns!$B$41,IF(I27=Dropdowns!$C$42,Dropdowns!$B$42,IF(I27=Dropdowns!$C$43,Dropdowns!$B$43,IF(I27=Dropdowns!$C$44,Dropdowns!$B$44,IF(I27=Dropdowns!$C$45,Dropdowns!$B$45,IF(I27=Dropdowns!$C$46,Dropdowns!$B$46,IF(I27=Dropdowns!$C$47,Dropdowns!$B$47, IF(I27=Dropdowns!$C$48,Dropdowns!$B$48,\"0\"))))))))))))))))))))))))))))))))))))))))))","v":0},{"$f":"IF(AX27=Dropdowns!$F$15,Dropdowns!$G$15,IF(AX27=Dropdowns!$F$16,Dropdowns!$G$16,IF(AX27=Dropdowns!$F$17,Dropdowns!$G$17,\"0\")))","v":"0"}]
[null,null,null,null,null,null,null,null,null,null,"-",null,null,null,null,null,null,null,null,null,null,0,null,null,null,null,null,0,null,null,null,null,null,null,0,null,null,null,null,0,0,null,0,0,0,0,"-",null,null,null,null,null,null,null,null,null,null,null,null,null,null,null,0,0,0,0,0,0,0,0,0,0,1,{"$f":"IFERROR(IF(L28=Dropdowns!$F$32,\"\",IF(J28=\"Project\",AR28/BT28,IF(J28=\"Program\",AP28/BT28,\"\"))),\"\")","v":""},"",null,null,null,null,null,null,null,null,null,{"$f":"IF($CA28=\"\",0,VLOOKUP($CA28,'Conversion Tables'!$B$37:$C$62,2,FALSE))+IF($CB28=\"\",0,VLOOKUP($CB28,'Conversion Tables'!$B$37:$C$62,2,FALSE))+IF($CC28=\"\",0,VLOOKUP($CC28,'Conversion Tables'!$B$37:$C$62,2,FALSE))+IF($CD28=\"\",0,VLOOKUP($CD28,'Conversion Tables'!$B$37:$C$62,2,FALSE))+IF($CE28=\"\",0,VLOOKUP($CE28,'Conversion Tables'!$B$37:$C$62,2,FALSE))+IF($CF28=\"\",0,VLOOKUP($CF28,'Conversion Tables'!$B$37:$C$62,2,FALSE))","v":0},null,null,null,null,null,null,{"$f":"IFERROR(VLOOKUP(CM28,Dropdowns!A$51:B$55,2,FALSE),\"\")","v":""},null,null,null,null,null,null,null,null,null,null,{"$f":"IFERROR(VLOOKUP(AZ28,'Conversion Tables'!$G$8:$N$12,3,FALSE)/'Conversion Tables'!$I$12*Max_Point,0)","v":0},{"$f":"CY28*'Weighting Scale'!$D$9*DS28*DT28","v":0},{"$f":"IFERROR(VLOOKUP(BB28,'Conversion Tables'!$B$8:$C$32,2,FALSE),0)","v":0},{"$f":"IFERROR(VLOOKUP(BC28,'Conversion Tables'!$B$8:$C$32,2,FALSE),0)","v":0},{"$f":"(DA28-DB28)/'Conversion Tables'!$C$32*Max_Point","v":0},{"$f":"DC28*'Weighting Scale'!$D$10*DS28*DT28","v":0},{"$f":"IFERROR(VLOOKUP(BE28,'Conversion Tables'!$G$8:$N$12,2, FALSE)/'Conversion Tables'!$H$12*Max_Point,0)","v":0},{"$f":"DE28*'Weighting Scale'!$D$11*DS28*DT28","v":0},{"$f":"IFERROR(VLOOKUP(BF28,'Conversion Tables'!$G$8:$N$12,6,FALSE)/'Conversion Tables'!$L$12*Max_Point,0)","v":0},{"$f":"DG28*'Weighting Scale'!$D$14*DS28*DT28","v":0},{"$f":"IFERROR(VLOOKUP(BG28,'Conversion Tables'!$G$8:$N$12,4,FALSE)/'Conversion Tables'!$J$12*Max_Point,0)","v":0},{"$f":"DI28*'Weighting Scale'!$D$12*DS28*DT28","v":0},{"$f":"IFERROR(VLOOKUP(BH28,'Conversion Tables'!$G$8:$N$12,5,FALSE)/'Conversion Tables'!$K$12*Max_Point,0)","v":0},{"$f":"DK28*'Weighting Scale'!$D$13*DS28*DT28","v":0},{"$f":"IFERROR(VLOOKUP(BI28,'Conversion Tables'!$G$8:$N$12,7,FALSE)/'Conversion Tables'!$M$12*Max_Point,0)","v":0},{"$f":"DM28*'Weighting Scale'!$D$15*DS28*DT28","v":0},{"$f":"IF(BJ28 = \"Yes\",('Conversion Tables'!$N$12)/'Conversion Tables'!$N$12*Max_Point,0)","v":0},{"$f":"DO28*'Weighting Scale'!$D$16*DS28*DT28","v":0},0,0,0,{"$f":"IF(I28=Dropdowns!$C$7,Dropdowns!$B$7,IF(I28=Dropdowns!$C$8,Dropdowns!$B$8,IF(I28=Dropdowns!$C$9,Dropdowns!$B$9,IF(I28=Dropdowns!$C$10,Dropdowns!$B$10,IF(I28=Dropdowns!$C$11,Dropdowns!$B$11,IF(I28=Dropdowns!$C$12,Dropdowns!$B$12,IF(I28=Dropdowns!$C$13,Dropdowns!$B$13,IF(I28=Dropdowns!$C$14,Dropdowns!$B$14,IF(I28=Dropdowns!$C$15,Dropdowns!$B$15,IF(I28=Dropdowns!$C$16,Dropdowns!$B$16,IF(I28=Dropdowns!$C$17,Dropdowns!$B$17,IF(I28=Dropdowns!$C$18,Dropdowns!$B$18,IF(I28=Dropdowns!$C$19,Dropdowns!$B$19,IF(I28=Dropdowns!$C$20,Dropdowns!$B$20,IF(I28=Dropdowns!$C$21,Dropdowns!$B$21,IF(I28=Dropdowns!$C$22,Dropdowns!$B$22,IF(I28=Dropdowns!$C$23,Dropdowns!$B$23,IF(I28=Dropdowns!$C$24,Dropdowns!$B$24,IF(I28=Dropdowns!$C$25,Dropdowns!$B$25,IF(I28=Dropdowns!$C$26,Dropdowns!$B$26,IF(I28=Dropdowns!$C$27,Dropdowns!$B$27,IF(I28=Dropdowns!$C$28,Dropdowns!$B$28,IF(I28=Dropdowns!$C$29,Dropdowns!$B$29,IF(I28=Dropdowns!$C$30,Dropdowns!$B$30,IF(I28=Dropdowns!$C$31,Dropdowns!$B$31,IF(I28=Dropdowns!$C$32,Dropdowns!$B$32,IF(I28=Dropdowns!$C$33,Dropdowns!$B$33,IF(I28=Dropdowns!$C$34,Dropdowns!$B$34,IF(I28=Dropdowns!$C$35,Dropdowns!$B$35,IF(I28=Dropdowns!$C$36,Dropdowns!$B$36,IF(I28=Dropdowns!$C$37,Dropdowns!$B$37,IF(I28=Dropdowns!$C$38,Dropdowns!$B$38,IF(I28=Dropdowns!$C$39,Dropdowns!$B$39,IF(I28=Dropdowns!$C$40,Dropdowns!$B$40,IF(I28=Dropdowns!$C$41,Dropdowns!$B$41,IF(I28=Dropdowns!$C$42,Dropdowns!$B$42,IF(I28=Dropdowns!$C$43,Dropdowns!$B$43,IF(I28=Dropdowns!$C$44,Dropdowns!$B$44,IF(I28=Dropdowns!$C$45,Dropdowns!$B$45,IF(I28=Dropdowns!$C$46,Dropdowns!$B$46,IF(I28=Dropdowns!$C$47,Dropdowns!$B$47, IF(I28=Dropdowns!$C$48,Dropdowns!$B$48,\"0\"))))))))))))))))))))))))))))))))))))))))))","v":0},{"$f":"IF(AX28=Dropdowns!$F$15,Dropdowns!$G$15,IF(AX28=Dropdowns!$F$16,Dropdowns!$G$16,IF(AX28=Dropdowns!$F$17,Dropdowns!$G$17,\"0\")))","v":"0"}]
[null,null,null,null,null,null,null,null,null,null,"-",null,null,null,null,null,null,null,null,null,null,0,null,null,null,null,null,0,null,null,null,null,null,null,0,null,null,null,null,0,0,null,0,0,0,0,"-",null,null,null,null,null,null,null,null,null,null,null,null,null,null,null,0,0,0,0,0,0,0,0,0,0,1,{"$f":"IFERROR(IF(L29=Dropdowns!$F$32,\"\",IF(J29=\"Project\",AR29/BT29,IF(J29=\"Program\",AP29/BT29,\"\"))),\"\")","v":""},"",null,null,null,null,null,null,null,null,null,{"$f":"IF($CA29=\"\",0,VLOOKUP($CA29,'Conversion Tables'!$B$37:$C$62,2,FALSE))+IF($CB29=\"\",0,VLOOKUP($CB29,'Conversion Tables'!$B$37:$C$62,2,FALSE))+IF($CC29=\"\",0,VLOOKUP($CC29,'Conversion Tables'!$B$37:$C$62,2,FALSE))+IF($CD29=\"\",0,VLOOKUP($CD29,'Conversion Tables'!$B$37:$C$62,2,FALSE))+IF($CE29=\"\",0,VLOOKUP($CE29,'Conversion Tables'!$B$37:$C$62,2,FALSE))+IF($CF29=\"\",0,VLOOKUP($CF29,'Conversion Tables'!$B$37:$C$62,2,FALSE))","v":0},null,null,null,null,null,null,{"$f":"IFERROR(VLOOKUP(CM29,Dropdowns!A$51:B$55,2,FALSE),\"\")","v":""},null,null,null,null,null,null,null,null,null,null,{"$f":"IFERROR(VLOOKUP(AZ29,'Conversion Tables'!$G$8:$N$12,3,FALSE)/'Conversion Tables'!$I$12*Max_Point,0)","v":0},{"$f":"CY29*'Weighting Scale'!$D$9*DS29*DT29","v":0},{"$f":"IFERROR(VLOOKUP(BB29,'Conversion Tables'!$B$8:$C$32,2,FALSE),0)","v":0},{"$f":"IFERROR(VLOOKUP(BC29,'Conversion Tables'!$B$8:$C$32,2,FALSE),0)","v":0},{"$f":"(DA29-DB29)/'Conversion Tables'!$C$32*Max_Point","v":0},{"$f":"DC29*'Weighting Scale'!$D$10*DS29*DT29","v":0},{"$f":"IFERROR(VLOOKUP(BE29,'Conversion Tables'!$G$8:$N$12,2, FALSE)/'Conversion Tables'!$H$12*Max_Point,0)","v":0},{"$f":"DE29*'Weighting Scale'!$D$11*DS29*DT29","v":0},{"$f":"IFERROR(VLOOKUP(BF29,'Conversion Tables'!$G$8:$N$12,6,FALSE)/'Conversion Tables'!$L$12*Max_Point,0)","v":0},{"$f":"DG29*'Weighting Scale'!$D$14*DS29*DT29","v":0},{"$f":"IFERROR(VLOOKUP(BG29,'Conversion Tables'!$G$8:$N$12,4,FALSE)/'Conversion Tables'!$J$12*Max_Point,0)","v":0},{"$f":"DI29*'Weighting Scale'!$D$12*DS29*DT29","v":0},{"$f":"IFERROR(VLOOKUP(BH29,'Conversion Tables'!$G$8:$N$12,5,FALSE)/'Conversion Tables'!$K$12*Max_Point,0)","v":0},{"$f":"DK29*'Weighting Scale'!$D$13*DS29*DT29","v":0},{"$f":"IFERROR(VLOOKUP(BI29,'Conversion Tables'!$G$8:$N$12,7,FALSE)/'Conversion Tables'!$M$12*Max_Point,0)","v":0},{"$f":"DM29*'Weighting Scale'!$D$15*DS29*DT29","v":0},{"$f":"IF(BJ29 = \"Yes\",('Conversion Tables'!$N$12)/'Conversion Tables'!$N$12*Max_Point,0)","v":0},{"$f":"DO29*'Weighting Scale'!$D$16*DS29*DT29","v":0},0,0,0,{"$f":"IF(I29=Dropdowns!$C$7,Dropdowns!$B$7,IF(I29=Dropdowns!$C$8,Dropdowns!$B$8,IF(I29=Dropdowns!$C$9,Dropdowns!$B$9,IF(I29=Dropdowns!$C$10,Dropdowns!$B$10,IF(I29=Dropdowns!$C$11,Dropdowns!$B$11,IF(I29=Dropdowns!$C$12,Dropdowns!$B$12,IF(I29=Dropdowns!$C$13,Dropdowns!$B$13,IF(I29=Dropdowns!$C$14,Dropdowns!$B$14,IF(I29=Dropdowns!$C$15,Dropdowns!$B$15,IF(I29=Dropdowns!$C$16,Dropdowns!$B$16,IF(I29=Dropdowns!$C$17,Dropdowns!$B$17,IF(I29=Dropdowns!$C$18,Dropdowns!$B$18,IF(I29=Dropdowns!$C$19,Dropdowns!$B$19,IF(I29=Dropdowns!$C$20,Dropdowns!$B$20,IF(I29=Dropdowns!$C$21,Dropdowns!$B$21,IF(I29=Dropdowns!$C$22,Dropdowns!$B$22,IF(I29=Dropdowns!$C$23,Dropdowns!$B$23,IF(I29=Dropdowns!$C$24,Dropdowns!$B$24,IF(I29=Dropdowns!$C$25,Dropdowns!$B$25,IF(I29=Dropdowns!$C$26,Dropdowns!$B$26,IF(I29=Dropdowns!$C$27,Dropdowns!$B$27,IF(I29=Dropdowns!$C$28,Dropdowns!$B$28,IF(I29=Dropdowns!$C$29,Dropdowns!$B$29,IF(I29=Dropdowns!$C$30,Dropdowns!$B$30,IF(I29=Dropdowns!$C$31,Dropdowns!$B$31,IF(I29=Dropdowns!$C$32,Dropdowns!$B$32,IF(I29=Dropdowns!$C$33,Dropdowns!$B$33,IF(I29=Dropdowns!$C$34,Dropdowns!$B$34,IF(I29=Dropdowns!$C$35,Dropdowns!$B$35,IF(I29=Dropdowns!$C$36,Dropdowns!$B$36,IF(I29=Dropdowns!$C$37,Dropdowns!$B$37,IF(I29=Dropdowns!$C$38,Dropdowns!$B$38,IF(I29=Dropdowns!$C$39,Dropdowns!$B$39,IF(I29=Dropdowns!$C$40,Dropdowns!$B$40,IF(I29=Dropdowns!$C$41,Dropdowns!$B$41,IF(I29=Dropdowns!$C$42,Dropdowns!$B$42,IF(I29=Dropdowns!$C$43,Dropdowns!$B$43,IF(I29=Dropdowns!$C$44,Dropdowns!$B$44,IF(I29=Dropdowns!$C$45,Dropdowns!$B$45,IF(I29=Dropdowns!$C$46,Dropdowns!$B$46,IF(I29=Dropdowns!$C$47,Dropdowns!$B$47, IF(I29=Dropdowns!$C$48,Dropdowns!$B$48,\"0\"))))))))))))))))))))))))))))))))))))))))))","v":0},{"$f":"IF(AX29=Dropdowns!$F$15,Dropdowns!$G$15,IF(AX29=Dropdowns!$F$16,Dropdowns!$G$16,IF(AX29=Dropdowns!$F$17,Dropdowns!$G$17,\"0\")))","v":"0"}]
[null,null,null,null,null,null,null,null,null,null,"-",null,null,null,null,null,null,null,null,null,null,0,null,null,null,null,null,0,null,null,null,null,null,null,0,null,null,null,null,0,0,null,0,0,0,0,"-",null,null,null,null,null,null,null,null,null,null,null,null,null,null,null,0,0,0,0,0,0,0,0,0,0,1,{"$f":"IFERROR(IF(L30=Dropdowns!$F$32,\"\",IF(J30=\"Project\",AR30/BT30,IF(J30=\"Program\",AP30/BT30,\"\"))),\"\")","v":""},"",null,null,null,null,null,null,null,null,null,{"$f":"IF($CA30=\"\",0,VLOOKUP($CA30,'Conversion Tables'!$B$37:$C$62,2,FALSE))+IF($CB30=\"\",0,VLOOKUP($CB30,'Conversion Tables'!$B$37:$C$62,2,FALSE))+IF($CC30=\"\",0,VLOOKUP($CC30,'Conversion Tables'!$B$37:$C$62,2,FALSE))+IF($CD30=\"\",0,VLOOKUP($CD30,'Conversion Tables'!$B$37:$C$62,2,FALSE))+IF($CE30=\"\",0,VLOOKUP($CE30,'Conversion Tables'!$B$37:$C$62,2,FALSE))+IF($CF30=\"\",0,VLOOKUP($CF30,'Conversion Tables'!$B$37:$C$62,2,FALSE))","v":0},null,null,null,null,null,null,{"$f":"IFERROR(VLOOKUP(CM30,Dropdowns!A$51:B$55,2,FALSE),\"\")","v":""},null,null,null,null,null,null,null,null,null,null,{"$f":"IFERROR(VLOOKUP(AZ30,'Conversion Tables'!$G$8:$N$12,3,FALSE)/'Conversion Tables'!$I$12*Max_Point,0)","v":0},{"$f":"CY30*'Weighting Scale'!$D$9*DS30*DT30","v":0},{"$f":"IFERROR(VLOOKUP(BB30,'Conversion Tables'!$B$8:$C$32,2,FALSE),0)","v":0},{"$f":"IFERROR(VLOOKUP(BC30,'Conversion Tables'!$B$8:$C$32,2,FALSE),0)","v":0},{"$f":"(DA30-DB30)/'Conversion Tables'!$C$32*Max_Point","v":0},{"$f":"DC30*'Weighting Scale'!$D$10*DS30*DT30","v":0},{"$f":"IFERROR(VLOOKUP(BE30,'Conversion Tables'!$G$8:$N$12,2, FALSE)/'Conversion Tables'!$H$12*Max_Point,0)","v":0},{"$f":"DE30*'Weighting Scale'!$D$11*DS30*DT30","v":0},{"$f":"IFERROR(VLOOKUP(BF30,'Conversion Tables'!$G$8:$N$12,6,FALSE)/'Conversion Tables'!$L$12*Max_Point,0)","v":0},{"$f":"DG30*'Weighting Scale'!$D$14*DS30*DT30","v":0},{"$f":"IFERROR(VLOOKUP(BG30,'Conversion Tables'!$G$8:$N$12,4,FALSE)/'Conversion Tables'!$J$12*Max_Point,0)","v":0},{"$f":"DI30*'Weighting Scale'!$D$12*DS30*DT30","v":0},{"$f":"IFERROR(VLOOKUP(BH30,'Conversion Tables'!$G$8:$N$12,5,FALSE)/'Conversion Tables'!$K$12*Max_Point,0)","v":0},{"$f":"DK30*'Weighting Scale'!$D$13*DS30*DT30","v":0},{"$f":"IFERROR(VLOOKUP(BI30,'Conversion Tables'!$G$8:$N$12,7,FALSE)/'Conversion Tables'!$M$12*Max_Point,0)","v":0},{"$f":"DM30*'Weighting Scale'!$D$15*DS30*DT30","v":0},{"$f":"IF(BJ30 = \"Yes\",('Conversion Tables'!$N$12)/'Conversion Tables'!$N$12*Max_Point,0)","v":0},{"$f":"DO30*'Weighting Scale'!$D$16*DS30*DT30","v":0},0,0,0,{"$f":"IF(I30=Dropdowns!$C$7,Dropdowns!$B$7,IF(I30=Dropdowns!$C$8,Dropdowns!$B$8,IF(I30=Dropdowns!$C$9,Dropdowns!$B$9,IF(I30=Dropdowns!$C$10,Dropdowns!$B$10,IF(I30=Dropdowns!$C$11,Dropdowns!$B$11,IF(I30=Dropdowns!$C$12,Dropdowns!$B$12,IF(I30=Dropdowns!$C$13,Dropdowns!$B$13,IF(I30=Dropdowns!$C$14,Dropdowns!$B$14,IF(I30=Dropdowns!$C$15,Dropdowns!$B$15,IF(I30=Dropdowns!$C$16,Dropdowns!$B$16,IF(I30=Dropdowns!$C$17,Dropdowns!$B$17,IF(I30=Dropdowns!$C$18,Dropdowns!$B$18,IF(I30=Dropdowns!$C$19,Dropdowns!$B$19,IF(I30=Dropdowns!$C$20,Dropdowns!$B$20,IF(I30=Dropdowns!$C$21,Dropdowns!$B$21,IF(I30=Dropdowns!$C$22,Dropdowns!$B$22,IF(I30=Dropdowns!$C$23,Dropdowns!$B$23,IF(I30=Dropdowns!$C$24,Dropdowns!$B$24,IF(I30=Dropdowns!$C$25,Dropdowns!$B$25,IF(I30=Dropdowns!$C$26,Dropdowns!$B$26,IF(I30=Dropdowns!$C$27,Dropdowns!$B$27,IF(I30=Dropdowns!$C$28,Dropdowns!$B$28,IF(I30=Dropdowns!$C$29,Dropdowns!$B$29,IF(I30=Dropdowns!$C$30,Dropdowns!$B$30,IF(I30=Dropdowns!$C$31,Dropdowns!$B$31,IF(I30=Dropdowns!$C$32,Dropdowns!$B$32,IF(I30=Dropdowns!$C$33,Dropdowns!$B$33,IF(I30=Dropdowns!$C$34,Dropdowns!$B$34,IF(I30=Dropdowns!$C$35,Dropdowns!$B$35,IF(I30=Dropdowns!$C$36,Dropdowns!$B$36,IF(I30=Dropdowns!$C$37,Dropdowns!$B$37,IF(I30=Dropdowns!$C$38,Dropdowns!$B$38,IF(I30=Dropdowns!$C$39,Dropdowns!$B$39,IF(I30=Dropdowns!$C$40,Dropdowns!$B$40,IF(I30=Dropdowns!$C$41,Dropdowns!$B$41,IF(I30=Dropdowns!$C$42,Dropdowns!$B$42,IF(I30=Dropdowns!$C$43,Dropdowns!$B$43,IF(I30=Dropdowns!$C$44,Dropdowns!$B$44,IF(I30=Dropdowns!$C$45,Dropdowns!$B$45,IF(I30=Dropdowns!$C$46,Dropdowns!$B$46,IF(I30=Dropdowns!$C$47,Dropdowns!$B$47, IF(I30=Dropdowns!$C$48,Dropdowns!$B$48,\"0\"))))))))))))))))))))))))))))))))))))))))))","v":0},{"$f":"IF(AX30=Dropdowns!$F$15,Dropdowns!$G$15,IF(AX30=Dropdowns!$F$16,Dropdowns!$G$16,IF(AX30=Dropdowns!$F$17,Dropdowns!$G$17,\"0\")))","v":"0"}]
[null,null,null,null,null,null,null,null,null,null,"-",null,null,null,null,null,null,null,null,null,null,0,null,null,null,null,null,0,null,null,null,null,null,null,0,null,null,null,null,0,0,null,0,0,0,0,"-",null,null,null,null,null,null,null,null,null,null,null,null,null,null,null,0,0,0,0,0,0,0,0,0,0,1,{"$f":"IFERROR(IF(L31=Dropdowns!$F$32,\"\",IF(J31=\"Project\",AR31/BT31,IF(J31=\"Program\",AP31/BT31,\"\"))),\"\")","v":""},"",null,null,null,null,null,null,null,null,null,{"$f":"IF($CA31=\"\",0,VLOOKUP($CA31,'Conversion Tables'!$B$37:$C$62,2,FALSE))+IF($CB31=\"\",0,VLOOKUP($CB31,'Conversion Tables'!$B$37:$C$62,2,FALSE))+IF($CC31=\"\",0,VLOOKUP($CC31,'Conversion Tables'!$B$37:$C$62,2,FALSE))+IF($CD31=\"\",0,VLOOKUP($CD31,'Conversion Tables'!$B$37:$C$62,2,FALSE))+IF($CE31=\"\",0,VLOOKUP($CE31,'Conversion Tables'!$B$37:$C$62,2,FALSE))+IF($CF31=\"\",0,VLOOKUP($CF31,'Conversion Tables'!$B$37:$C$62,2,FALSE))","v":0},null,null,null,null,null,null,{"$f":"IFERROR(VLOOKUP(CM31,Dropdowns!A$51:B$55,2,FALSE),\"\")","v":""},null,null,null,null,null,null,null,null,null,null,{"$f":"IFERROR(VLOOKUP(AZ31,'Conversion Tables'!$G$8:$N$12,3,FALSE)/'Conversion Tables'!$I$12*Max_Point,0)","v":0},{"$f":"CY31*'Weighting Scale'!$D$9*DS31*DT31","v":0},{"$f":"IFERROR(VLOOKUP(BB31,'Conversion Tables'!$B$8:$C$32,2,FALSE),0)","v":0},{"$f":"IFERROR(VLOOKUP(BC31,'Conversion Tables'!$B$8:$C$32,2,FALSE),0)","v":0},{"$f":"(DA31-DB31)/'Conversion Tables'!$C$32*Max_Point","v":0},{"$f":"DC31*'Weighting Scale'!$D$10*DS31*DT31","v":0},{"$f":"IFERROR(VLOOKUP(BE31,'Conversion Tables'!$G$8:$N$12,2, FALSE)/'Conversion Tables'!$H$12*Max_Point,0)","v":0},{"$f":"DE31*'Weighting Scale'!$D$11*DS31*DT31","v":0},{"$f":"IFERROR(VLOOKUP(BF31,'Conversion Tables'!$G$8:$N$12,6,FALSE)/'Conversion Tables'!$L$12*Max_Point,0)","v":0},{"$f":"DG31*'Weighting Scale'!$D$14*DS31*DT31","v":0},{"$f":"IFERROR(VLOOKUP(BG31,'Conversion Tables'!$G$8:$N$12,4,FALSE)/'Conversion Tables'!$J$12*Max_Point,0)","v":0},{"$f":"DI31*'Weighting Scale'!$D$12*DS31*DT31","v":0},{"$f":"IFERROR(VLOOKUP(BH31,'Conversion Tables'!$G$8:$N$12,5,FALSE)/'Conversion Tables'!$K$12*Max_Point,0)","v":0},{"$f":"DK31*'Weighting Scale'!$D$13*DS31*DT31","v":0},{"$f":"IFERROR(VLOOKUP(BI31,'Conversion Tables'!$G$8:$N$12,7,FALSE)/'Conversion Tables'!$M$12*Max_Point,0)","v":0},{"$f":"DM31*'Weighting Scale'!$D$15*DS31*DT31","v":0},{"$f":"IF(BJ31 = \"Yes\",('Conversion Tables'!$N$12)/'Conversion Tables'!$N$12*Max_Point,0)","v":0},{"$f":"DO31*'Weighting Scale'!$D$16*DS31*DT31","v":0},0,0,0,{"$f":"IF(I31=Dropdowns!$C$7,Dropdowns!$B$7,IF(I31=Dropdowns!$C$8,Dropdowns!$B$8,IF(I31=Dropdowns!$C$9,Dropdowns!$B$9,IF(I31=Dropdowns!$C$10,Dropdowns!$B$10,IF(I31=Dropdowns!$C$11,Dropdowns!$B$11,IF(I31=Dropdowns!$C$12,Dropdowns!$B$12,IF(I31=Dropdowns!$C$13,Dropdowns!$B$13,IF(I31=Dropdowns!$C$14,Dropdowns!$B$14,IF(I31=Dropdowns!$C$15,Dropdowns!$B$15,IF(I31=Dropdowns!$C$16,Dropdowns!$B$16,IF(I31=Dropdowns!$C$17,Dropdowns!$B$17,IF(I31=Dropdowns!$C$18,Dropdowns!$B$18,IF(I31=Dropdowns!$C$19,Dropdowns!$B$19,IF(I31=Dropdowns!$C$20,Dropdowns!$B$20,IF(I31=Dropdowns!$C$21,Dropdowns!$B$21,IF(I31=Dropdowns!$C$22,Dropdowns!$B$22,IF(I31=Dropdowns!$C$23,Dropdowns!$B$23,IF(I31=Dropdowns!$C$24,Dropdowns!$B$24,IF(I31=Dropdowns!$C$25,Dropdowns!$B$25,IF(I31=Dropdowns!$C$26,Dropdowns!$B$26,IF(I31=Dropdowns!$C$27,Dropdowns!$B$27,IF(I31=Dropdowns!$C$28,Dropdowns!$B$28,IF(I31=Dropdowns!$C$29,Dropdowns!$B$29,IF(I31=Dropdowns!$C$30,Dropdowns!$B$30,IF(I31=Dropdowns!$C$31,Dropdowns!$B$31,IF(I31=Dropdowns!$C$32,Dropdowns!$B$32,IF(I31=Dropdowns!$C$33,Dropdowns!$B$33,IF(I31=Dropdowns!$C$34,Dropdowns!$B$34,IF(I31=Dropdowns!$C$35,Dropdowns!$B$35,IF(I31=Dropdowns!$C$36,Dropdowns!$B$36,IF(I31=Dropdowns!$C$37,Dropdowns!$B$37,IF(I31=Dropdowns!$C$38,Dropdowns!$B$38,IF(I31=Dropdowns!$C$39,Dropdowns!$B$39,IF(I31=Dropdowns!$C$40,Dropdowns!$B$40,IF(I31=Dropdowns!$C$41,Dropdowns!$B$41,IF(I31=Dropdowns!$C$42,Dropdowns!$B$42,IF(I31=Dropdowns!$C$43,Dropdowns!$B$43,IF(I31=Dropdowns!$C$44,Dropdowns!$B$44,IF(I31=Dropdowns!$C$45,Dropdowns!$B$45,IF(I31=Dropdowns!$C$46,Dropdowns!$B$46,IF(I31=Dropdowns!$C$47,Dropdowns!$B$47, IF(I31=Dropdowns!$C$48,Dropdowns!$B$48,\"0\"))))))))))))))))))))))))))))))))))))))))))","v":0},{"$f":"IF(AX31=Dropdowns!$F$15,Dropdowns!$G$15,IF(AX31=Dropdowns!$F$16,Dropdowns!$G$16,IF(AX31=Dropdowns!$F$17,Dropdowns!$G$17,\"0\")))","v":"0"}]
[null,null,null,null,null,null,null,null,null,null,"-",null,null,null,null,null,null,null,null,null,null,0,null,null,null,null,null,0,null,null,null,null,null,null,0,null,null,null,null,0,0,null,0,0,0,0,"-",null,null,null,null,null,null,null,null,null,null,null,null,null,null,null,0,0,0,0,0,0,0,0,0,0,1,{"$f":"IFERROR(IF(L32=Dropdowns!$F$32,\"\",IF(J32=\"Project\",AR32/BT32,IF(J32=\"Program\",AP32/BT32,\"\"))),\"\")","v":""},"",null,null,null,null,null,null,null,null,null,{"$f":"IF($CA32=\"\",0,VLOOKUP($CA32,'Conversion Tables'!$B$37:$C$62,2,FALSE))+IF($CB32=\"\",0,VLOOKUP($CB32,'Conversion Tables'!$B$37:$C$62,2,FALSE))+IF($CC32=\"\",0,VLOOKUP($CC32,'Conversion Tables'!$B$37:$C$62,2,FALSE))+IF($CD32=\"\",0,VLOOKUP($CD32,'Conversion Tables'!$B$37:$C$62,2,FALSE))+IF($CE32=\"\",0,VLOOKUP($CE32,'Conversion Tables'!$B$37:$C$62,2,FALSE))+IF($CF32=\"\",0,VLOOKUP($CF32,'Conversion Tables'!$B$37:$C$62,2,FALSE))","v":0},null,null,null,null,null,null,{"$f":"IFERROR(VLOOKUP(CM32,Dropdowns!A$51:B$55,2,FALSE),\"\")","v":""},null,null,null,null,null,null,null,null,null,null,{"$f":"IFERROR(VLOOKUP(AZ32,'Conversion Tables'!$G$8:$N$12,3,FALSE)/'Conversion Tables'!$I$12*Max_Point,0)","v":0},{"$f":"CY32*'Weighting Scale'!$D$9*DS32*DT32","v":0},{"$f":"IFERROR(VLOOKUP(BB32,'Conversion Tables'!$B$8:$C$32,2,FALSE),0)","v":0},{"$f":"IFERROR(VLOOKUP(BC32,'Conversion Tables'!$B$8:$C$32,2,FALSE),0)","v":0},{"$f":"(DA32-DB32)/'Conversion Tables'!$C$32*Max_Point","v":0},{"$f":"DC32*'Weighting Scale'!$D$10*DS32*DT32","v":0},{"$f":"IFERROR(VLOOKUP(BE32,'Conversion Tables'!$G$8:$N$12,2, FALSE)/'Conversion Tables'!$H$12*Max_Point,0)","v":0},{"$f":"DE32*'Weighting Scale'!$D$11*DS32*DT32","v":0},{"$f":"IFERROR(VLOOKUP(BF32,'Conversion Tables'!$G$8:$N$12,6,FALSE)/'Conversion Tables'!$L$12*Max_Point,0)","v":0},{"$f":"DG32*'Weighting Scale'!$D$14*DS32*DT32","v":0},{"$f":"IFERROR(VLOOKUP(BG32,'Conversion Tables'!$G$8:$N$12,4,FALSE)/'Conversion Tables'!$J$12*Max_Point,0)","v":0},{"$f":"DI32*'Weighting Scale'!$D$12*DS32*DT32","v":0},{"$f":"IFERROR(VLOOKUP(BH32,'Conversion Tables'!$G$8:$N$12,5,FALSE)/'Conversion Tables'!$K$12*Max_Point,0)","v":0},{"$f":"DK32*'Weighting Scale'!$D$13*DS32*DT32","v":0},{"$f":"IFERROR(VLOOKUP(BI32,'Conversion Tables'!$G$8:$N$12,7,FALSE)/'Conversion Tables'!$M$12*Max_Point,0)","v":0},{"$f":"DM32*'Weighting Scale'!$D$15*DS32*DT32","v":0},{"$f":"IF(BJ32 = \"Yes\",('Conversion Tables'!$N$12)/'Conversion Tables'!$N$12*Max_Point,0)","v":0},{"$f":"DO32*'Weighting Scale'!$D$16*DS32*DT32","v":0},0,0,0,{"$f":"IF(I32=Dropdowns!$C$7,Dropdowns!$B$7,IF(I32=Dropdowns!$C$8,Dropdowns!$B$8,IF(I32=Dropdowns!$C$9,Dropdowns!$B$9,IF(I32=Dropdowns!$C$10,Dropdowns!$B$10,IF(I32=Dropdowns!$C$11,Dropdowns!$B$11,IF(I32=Dropdowns!$C$12,Dropdowns!$B$12,IF(I32=Dropdowns!$C$13,Dropdowns!$B$13,IF(I32=Dropdowns!$C$14,Dropdowns!$B$14,IF(I32=Dropdowns!$C$15,Dropdowns!$B$15,IF(I32=Dropdowns!$C$16,Dropdowns!$B$16,IF(I32=Dropdowns!$C$17,Dropdowns!$B$17,IF(I32=Dropdowns!$C$18,Dropdowns!$B$18,IF(I32=Dropdowns!$C$19,Dropdowns!$B$19,IF(I32=Dropdowns!$C$20,Dropdowns!$B$20,IF(I32=Dropdowns!$C$21,Dropdowns!$B$21,IF(I32=Dropdowns!$C$22,Dropdowns!$B$22,IF(I32=Dropdowns!$C$23,Dropdowns!$B$23,IF(I32=Dropdowns!$C$24,Dropdowns!$B$24,IF(I32=Dropdowns!$C$25,Dropdowns!$B$25,IF(I32=Dropdowns!$C$26,Dropdowns!$B$26,IF(I32=Dropdowns!$C$27,Dropdowns!$B$27,IF(I32=Dropdowns!$C$28,Dropdowns!$B$28,IF(I32=Dropdowns!$C$29,Dropdowns!$B$29,IF(I32=Dropdowns!$C$30,Dropdowns!$B$30,IF(I32=Dropdowns!$C$31,Dropdowns!$B$31,IF(I32=Dropdowns!$C$32,Dropdowns!$B$32,IF(I32=Dropdowns!$C$33,Dropdowns!$B$33,IF(I32=Dropdowns!$C$34,Dropdowns!$B$34,IF(I32=Dropdowns!$C$35,Dropdowns!$B$35,IF(I32=Dropdowns!$C$36,Dropdowns!$B$36,IF(I32=Dropdowns!$C$37,Dropdowns!$B$37,IF(I32=Dropdowns!$C$38,Dropdowns!$B$38,IF(I32=Dropdowns!$C$39,Dropdowns!$B$39,IF(I32=Dropdowns!$C$40,Dropdowns!$B$40,IF(I32=Dropdowns!$C$41,Dropdowns!$B$41,IF(I32=Dropdowns!$C$42,Dropdowns!$B$42,IF(I32=Dropdowns!$C$43,Dropdowns!$B$43,IF(I32=Dropdowns!$C$44,Dropdowns!$B$44,IF(I32=Dropdowns!$C$45,Dropdowns!$B$45,IF(I32=Dropdowns!$C$46,Dropdowns!$B$46,IF(I32=Dropdowns!$C$47,Dropdowns!$B$47, IF(I32=Dropdowns!$C$48,Dropdowns!$B$48,\"0\"))))))))))))))))))))))))))))))))))))))))))","v":0},{"$f":"IF(AX32=Dropdowns!$F$15,Dropdowns!$G$15,IF(AX32=Dropdowns!$F$16,Dropdowns!$G$16,IF(AX32=Dropdowns!$F$17,Dropdowns!$G$17,\"0\")))","v":"0"}]
[null,null,null,null,null,null,null,null,null,null,"-",null,null,null,null,null,null,null,null,null,null,0,null,null,null,null,null,0,null,null,null,null,null,null,0,null,null,null,null,0,0,null,0,0,0,0,"-",null,null,null,null,null,null,null,null,null,null,null,null,null,null,null,0,0,0,0,0,0,0,0,0,0,1,{"$f":"IFERROR(IF(L33=Dropdowns!$F$32,\"\",IF(J33=\"Project\",AR33/BT33,IF(J33=\"Program\",AP33/BT33,\"\"))),\"\")","v":""},"",null,null,null,null,null,null,null,null,null,{"$f":"IF($CA33=\"\",0,VLOOKUP($CA33,'Conversion Tables'!$B$37:$C$62,2,FALSE))+IF($CB33=\"\",0,VLOOKUP($CB33,'Conversion Tables'!$B$37:$C$62,2,FALSE))+IF($CC33=\"\",0,VLOOKUP($CC33,'Conversion Tables'!$B$37:$C$62,2,FALSE))+IF($CD33=\"\",0,VLOOKUP($CD33,'Conversion Tables'!$B$37:$C$62,2,FALSE))+IF($CE33=\"\",0,VLOOKUP($CE33,'Conversion Tables'!$B$37:$C$62,2,FALSE))+IF($CF33=\"\",0,VLOOKUP($CF33,'Conversion Tables'!$B$37:$C$62,2,FALSE))","v":0},null,null,null,null,null,null,{"$f":"IFERROR(VLOOKUP(CM33,Dropdowns!A$51:B$55,2,FALSE),\"\")","v":""},null,null,null,null,null,null,null,null,null,null,{"$f":"IFERROR(VLOOKUP(AZ33,'Conversion Tables'!$G$8:$N$12,3,FALSE)/'Conversion Tables'!$I$12*Max_Point,0)","v":0},{"$f":"CY33*'Weighting Scale'!$D$9*DS33*DT33","v":0},{"$f":"IFERROR(VLOOKUP(BB33,'Conversion Tables'!$B$8:$C$32,2,FALSE),0)","v":0},{"$f":"IFERROR(VLOOKUP(BC33,'Conversion Tables'!$B$8:$C$32,2,FALSE),0)","v":0},{"$f":"(DA33-DB33)/'Conversion Tables'!$C$32*Max_Point","v":0},{"$f":"DC33*'Weighting Scale'!$D$10*DS33*DT33","v":0},{"$f":"IFERROR(VLOOKUP(BE33,'Conversion Tables'!$G$8:$N$12,2, FALSE)/'Conversion Tables'!$H$12*Max_Point,0)","v":0},{"$f":"DE33*'Weighting Scale'!$D$11*DS33*DT33","v":0},{"$f":"IFERROR(VLOOKUP(BF33,'Conversion Tables'!$G$8:$N$12,6,FALSE)/'Conversion Tables'!$L$12*Max_Point,0)","v":0},{"$f":"DG33*'Weighting Scale'!$D$14*DS33*DT33","v":0},{"$f":"IFERROR(VLOOKUP(BG33,'Conversion Tables'!$G$8:$N$12,4,FALSE)/'Conversion Tables'!$J$12*Max_Point,0)","v":0},{"$f":"DI33*'Weighting Scale'!$D$12*DS33*DT33","v":0},{"$f":"IFERROR(VLOOKUP(BH33,'Conversion Tables'!$G$8:$N$12,5,FALSE)/'Conversion Tables'!$K$12*Max_Point,0)","v":0},{"$f":"DK33*'Weighting Scale'!$D$13*DS33*DT33","v":0},{"$f":"IFERROR(VLOOKUP(BI33,'Conversion Tables'!$G$8:$N$12,7,FALSE)/'Conversion Tables'!$M$12*Max_Point,0)","v":0},{"$f":"DM33*'Weighting Scale'!$D$15*DS33*DT33","v":0},{"$f":"IF(BJ33 = \"Yes\",('Conversion Tables'!$N$12)/'Conversion Tables'!$N$12*Max_Point,0)","v":0},{"$f":"DO33*'Weighting Scale'!$D$16*DS33*DT33","v":0},0,0,0,{"$f":"IF(I33=Dropdowns!$C$7,Dropdowns!$B$7,IF(I33=Dropdowns!$C$8,Dropdowns!$B$8,IF(I33=Dropdowns!$C$9,Dropdowns!$B$9,IF(I33=Dropdowns!$C$10,Dropdowns!$B$10,IF(I33=Dropdowns!$C$11,Dropdowns!$B$11,IF(I33=Dropdowns!$C$12,Dropdowns!$B$12,IF(I33=Dropdowns!$C$13,Dropdowns!$B$13,IF(I33=Dropdowns!$C$14,Dropdowns!$B$14,IF(I33=Dropdowns!$C$15,Dropdowns!$B$15,IF(I33=Dropdowns!$C$16,Dropdowns!$B$16,IF(I33=Dropdowns!$C$17,Dropdowns!$B$17,IF(I33=Dropdowns!$C$18,Dropdowns!$B$18,IF(I33=Dropdowns!$C$19,Dropdowns!$B$19,IF(I33=Dropdowns!$C$20,Dropdowns!$B$20,IF(I33=Dropdowns!$C$21,Dropdowns!$B$21,IF(I33=Dropdowns!$C$22,Dropdowns!$B$22,IF(I33=Dropdowns!$C$23,Dropdowns!$B$23,IF(I33=Dropdowns!$C$24,Dropdowns!$B$24,IF(I33=Dropdowns!$C$25,Dropdowns!$B$25,IF(I33=Dropdowns!$C$26,Dropdowns!$B$26,IF(I33=Dropdowns!$C$27,Dropdowns!$B$27,IF(I33=Dropdowns!$C$28,Dropdowns!$B$28,IF(I33=Dropdowns!$C$29,Dropdowns!$B$29,IF(I33=Dropdowns!$C$30,Dropdowns!$B$30,IF(I33=Dropdowns!$C$31,Dropdowns!$B$31,IF(I33=Dropdowns!$C$32,Dropdowns!$B$32,IF(I33=Dropdowns!$C$33,Dropdowns!$B$33,IF(I33=Dropdowns!$C$34,Dropdowns!$B$34,IF(I33=Dropdowns!$C$35,Dropdowns!$B$35,IF(I33=Dropdowns!$C$36,Dropdowns!$B$36,IF(I33=Dropdowns!$C$37,Dropdowns!$B$37,IF(I33=Dropdowns!$C$38,Dropdowns!$B$38,IF(I33=Dropdowns!$C$39,Dropdowns!$B$39,IF(I33=Dropdowns!$C$40,Dropdowns!$B$40,IF(I33=Dropdowns!$C$41,Dropdowns!$B$41,IF(I33=Dropdowns!$C$42,Dropdowns!$B$42,IF(I33=Dropdowns!$C$43,Dropdowns!$B$43,IF(I33=Dropdowns!$C$44,Dropdowns!$B$44,IF(I33=Dropdowns!$C$45,Dropdowns!$B$45,IF(I33=Dropdowns!$C$46,Dropdowns!$B$46,IF(I33=Dropdowns!$C$47,Dropdowns!$B$47, IF(I33=Dropdowns!$C$48,Dropdowns!$B$48,\"0\"))))))))))))))))))))))))))))))))))))))))))","v":0},{"$f":"IF(AX33=Dropdowns!$F$15,Dropdowns!$G$15,IF(AX33=Dropdowns!$F$16,Dropdowns!$G$16,IF(AX33=Dropdowns!$F$17,Dropdowns!$G$17,\"0\")))","v":"0"}]
[null,null,null,null,null,null,null,null,null,null,"-",null,null,null,null,null,null,null,null,null,null,0,null,null,null,null,null,0,null,null,null,null,null,null,0,null,null,null,null,0,0,null,0,0,0,0,"-",null,null,null,null,null,null,null,null,null,null,null,null,null,null,null,0,0,0,0,0,0,0,0,0,0,1,{"$f":"IFERROR(IF(L34=Dropdowns!$F$32,\"\",IF(J34=\"Project\",AR34/BT34,IF(J34=\"Program\",AP34/BT34,\"\"))),\"\")","v":""},"",null,null,null,null,null,null,null,null,null,{"$f":"IF($CA34=\"\",0,VLOOKUP($CA34,'Conversion Tables'!$B$37:$C$62,2,FALSE))+IF($CB34=\"\",0,VLOOKUP($CB34,'Conversion Tables'!$B$37:$C$62,2,FALSE))+IF($CC34=\"\",0,VLOOKUP($CC34,'Conversion Tables'!$B$37:$C$62,2,FALSE))+IF($CD34=\"\",0,VLOOKUP($CD34,'Conversion Tables'!$B$37:$C$62,2,FALSE))+IF($CE34=\"\",0,VLOOKUP($CE34,'Conversion Tables'!$B$37:$C$62,2,FALSE))+IF($CF34=\"\",0,VLOOKUP($CF34,'Conversion Tables'!$B$37:$C$62,2,FALSE))","v":0},null,null,null,null,null,null,{"$f":"IFERROR(VLOOKUP(CM34,Dropdowns!A$51:B$55,2,FALSE),\"\")","v":""},null,null,null,null,null,null,null,null,null,null,{"$f":"IFERROR(VLOOKUP(AZ34,'Conversion Tables'!$G$8:$N$12,3,FALSE)/'Conversion Tables'!$I$12*Max_Point,0)","v":0},{"$f":"CY34*'Weighting Scale'!$D$9*DS34*DT34","v":0},{"$f":"IFERROR(VLOOKUP(BB34,'Conversion Tables'!$B$8:$C$32,2,FALSE),0)","v":0},{"$f":"IFERROR(VLOOKUP(BC34,'Conversion Tables'!$B$8:$C$32,2,FALSE),0)","v":0},{"$f":"(DA34-DB34)/'Conversion Tables'!$C$32*Max_Point","v":0},{"$f":"DC34*'Weighting Scale'!$D$10*DS34*DT34","v":0},{"$f":"IFERROR(VLOOKUP(BE34,'Conversion Tables'!$G$8:$N$12,2, FALSE)/'Conversion Tables'!$H$12*Max_Point,0)","v":0},{"$f":"DE34*'Weighting Scale'!$D$11*DS34*DT34","v":0},{"$f":"IFERROR(VLOOKUP(BF34,'Conversion Tables'!$G$8:$N$12,6,FALSE)/'Conversion Tables'!$L$12*Max_Point,0)","v":0},{"$f":"DG34*'Weighting Scale'!$D$14*DS34*DT34","v":0},{"$f":"IFERROR(VLOOKUP(BG34,'Conversion Tables'!$G$8:$N$12,4,FALSE)/'Conversion Tables'!$J$12*Max_Point,0)","v":0},{"$f":"DI34*'Weighting Scale'!$D$12*DS34*DT34","v":0},{"$f":"IFERROR(VLOOKUP(BH34,'Conversion Tables'!$G$8:$N$12,5,FALSE)/'Conversion Tables'!$K$12*Max_Point,0)","v":0},{"$f":"DK34*'Weighting Scale'!$D$13*DS34*DT34","v":0},{"$f":"IFERROR(VLOOKUP(BI34,'Conversion Tables'!$G$8:$N$12,7,FALSE)/'Conversion Tables'!$M$12*Max_Point,0)","v":0},{"$f":"DM34*'Weighting Scale'!$D$15*DS34*DT34","v":0},{"$f":"IF(BJ34 = \"Yes\",('Conversion Tables'!$N$12)/'Conversion Tables'!$N$12*Max_Point,0)","v":0},{"$f":"DO34*'Weighting Scale'!$D$16*DS34*DT34","v":0},0,0,0,{"$f":"IF(I34=Dropdowns!$C$7,Dropdowns!$B$7,IF(I34=Dropdowns!$C$8,Dropdowns!$B$8,IF(I34=Dropdowns!$C$9,Dropdowns!$B$9,IF(I34=Dropdowns!$C$10,Dropdowns!$B$10,IF(I34=Dropdowns!$C$11,Dropdowns!$B$11,IF(I34=Dropdowns!$C$12,Dropdowns!$B$12,IF(I34=Dropdowns!$C$13,Dropdowns!$B$13,IF(I34=Dropdowns!$C$14,Dropdowns!$B$14,IF(I34=Dropdowns!$C$15,Dropdowns!$B$15,IF(I34=Dropdowns!$C$16,Dropdowns!$B$16,IF(I34=Dropdowns!$C$17,Dropdowns!$B$17,IF(I34=Dropdowns!$C$18,Dropdowns!$B$18,IF(I34=Dropdowns!$C$19,Dropdowns!$B$19,IF(I34=Dropdowns!$C$20,Dropdowns!$B$20,IF(I34=Dropdowns!$C$21,Dropdowns!$B$21,IF(I34=Dropdowns!$C$22,Dropdowns!$B$22,IF(I34=Dropdowns!$C$23,Dropdowns!$B$23,IF(I34=Dropdowns!$C$24,Dropdowns!$B$24,IF(I34=Dropdowns!$C$25,Dropdowns!$B$25,IF(I34=Dropdowns!$C$26,Dropdowns!$B$26,IF(I34=Dropdowns!$C$27,Dropdowns!$B$27,IF(I34=Dropdowns!$C$28,Dropdowns!$B$28,IF(I34=Dropdowns!$C$29,Dropdowns!$B$29,IF(I34=Dropdowns!$C$30,Dropdowns!$B$30,IF(I34=Dropdowns!$C$31,Dropdowns!$B$31,IF(I34=Dropdowns!$C$32,Dropdowns!$B$32,IF(I34=Dropdowns!$C$33,Dropdowns!$B$33,IF(I34=Dropdowns!$C$34,Dropdowns!$B$34,IF(I34=Dropdowns!$C$35,Dropdowns!$B$35,IF(I34=Dropdowns!$C$36,Dropdowns!$B$36,IF(I34=Dropdowns!$C$37,Dropdowns!$B$37,IF(I34=Dropdowns!$C$38,Dropdowns!$B$38,IF(I34=Dropdowns!$C$39,Dropdowns!$B$39,IF(I34=Dropdowns!$C$40,Dropdowns!$B$40,IF(I34=Dropdowns!$C$41,Dropdowns!$B$41,IF(I34=Dropdowns!$C$42,Dropdowns!$B$42,IF(I34=Dropdowns!$C$43,Dropdowns!$B$43,IF(I34=Dropdowns!$C$44,Dropdowns!$B$44,IF(I34=Dropdowns!$C$45,Dropdowns!$B$45,IF(I34=Dropdowns!$C$46,Dropdowns!$B$46,IF(I34=Dropdowns!$C$47,Dropdowns!$B$47, IF(I34=Dropdowns!$C$48,Dropdowns!$B$48,\"0\"))))))))))))))))))))))))))))))))))))))))))","v":0},{"$f":"IF(AX34=Dropdowns!$F$15,Dropdowns!$G$15,IF(AX34=Dropdowns!$F$16,Dropdowns!$G$16,IF(AX34=Dropdowns!$F$17,Dropdowns!$G$17,\"0\")))","v":"0"}]
[null,null,null,null,null,null,null,null,null,null,"-",null,null,null,null,null,null,null,null,null,null,0,null,null,null,null,null,0,null,null,null,null,null,null,0,null,null,null,null,0,0,null,0,0,0,0,"-",null,null,null,null,null,null,null,null,null,null,null,null,null,null,null,0,0,0,0,0,0,0,0,0,0,1,{"$f":"IFERROR(IF(L35=Dropdowns!$F$32,\"\",IF(J35=\"Project\",AR35/BT35,IF(J35=\"Program\",AP35/BT35,\"\"))),\"\")","v":""},"",null,null,null,null,null,null,null,null,null,{"$f":"IF($CA35=\"\",0,VLOOKUP($CA35,'Conversion Tables'!$B$37:$C$62,2,FALSE))+IF($CB35=\"\",0,VLOOKUP($CB35,'Conversion Tables'!$B$37:$C$62,2,FALSE))+IF($CC35=\"\",0,VLOOKUP($CC35,'Conversion Tables'!$B$37:$C$62,2,FALSE))+IF($CD35=\"\",0,VLOOKUP($CD35,'Conversion Tables'!$B$37:$C$62,2,FALSE))+IF($CE35=\"\",0,VLOOKUP($CE35,'Conversion Tables'!$B$37:$C$62,2,FALSE))+IF($CF35=\"\",0,VLOOKUP($CF35,'Conversion Tables'!$B$37:$C$62,2,FALSE))","v":0},null,null,null,null,null,null,{"$f":"IFERROR(VLOOKUP(CM35,Dropdowns!A$51:B$55,2,FALSE),\"\")","v":""},null,null,null,null,null,null,null,null,null,null,{"$f":"IFERROR(VLOOKUP(AZ35,'Conversion Tables'!$G$8:$N$12,3,FALSE)/'Conversion Tables'!$I$12*Max_Point,0)","v":0},{"$f":"CY35*'Weighting Scale'!$D$9*DS35*DT35","v":0},{"$f":"IFERROR(VLOOKUP(BB35,'Conversion Tables'!$B$8:$C$32,2,FALSE),0)","v":0},{"$f":"IFERROR(VLOOKUP(BC35,'Conversion Tables'!$B$8:$C$32,2,FALSE),0)","v":0},{"$f":"(DA35-DB35)/'Conversion Tables'!$C$32*Max_Point","v":0},{"$f":"DC35*'Weighting Scale'!$D$10*DS35*DT35","v":0},{"$f":"IFERROR(VLOOKUP(BE35,'Conversion Tables'!$G$8:$N$12,2, FALSE)/'Conversion Tables'!$H$12*Max_Point,0)","v":0},{"$f":"DE35*'Weighting Scale'!$D$11*DS35*DT35","v":0},{"$f":"IFERROR(VLOOKUP(BF35,'Conversion Tables'!$G$8:$N$12,6,FALSE)/'Conversion Tables'!$L$12*Max_Point,0)","v":0},{"$f":"DG35*'Weighting Scale'!$D$14*DS35*DT35","v":0},{"$f":"IFERROR(VLOOKUP(BG35,'Conversion Tables'!$G$8:$N$12,4,FALSE)/'Conversion Tables'!$J$12*Max_Point,0)","v":0},{"$f":"DI35*'Weighting Scale'!$D$12*DS35*DT35","v":0},{"$f":"IFERROR(VLOOKUP(BH35,'Conversion Tables'!$G$8:$N$12,5,FALSE)/'Conversion Tables'!$K$12*Max_Point,0)","v":0},{"$f":"DK35*'Weighting Scale'!$D$13*DS35*DT35","v":0},{"$f":"IFERROR(VLOOKUP(BI35,'Conversion Tables'!$G$8:$N$12,7,FALSE)/'Conversion Tables'!$M$12*Max_Point,0)","v":0},{"$f":"DM35*'Weighting Scale'!$D$15*DS35*DT35","v":0},{"$f":"IF(BJ35 = \"Yes\",('Conversion Tables'!$N$12)/'Conversion Tables'!$N$12*Max_Point,0)","v":0},{"$f":"DO35*'Weighting Scale'!$D$16*DS35*DT35","v":0},0,0,0,{"$f":"IF(I35=Dropdowns!$C$7,Dropdowns!$B$7,IF(I35=Dropdowns!$C$8,Dropdowns!$B$8,IF(I35=Dropdowns!$C$9,Dropdowns!$B$9,IF(I35=Dropdowns!$C$10,Dropdowns!$B$10,IF(I35=Dropdowns!$C$11,Dropdowns!$B$11,IF(I35=Dropdowns!$C$12,Dropdowns!$B$12,IF(I35=Dropdowns!$C$13,Dropdowns!$B$13,IF(I35=Dropdowns!$C$14,Dropdowns!$B$14,IF(I35=Dropdowns!$C$15,Dropdowns!$B$15,IF(I35=Dropdowns!$C$16,Dropdowns!$B$16,IF(I35=Dropdowns!$C$17,Dropdowns!$B$17,IF(I35=Dropdowns!$C$18,Dropdowns!$B$18,IF(I35=Dropdowns!$C$19,Dropdowns!$B$19,IF(I35=Dropdowns!$C$20,Dropdowns!$B$20,IF(I35=Dropdowns!$C$21,Dropdowns!$B$21,IF(I35=Dropdowns!$C$22,Dropdowns!$B$22,IF(I35=Dropdowns!$C$23,Dropdowns!$B$23,IF(I35=Dropdowns!$C$24,Dropdowns!$B$24,IF(I35=Dropdowns!$C$25,Dropdowns!$B$25,IF(I35=Dropdowns!$C$26,Dropdowns!$B$26,IF(I35=Dropdowns!$C$27,Dropdowns!$B$27,IF(I35=Dropdowns!$C$28,Dropdowns!$B$28,IF(I35=Dropdowns!$C$29,Dropdowns!$B$29,IF(I35=Dropdowns!$C$30,Dropdowns!$B$30,IF(I35=Dropdowns!$C$31,Dropdowns!$B$31,IF(I35=Dropdowns!$C$32,Dropdowns!$B$32,IF(I35=Dropdowns!$C$33,Dropdowns!$B$33,IF(I35=Dropdowns!$C$34,Dropdowns!$B$34,IF(I35=Dropdowns!$C$35,Dropdowns!$B$35,IF(I35=Dropdowns!$C$36,Dropdowns!$B$36,IF(I35=Dropdowns!$C$37,Dropdowns!$B$37,IF(I35=Dropdowns!$C$38,Dropdowns!$B$38,IF(I35=Dropdowns!$C$39,Dropdowns!$B$39,IF(I35=Dropdowns!$C$40,Dropdowns!$B$40,IF(I35=Dropdowns!$C$41,Dropdowns!$B$41,IF(I35=Dropdowns!$C$42,Dropdowns!$B$42,IF(I35=Dropdowns!$C$43,Dropdowns!$B$43,IF(I35=Dropdowns!$C$44,Dropdowns!$B$44,IF(I35=Dropdowns!$C$45,Dropdowns!$B$45,IF(I35=Dropdowns!$C$46,Dropdowns!$B$46,IF(I35=Dropdowns!$C$47,Dropdowns!$B$47, IF(I35=Dropdowns!$C$48,Dropdowns!$B$48,\"0\"))))))))))))))))))))))))))))))))))))))))))","v":0},{"$f":"IF(AX35=Dropdowns!$F$15,Dropdowns!$G$15,IF(AX35=Dropdowns!$F$16,Dropdowns!$G$16,IF(AX35=Dropdowns!$F$17,Dropdowns!$G$17,\"0\")))","v":"0"}]
[null,null,null,null,null,null,null,null,null,null,"-",null,null,null,null,null,null,null,null,null,null,0,null,null,null,null,null,0,null,null,null,null,null,null,0,null,null,null,null,0,0,null,0,0,0,0,"-",null,null,null,null,null,null,null,null,null,null,null,null,null,null,null,0,0,0,0,0,0,0,0,0,0,1,{"$f":"IFERROR(IF(L36=Dropdowns!$F$32,\"\",IF(J36=\"Project\",AR36/BT36,IF(J36=\"Program\",AP36/BT36,\"\"))),\"\")","v":""},"",null,null,null,null,null,null,null,null,null,{"$f":"IF($CA36=\"\",0,VLOOKUP($CA36,'Conversion Tables'!$B$37:$C$62,2,FALSE))+IF($CB36=\"\",0,VLOOKUP($CB36,'Conversion Tables'!$B$37:$C$62,2,FALSE))+IF($CC36=\"\",0,VLOOKUP($CC36,'Conversion Tables'!$B$37:$C$62,2,FALSE))+IF($CD36=\"\",0,VLOOKUP($CD36,'Conversion Tables'!$B$37:$C$62,2,FALSE))+IF($CE36=\"\",0,VLOOKUP($CE36,'Conversion Tables'!$B$37:$C$62,2,FALSE))+IF($CF36=\"\",0,VLOOKUP($CF36,'Conversion Tables'!$B$37:$C$62,2,FALSE))","v":0},null,null,null,null,null,null,{"$f":"IFERROR(VLOOKUP(CM36,Dropdowns!A$51:B$55,2,FALSE),\"\")","v":""},null,null,null,null,null,null,null,null,null,null,{"$f":"IFERROR(VLOOKUP(AZ36,'Conversion Tables'!$G$8:$N$12,3,FALSE)/'Conversion Tables'!$I$12*Max_Point,0)","v":0},{"$f":"CY36*'Weighting Scale'!$D$9*DS36*DT36","v":0},{"$f":"IFERROR(VLOOKUP(BB36,'Conversion Tables'!$B$8:$C$32,2,FALSE),0)","v":0},{"$f":"IFERROR(VLOOKUP(BC36,'Conversion Tables'!$B$8:$C$32,2,FALSE),0)","v":0},{"$f":"(DA36-DB36)/'Conversion Tables'!$C$32*Max_Point","v":0},{"$f":"DC36*'Weighting Scale'!$D$10*DS36*DT36","v":0},{"$f":"IFERROR(VLOOKUP(BE36,'Conversion Tables'!$G$8:$N$12,2, FALSE)/'Conversion Tables'!$H$12*Max_Point,0)","v":0},{"$f":"DE36*'Weighting Scale'!$D$11*DS36*DT36","v":0},{"$f":"IFERROR(VLOOKUP(BF36,'Conversion Tables'!$G$8:$N$12,6,FALSE)/'Conversion Tables'!$L$12*Max_Point,0)","v":0},{"$f":"DG36*'Weighting Scale'!$D$14*DS36*DT36","v":0},{"$f":"IFERROR(VLOOKUP(BG36,'Conversion Tables'!$G$8:$N$12,4,FALSE)/'Conversion Tables'!$J$12*Max_Point,0)","v":0},{"$f":"DI36*'Weighting Scale'!$D$12*DS36*DT36","v":0},{"$f":"IFERROR(VLOOKUP(BH36,'Conversion Tables'!$G$8:$N$12,5,FALSE)/'Conversion Tables'!$K$12*Max_Point,0)","v":0},{"$f":"DK36*'Weighting Scale'!$D$13*DS36*DT36","v":0},{"$f":"IFERROR(VLOOKUP(BI36,'Conversion Tables'!$G$8:$N$12,7,FALSE)/'Conversion Tables'!$M$12*Max_Point,0)","v":0},{"$f":"DM36*'Weighting Scale'!$D$15*DS36*DT36","v":0},{"$f":"IF(BJ36 = \"Yes\",('Conversion Tables'!$N$12)/'Conversion Tables'!$N$12*Max_Point,0)","v":0},{"$f":"DO36*'Weighting Scale'!$D$16*DS36*DT36","v":0},0,0,0,{"$f":"IF(I36=Dropdowns!$C$7,Dropdowns!$B$7,IF(I36=Dropdowns!$C$8,Dropdowns!$B$8,IF(I36=Dropdowns!$C$9,Dropdowns!$B$9,IF(I36=Dropdowns!$C$10,Dropdowns!$B$10,IF(I36=Dropdowns!$C$11,Dropdowns!$B$11,IF(I36=Dropdowns!$C$12,Dropdowns!$B$12,IF(I36=Dropdowns!$C$13,Dropdowns!$B$13,IF(I36=Dropdowns!$C$14,Dropdowns!$B$14,IF(I36=Dropdowns!$C$15,Dropdowns!$B$15,IF(I36=Dropdowns!$C$16,Dropdowns!$B$16,IF(I36=Dropdowns!$C$17,Dropdowns!$B$17,IF(I36=Dropdowns!$C$18,Dropdowns!$B$18,IF(I36=Dropdowns!$C$19,Dropdowns!$B$19,IF(I36=Dropdowns!$C$20,Dropdowns!$B$20,IF(I36=Dropdowns!$C$21,Dropdowns!$B$21,IF(I36=Dropdowns!$C$22,Dropdowns!$B$22,IF(I36=Dropdowns!$C$23,Dropdowns!$B$23,IF(I36=Dropdowns!$C$24,Dropdowns!$B$24,IF(I36=Dropdowns!$C$25,Dropdowns!$B$25,IF(I36=Dropdowns!$C$26,Dropdowns!$B$26,IF(I36=Dropdowns!$C$27,Dropdowns!$B$27,IF(I36=Dropdowns!$C$28,Dropdowns!$B$28,IF(I36=Dropdowns!$C$29,Dropdowns!$B$29,IF(I36=Dropdowns!$C$30,Dropdowns!$B$30,IF(I36=Dropdowns!$C$31,Dropdowns!$B$31,IF(I36=Dropdowns!$C$32,Dropdowns!$B$32,IF(I36=Dropdowns!$C$33,Dropdowns!$B$33,IF(I36=Dropdowns!$C$34,Dropdowns!$B$34,IF(I36=Dropdowns!$C$35,Dropdowns!$B$35,IF(I36=Dropdowns!$C$36,Dropdowns!$B$36,IF(I36=Dropdowns!$C$37,Dropdowns!$B$37,IF(I36=Dropdowns!$C$38,Dropdowns!$B$38,IF(I36=Dropdowns!$C$39,Dropdowns!$B$39,IF(I36=Dropdowns!$C$40,Dropdowns!$B$40,IF(I36=Dropdowns!$C$41,Dropdowns!$B$41,IF(I36=Dropdowns!$C$42,Dropdowns!$B$42,IF(I36=Dropdowns!$C$43,Dropdowns!$B$43,IF(I36=Dropdowns!$C$44,Dropdowns!$B$44,IF(I36=Dropdowns!$C$45,Dropdowns!$B$45,IF(I36=Dropdowns!$C$46,Dropdowns!$B$46,IF(I36=Dropdowns!$C$47,Dropdowns!$B$47, IF(I36=Dropdowns!$C$48,Dropdowns!$B$48,\"0\"))))))))))))))))))))))))))))))))))))))))))","v":0},{"$f":"IF(AX36=Dropdowns!$F$15,Dropdowns!$G$15,IF(AX36=Dropdowns!$F$16,Dropdowns!$G$16,IF(AX36=Dropdowns!$F$17,Dropdowns!$G$17,\"0\")))","v":"0"}]
[null,null,null,null,null,null,null,null,null,null,"-",null,null,null,null,null,null,null,null,null,null,0,null,null,null,null,null,0,null,null,null,null,null,null,0,null,null,null,null,0,0,null,0,0,0,0,"-",null,null,null,null,null,null,null,null,null,null,null,null,null,null,null,0,0,0,0,0,0,0,0,0,0,1,{"$f":"IFERROR(IF(L37=Dropdowns!$F$32,\"\",IF(J37=\"Project\",AR37/BT37,IF(J37=\"Program\",AP37/BT37,\"\"))),\"\")","v":""},"",null,null,null,null,null,null,null,null,null,{"$f":"IF($CA37=\"\",0,VLOOKUP($CA37,'Conversion Tables'!$B$37:$C$62,2,FALSE))+IF($CB37=\"\",0,VLOOKUP($CB37,'Conversion Tables'!$B$37:$C$62,2,FALSE))+IF($CC37=\"\",0,VLOOKUP($CC37,'Conversion Tables'!$B$37:$C$62,2,FALSE))+IF($CD37=\"\",0,VLOOKUP($CD37,'Conversion Tables'!$B$37:$C$62,2,FALSE))+IF($CE37=\"\",0,VLOOKUP($CE37,'Conversion Tables'!$B$37:$C$62,2,FALSE))+IF($CF37=\"\",0,VLOOKUP($CF37,'Conversion Tables'!$B$37:$C$62,2,FALSE))","v":0},null,null,null,null,null,null,{"$f":"IFERROR(VLOOKUP(CM37,Dropdowns!A$51:B$55,2,FALSE),\"\")","v":""},null,null,null,null,null,null,null,null,null,null,{"$f":"IFERROR(VLOOKUP(AZ37,'Conversion Tables'!$G$8:$N$12,3,FALSE)/'Conversion Tables'!$I$12*Max_Point,0)","v":0},{"$f":"CY37*'Weighting Scale'!$D$9*DS37*DT37","v":0},{"$f":"IFERROR(VLOOKUP(BB37,'Conversion Tables'!$B$8:$C$32,2,FALSE),0)","v":0},{"$f":"IFERROR(VLOOKUP(BC37,'Conversion Tables'!$B$8:$C$32,2,FALSE),0)","v":0},{"$f":"(DA37-DB37)/'Conversion Tables'!$C$32*Max_Point","v":0},{"$f":"DC37*'Weighting Scale'!$D$10*DS37*DT37","v":0},{"$f":"IFERROR(VLOOKUP(BE37,'Conversion Tables'!$G$8:$N$12,2, FALSE)/'Conversion Tables'!$H$12*Max_Point,0)","v":0},{"$f":"DE37*'Weighting Scale'!$D$11*DS37*DT37","v":0},{"$f":"IFERROR(VLOOKUP(BF37,'Conversion Tables'!$G$8:$N$12,6,FALSE)/'Conversion Tables'!$L$12*Max_Point,0)","v":0},{"$f":"DG37*'Weighting Scale'!$D$14*DS37*DT37","v":0},{"$f":"IFERROR(VLOOKUP(BG37,'Conversion Tables'!$G$8:$N$12,4,FALSE)/'Conversion Tables'!$J$12*Max_Point,0)","v":0},{"$f":"DI37*'Weighting Scale'!$D$12*DS37*DT37","v":0},{"$f":"IFERROR(VLOOKUP(BH37,'Conversion Tables'!$G$8:$N$12,5,FALSE)/'Conversion Tables'!$K$12*Max_Point,0)","v":0},{"$f":"DK37*'Weighting Scale'!$D$13*DS37*DT37","v":0},{"$f":"IFERROR(VLOOKUP(BI37,'Conversion Tables'!$G$8:$N$12,7,FALSE)/'Conversion Tables'!$M$12*Max_Point,0)","v":0},{"$f":"DM37*'Weighting Scale'!$D$15*DS37*DT37","v":0},{"$f":"IF(BJ37 = \"Yes\",('Conversion Tables'!$N$12)/'Conversion Tables'!$N$12*Max_Point,0)","v":0},{"$f":"DO37*'Weighting Scale'!$D$16*DS37*DT37","v":0},0,0,0,{"$f":"IF(I37=Dropdowns!$C$7,Dropdowns!$B$7,IF(I37=Dropdowns!$C$8,Dropdowns!$B$8,IF(I37=Dropdowns!$C$9,Dropdowns!$B$9,IF(I37=Dropdowns!$C$10,Dropdowns!$B$10,IF(I37=Dropdowns!$C$11,Dropdowns!$B$11,IF(I37=Dropdowns!$C$12,Dropdowns!$B$12,IF(I37=Dropdowns!$C$13,Dropdowns!$B$13,IF(I37=Dropdowns!$C$14,Dropdowns!$B$14,IF(I37=Dropdowns!$C$15,Dropdowns!$B$15,IF(I37=Dropdowns!$C$16,Dropdowns!$B$16,IF(I37=Dropdowns!$C$17,Dropdowns!$B$17,IF(I37=Dropdowns!$C$18,Dropdowns!$B$18,IF(I37=Dropdowns!$C$19,Dropdowns!$B$19,IF(I37=Dropdowns!$C$20,Dropdowns!$B$20,IF(I37=Dropdowns!$C$21,Dropdowns!$B$21,IF(I37=Dropdowns!$C$22,Dropdowns!$B$22,IF(I37=Dropdowns!$C$23,Dropdowns!$B$23,IF(I37=Dropdowns!$C$24,Dropdowns!$B$24,IF(I37=Dropdowns!$C$25,Dropdowns!$B$25,IF(I37=Dropdowns!$C$26,Dropdowns!$B$26,IF(I37=Dropdowns!$C$27,Dropdowns!$B$27,IF(I37=Dropdowns!$C$28,Dropdowns!$B$28,IF(I37=Dropdowns!$C$29,Dropdowns!$B$29,IF(I37=Dropdowns!$C$30,Dropdowns!$B$30,IF(I37=Dropdowns!$C$31,Dropdowns!$B$31,IF(I37=Dropdowns!$C$32,Dropdowns!$B$32,IF(I37=Dropdowns!$C$33,Dropdowns!$B$33,IF(I37=Dropdowns!$C$34,Dropdowns!$B$34,IF(I37=Dropdowns!$C$35,Dropdowns!$B$35,IF(I37=Dropdowns!$C$36,Dropdowns!$B$36,IF(I37=Dropdowns!$C$37,Dropdowns!$B$37,IF(I37=Dropdowns!$C$38,Dropdowns!$B$38,IF(I37=Dropdowns!$C$39,Dropdowns!$B$39,IF(I37=Dropdowns!$C$40,Dropdowns!$B$40,IF(I37=Dropdowns!$C$41,Dropdowns!$B$41,IF(I37=Dropdowns!$C$42,Dropdowns!$B$42,IF(I37=Dropdowns!$C$43,Dropdowns!$B$43,IF(I37=Dropdowns!$C$44,Dropdowns!$B$44,IF(I37=Dropdowns!$C$45,Dropdowns!$B$45,IF(I37=Dropdowns!$C$46,Dropdowns!$B$46,IF(I37=Dropdowns!$C$47,Dropdowns!$B$47, IF(I37=Dropdowns!$C$48,Dropdowns!$B$48,\"0\"))))))))))))))))))))))))))))))))))))))))))","v":0},{"$f":"IF(AX37=Dropdowns!$F$15,Dropdowns!$G$15,IF(AX37=Dropdowns!$F$16,Dropdowns!$G$16,IF(AX37=Dropdowns!$F$17,Dropdowns!$G$17,\"0\")))","v":"0"}]
[null,null,null,null,null,null,null,null,null,null,"-",null,null,null,null,null,null,null,null,null,null,0,null,null,null,null,null,0,null,null,null,null,null,null,0,null,null,null,null,0,0,null,0,0,0,0,"-",null,null,null,null,null,null,null,null,null,null,null,null,null,null,null,0,0,0,0,0,0,0,0,0,0,1,{"$f":"IFERROR(IF(L38=Dropdowns!$F$32,\"\",IF(J38=\"Project\",AR38/BT38,IF(J38=\"Program\",AP38/BT38,\"\"))),\"\")","v":""},"",null,null,null,null,null,null,null,null,null,{"$f":"IF($CA38=\"\",0,VLOOKUP($CA38,'Conversion Tables'!$B$37:$C$62,2,FALSE))+IF($CB38=\"\",0,VLOOKUP($CB38,'Conversion Tables'!$B$37:$C$62,2,FALSE))+IF($CC38=\"\",0,VLOOKUP($CC38,'Conversion Tables'!$B$37:$C$62,2,FALSE))+IF($CD38=\"\",0,VLOOKUP($CD38,'Conversion Tables'!$B$37:$C$62,2,FALSE))+IF($CE38=\"\",0,VLOOKUP($CE38,'Conversion Tables'!$B$37:$C$62,2,FALSE))+IF($CF38=\"\",0,VLOOKUP($CF38,'Conversion Tables'!$B$37:$C$62,2,FALSE))","v":0},null,null,null,null,null,null,{"$f":"IFERROR(VLOOKUP(CM38,Dropdowns!A$51:B$55,2,FALSE),\"\")","v":""},null,null,null,null,null,null,null,null,null,null,{"$f":"IFERROR(VLOOKUP(AZ38,'Conversion Tables'!$G$8:$N$12,3,FALSE)/'Conversion Tables'!$I$12*Max_Point,0)","v":0},{"$f":"CY38*'Weighting Scale'!$D$9*DS38*DT38","v":0},{"$f":"IFERROR(VLOOKUP(BB38,'Conversion Tables'!$B$8:$C$32,2,FALSE),0)","v":0},{"$f":"IFERROR(VLOOKUP(BC38,'Conversion Tables'!$B$8:$C$32,2,FALSE),0)","v":0},{"$f":"(DA38-DB38)/'Conversion Tables'!$C$32*Max_Point","v":0},{"$f":"DC38*'Weighting Scale'!$D$10*DS38*DT38","v":0},{"$f":"IFERROR(VLOOKUP(BE38,'Conversion Tables'!$G$8:$N$12,2, FALSE)/'Conversion Tables'!$H$12*Max_Point,0)","v":0},{"$f":"DE38*'Weighting Scale'!$D$11*DS38*DT38","v":0},{"$f":"IFERROR(VLOOKUP(BF38,'Conversion Tables'!$G$8:$N$12,6,FALSE)/'Conversion Tables'!$L$12*Max_Point,0)","v":0},{"$f":"DG38*'Weighting Scale'!$D$14*DS38*DT38","v":0},{"$f":"IFERROR(VLOOKUP(BG38,'Conversion Tables'!$G$8:$N$12,4,FALSE)/'Conversion Tables'!$J$12*Max_Point,0)","v":0},{"$f":"DI38*'Weighting Scale'!$D$12*DS38*DT38","v":0},{"$f":"IFERROR(VLOOKUP(BH38,'Conversion Tables'!$G$8:$N$12,5,FALSE)/'Conversion Tables'!$K$12*Max_Point,0)","v":0},{"$f":"DK38*'Weighting Scale'!$D$13*DS38*DT38","v":0},{"$f":"IFERROR(VLOOKUP(BI38,'Conversion Tables'!$G$8:$N$12,7,FALSE)/'Conversion Tables'!$M$12*Max_Point,0)","v":0},{"$f":"DM38*'Weighting Scale'!$D$15*DS38*DT38","v":0},{"$f":"IF(BJ38 = \"Yes\",('Conversion Tables'!$N$12)/'Conversion Tables'!$N$12*Max_Point,0)","v":0},{"$f":"DO38*'Weighting Scale'!$D$16*DS38*DT38","v":0},0,0,0,{"$f":"IF(I38=Dropdowns!$C$7,Dropdowns!$B$7,IF(I38=Dropdowns!$C$8,Dropdowns!$B$8,IF(I38=Dropdowns!$C$9,Dropdowns!$B$9,IF(I38=Dropdowns!$C$10,Dropdowns!$B$10,IF(I38=Dropdowns!$C$11,Dropdowns!$B$11,IF(I38=Dropdowns!$C$12,Dropdowns!$B$12,IF(I38=Dropdowns!$C$13,Dropdowns!$B$13,IF(I38=Dropdowns!$C$14,Dropdowns!$B$14,IF(I38=Dropdowns!$C$15,Dropdowns!$B$15,IF(I38=Dropdowns!$C$16,Dropdowns!$B$16,IF(I38=Dropdowns!$C$17,Dropdowns!$B$17,IF(I38=Dropdowns!$C$18,Dropdowns!$B$18,IF(I38=Dropdowns!$C$19,Dropdowns!$B$19,IF(I38=Dropdowns!$C$20,Dropdowns!$B$20,IF(I38=Dropdowns!$C$21,Dropdowns!$B$21,IF(I38=Dropdowns!$C$22,Dropdowns!$B$22,IF(I38=Dropdowns!$C$23,Dropdowns!$B$23,IF(I38=Dropdowns!$C$24,Dropdowns!$B$24,IF(I38=Dropdowns!$C$25,Dropdowns!$B$25,IF(I38=Dropdowns!$C$26,Dropdowns!$B$26,IF(I38=Dropdowns!$C$27,Dropdowns!$B$27,IF(I38=Dropdowns!$C$28,Dropdowns!$B$28,IF(I38=Dropdowns!$C$29,Dropdowns!$B$29,IF(I38=Dropdowns!$C$30,Dropdowns!$B$30,IF(I38=Dropdowns!$C$31,Dropdowns!$B$31,IF(I38=Dropdowns!$C$32,Dropdowns!$B$32,IF(I38=Dropdowns!$C$33,Dropdowns!$B$33,IF(I38=Dropdowns!$C$34,Dropdowns!$B$34,IF(I38=Dropdowns!$C$35,Dropdowns!$B$35,IF(I38=Dropdowns!$C$36,Dropdowns!$B$36,IF(I38=Dropdowns!$C$37,Dropdowns!$B$37,IF(I38=Dropdowns!$C$38,Dropdowns!$B$38,IF(I38=Dropdowns!$C$39,Dropdowns!$B$39,IF(I38=Dropdowns!$C$40,Dropdowns!$B$40,IF(I38=Dropdowns!$C$41,Dropdowns!$B$41,IF(I38=Dropdowns!$C$42,Dropdowns!$B$42,IF(I38=Dropdowns!$C$43,Dropdowns!$B$43,IF(I38=Dropdowns!$C$44,Dropdowns!$B$44,IF(I38=Dropdowns!$C$45,Dropdowns!$B$45,IF(I38=Dropdowns!$C$46,Dropdowns!$B$46,IF(I38=Dropdowns!$C$47,Dropdowns!$B$47, IF(I38=Dropdowns!$C$48,Dropdowns!$B$48,\"0\"))))))))))))))))))))))))))))))))))))))))))","v":0},{"$f":"IF(AX38=Dropdowns!$F$15,Dropdowns!$G$15,IF(AX38=Dropdowns!$F$16,Dropdowns!$G$16,IF(AX38=Dropdowns!$F$17,Dropdowns!$G$17,\"0\")))","v":"0"}]
[null,null,null,null,null,null,null,null,null,null,"-",null,null,null,null,null,null,null,null,null,null,0,null,null,null,null,null,0,null,null,null,null,null,null,0,null,null,null,null,0,0,null,0,0,0,0,"-",null,null,null,null,null,null,null,null,null,null,null,null,null,null,null,0,0,0,0,0,0,0,0,0,0,1,{"$f":"IFERROR(IF(L39=Dropdowns!$F$32,\"\",IF(J39=\"Project\",AR39/BT39,IF(J39=\"Program\",AP39/BT39,\"\"))),\"\")","v":""},"",null,null,null,null,null,null,null,null,null,{"$f":"IF($CA39=\"\",0,VLOOKUP($CA39,'Conversion Tables'!$B$37:$C$62,2,FALSE))+IF($CB39=\"\",0,VLOOKUP($CB39,'Conversion Tables'!$B$37:$C$62,2,FALSE))+IF($CC39=\"\",0,VLOOKUP($CC39,'Conversion Tables'!$B$37:$C$62,2,FALSE))+IF($CD39=\"\",0,VLOOKUP($CD39,'Conversion Tables'!$B$37:$C$62,2,FALSE))+IF($CE39=\"\",0,VLOOKUP($CE39,'Conversion Tables'!$B$37:$C$62,2,FALSE))+IF($CF39=\"\",0,VLOOKUP($CF39,'Conversion Tables'!$B$37:$C$62,2,FALSE))","v":0},null,null,null,null,null,null,{"$f":"IFERROR(VLOOKUP(CM39,Dropdowns!A$51:B$55,2,FALSE),\"\")","v":""},null,null,null,null,null,null,null,null,null,null,{"$f":"IFERROR(VLOOKUP(AZ39,'Conversion Tables'!$G$8:$N$12,3,FALSE)/'Conversion Tables'!$I$12*Max_Point,0)","v":0},{"$f":"CY39*'Weighting Scale'!$D$9*DS39*DT39","v":0},{"$f":"IFERROR(VLOOKUP(BB39,'Conversion Tables'!$B$8:$C$32,2,FALSE),0)","v":0},{"$f":"IFERROR(VLOOKUP(BC39,'Conversion Tables'!$B$8:$C$32,2,FALSE),0)","v":0},{"$f":"(DA39-DB39)/'Conversion Tables'!$C$32*Max_Point","v":0},{"$f":"DC39*'Weighting Scale'!$D$10*DS39*DT39","v":0},{"$f":"IFERROR(VLOOKUP(BE39,'Conversion Tables'!$G$8:$N$12,2, FALSE)/'Conversion Tables'!$H$12*Max_Point,0)","v":0},{"$f":"DE39*'Weighting Scale'!$D$11*DS39*DT39","v":0},{"$f":"IFERROR(VLOOKUP(BF39,'Conversion Tables'!$G$8:$N$12,6,FALSE)/'Conversion Tables'!$L$12*Max_Point,0)","v":0},{"$f":"DG39*'Weighting Scale'!$D$14*DS39*DT39","v":0},{"$f":"IFERROR(VLOOKUP(BG39,'Conversion Tables'!$G$8:$N$12,4,FALSE)/'Conversion Tables'!$J$12*Max_Point,0)","v":0},{"$f":"DI39*'Weighting Scale'!$D$12*DS39*DT39","v":0},{"$f":"IFERROR(VLOOKUP(BH39,'Conversion Tables'!$G$8:$N$12,5,FALSE)/'Conversion Tables'!$K$12*Max_Point,0)","v":0},{"$f":"DK39*'Weighting Scale'!$D$13*DS39*DT39","v":0},{"$f":"IFERROR(VLOOKUP(BI39,'Conversion Tables'!$G$8:$N$12,7,FALSE)/'Conversion Tables'!$M$12*Max_Point,0)","v":0},{"$f":"DM39*'Weighting Scale'!$D$15*DS39*DT39","v":0},{"$f":"IF(BJ39 = \"Yes\",('Conversion Tables'!$N$12)/'Conversion Tables'!$N$12*Max_Point,0)","v":0},{"$f":"DO39*'Weighting Scale'!$D$16*DS39*DT39","v":0},0,0,0,{"$f":"IF(I39=Dropdowns!$C$7,Dropdowns!$B$7,IF(I39=Dropdowns!$C$8,Dropdowns!$B$8,IF(I39=Dropdowns!$C$9,Dropdowns!$B$9,IF(I39=Dropdowns!$C$10,Dropdowns!$B$10,IF(I39=Dropdowns!$C$11,Dropdowns!$B$11,IF(I39=Dropdowns!$C$12,Dropdowns!$B$12,IF(I39=Dropdowns!$C$13,Dropdowns!$B$13,IF(I39=Dropdowns!$C$14,Dropdowns!$B$14,IF(I39=Dropdowns!$C$15,Dropdowns!$B$15,IF(I39=Dropdowns!$C$16,Dropdowns!$B$16,IF(I39=Dropdowns!$C$17,Dropdowns!$B$17,IF(I39=Dropdowns!$C$18,Dropdowns!$B$18,IF(I39=Dropdowns!$C$19,Dropdowns!$B$19,IF(I39=Dropdowns!$C$20,Dropdowns!$B$20,IF(I39=Dropdowns!$C$21,Dropdowns!$B$21,IF(I39=Dropdowns!$C$22,Dropdowns!$B$22,IF(I39=Dropdowns!$C$23,Dropdowns!$B$23,IF(I39=Dropdowns!$C$24,Dropdowns!$B$24,IF(I39=Dropdowns!$C$25,Dropdowns!$B$25,IF(I39=Dropdowns!$C$26,Dropdowns!$B$26,IF(I39=Dropdowns!$C$27,Dropdowns!$B$27,IF(I39=Dropdowns!$C$28,Dropdowns!$B$28,IF(I39=Dropdowns!$C$29,Dropdowns!$B$29,IF(I39=Dropdowns!$C$30,Dropdowns!$B$30,IF(I39=Dropdowns!$C$31,Dropdowns!$B$31,IF(I39=Dropdowns!$C$32,Dropdowns!$B$32,IF(I39=Dropdowns!$C$33,Dropdowns!$B$33,IF(I39=Dropdowns!$C$34,Dropdowns!$B$34,IF(I39=Dropdowns!$C$35,Dropdowns!$B$35,IF(I39=Dropdowns!$C$36,Dropdowns!$B$36,IF(I39=Dropdowns!$C$37,Dropdowns!$B$37,IF(I39=Dropdowns!$C$38,Dropdowns!$B$38,IF(I39=Dropdowns!$C$39,Dropdowns!$B$39,IF(I39=Dropdowns!$C$40,Dropdowns!$B$40,IF(I39=Dropdowns!$C$41,Dropdowns!$B$41,IF(I39=Dropdowns!$C$42,Dropdowns!$B$42,IF(I39=Dropdowns!$C$43,Dropdowns!$B$43,IF(I39=Dropdowns!$C$44,Dropdowns!$B$44,IF(I39=Dropdowns!$C$45,Dropdowns!$B$45,IF(I39=Dropdowns!$C$46,Dropdowns!$B$46,IF(I39=Dropdowns!$C$47,Dropdowns!$B$47, IF(I39=Dropdowns!$C$48,Dropdowns!$B$48,\"0\"))))))))))))))))))))))))))))))))))))))))))","v":0},{"$f":"IF(AX39=Dropdowns!$F$15,Dropdowns!$G$15,IF(AX39=Dropdowns!$F$16,Dropdowns!$G$16,IF(AX39=Dropdowns!$F$17,Dropdowns!$G$17,\"0\")))","v":"0"}]
[null,null,null,null,null,null,null,null,null,null,"-",null,null,null,null,null,null,null,null,null,null,0,null,null,null,null,null,0,null,null,null,null,null,null,0,null,null,null,null,0,0,null,0,0,0,0,"-",null,null,null,null,null,null,null,null,null,null,null,null,null,null,null,0,0,0,0,0,0,0,0,0,0,1,{"$f":"IFERROR(IF(L40=Dropdowns!$F$32,\"\",IF(J40=\"Project\",AR40/BT40,IF(J40=\"Program\",AP40/BT40,\"\"))),\"\")","v":""},"",null,null,null,null,null,null,null,null,null,{"$f":"IF($CA40=\"\",0,VLOOKUP($CA40,'Conversion Tables'!$B$37:$C$62,2,FALSE))+IF($CB40=\"\",0,VLOOKUP($CB40,'Conversion Tables'!$B$37:$C$62,2,FALSE))+IF($CC40=\"\",0,VLOOKUP($CC40,'Conversion Tables'!$B$37:$C$62,2,FALSE))+IF($CD40=\"\",0,VLOOKUP($CD40,'Conversion Tables'!$B$37:$C$62,2,FALSE))+IF($CE40=\"\",0,VLOOKUP($CE40,'Conversion Tables'!$B$37:$C$62,2,FALSE))+IF($CF40=\"\",0,VLOOKUP($CF40,'Conversion Tables'!$B$37:$C$62,2,FALSE))","v":0},null,null,null,null,null,null,{"$f":"IFERROR(VLOOKUP(CM40,Dropdowns!A$51:B$55,2,FALSE),\"\")","v":""},null,null,null,null,null,null,null,null,null,null,{"$f":"IFERROR(VLOOKUP(AZ40,'Conversion Tables'!$G$8:$N$12,3,FALSE)/'Conversion Tables'!$I$12*Max_Point,0)","v":0},{"$f":"CY40*'Weighting Scale'!$D$9*DS40*DT40","v":0},{"$f":"IFERROR(VLOOKUP(BB40,'Conversion Tables'!$B$8:$C$32,2,FALSE),0)","v":0},{"$f":"IFERROR(VLOOKUP(BC40,'Conversion Tables'!$B$8:$C$32,2,FALSE),0)","v":0},{"$f":"(DA40-DB40)/'Conversion Tables'!$C$32*Max_Point","v":0},{"$f":"DC40*'Weighting Scale'!$D$10*DS40*DT40","v":0},{"$f":"IFERROR(VLOOKUP(BE40,'Conversion Tables'!$G$8:$N$12,2, FALSE)/'Conversion Tables'!$H$12*Max_Point,0)","v":0},{"$f":"DE40*'Weighting Scale'!$D$11*DS40*DT40","v":0},{"$f":"IFERROR(VLOOKUP(BF40,'Conversion Tables'!$G$8:$N$12,6,FALSE)/'Conversion Tables'!$L$12*Max_Point,0)","v":0},{"$f":"DG40*'Weighting Scale'!$D$14*DS40*DT40","v":0},{"$f":"IFERROR(VLOOKUP(BG40,'Conversion Tables'!$G$8:$N$12,4,FALSE)/'Conversion Tables'!$J$12*Max_Point,0)","v":0},{"$f":"DI40*'Weighting Scale'!$D$12*DS40*DT40","v":0},{"$f":"IFERROR(VLOOKUP(BH40,'Conversion Tables'!$G$8:$N$12,5,FALSE)/'Conversion Tables'!$K$12*Max_Point,0)","v":0},{"$f":"DK40*'Weighting Scale'!$D$13*DS40*DT40","v":0},{"$f":"IFERROR(VLOOKUP(BI40,'Conversion Tables'!$G$8:$N$12,7,FALSE)/'Conversion Tables'!$M$12*Max_Point,0)","v":0},{"$f":"DM40*'Weighting Scale'!$D$15*DS40*DT40","v":0},{"$f":"IF(BJ40 = \"Yes\",('Conversion Tables'!$N$12)/'Conversion Tables'!$N$12*Max_Point,0)","v":0},{"$f":"DO40*'Weighting Scale'!$D$16*DS40*DT40","v":0},0,0,0,{"$f":"IF(I40=Dropdowns!$C$7,Dropdowns!$B$7,IF(I40=Dropdowns!$C$8,Dropdowns!$B$8,IF(I40=Dropdowns!$C$9,Dropdowns!$B$9,IF(I40=Dropdowns!$C$10,Dropdowns!$B$10,IF(I40=Dropdowns!$C$11,Dropdowns!$B$11,IF(I40=Dropdowns!$C$12,Dropdowns!$B$12,IF(I40=Dropdowns!$C$13,Dropdowns!$B$13,IF(I40=Dropdowns!$C$14,Dropdowns!$B$14,IF(I40=Dropdowns!$C$15,Dropdowns!$B$15,IF(I40=Dropdowns!$C$16,Dropdowns!$B$16,IF(I40=Dropdowns!$C$17,Dropdowns!$B$17,IF(I40=Dropdowns!$C$18,Dropdowns!$B$18,IF(I40=Dropdowns!$C$19,Dropdowns!$B$19,IF(I40=Dropdowns!$C$20,Dropdowns!$B$20,IF(I40=Dropdowns!$C$21,Dropdowns!$B$21,IF(I40=Dropdowns!$C$22,Dropdowns!$B$22,IF(I40=Dropdowns!$C$23,Dropdowns!$B$23,IF(I40=Dropdowns!$C$24,Dropdowns!$B$24,IF(I40=Dropdowns!$C$25,Dropdowns!$B$25,IF(I40=Dropdowns!$C$26,Dropdowns!$B$26,IF(I40=Dropdowns!$C$27,Dropdowns!$B$27,IF(I40=Dropdowns!$C$28,Dropdowns!$B$28,IF(I40=Dropdowns!$C$29,Dropdowns!$B$29,IF(I40=Dropdowns!$C$30,Dropdowns!$B$30,IF(I40=Dropdowns!$C$31,Dropdowns!$B$31,IF(I40=Dropdowns!$C$32,Dropdowns!$B$32,IF(I40=Dropdowns!$C$33,Dropdowns!$B$33,IF(I40=Dropdowns!$C$34,Dropdowns!$B$34,IF(I40=Dropdowns!$C$35,Dropdowns!$B$35,IF(I40=Dropdowns!$C$36,Dropdowns!$B$36,IF(I40=Dropdowns!$C$37,Dropdowns!$B$37,IF(I40=Dropdowns!$C$38,Dropdowns!$B$38,IF(I40=Dropdowns!$C$39,Dropdowns!$B$39,IF(I40=Dropdowns!$C$40,Dropdowns!$B$40,IF(I40=Dropdowns!$C$41,Dropdowns!$B$41,IF(I40=Dropdowns!$C$42,Dropdowns!$B$42,IF(I40=Dropdowns!$C$43,Dropdowns!$B$43,IF(I40=Dropdowns!$C$44,Dropdowns!$B$44,IF(I40=Dropdowns!$C$45,Dropdowns!$B$45,IF(I40=Dropdowns!$C$46,Dropdowns!$B$46,IF(I40=Dropdowns!$C$47,Dropdowns!$B$47, IF(I40=Dropdowns!$C$48,Dropdowns!$B$48,\"0\"))))))))))))))))))))))))))))))))))))))))))","v":0},{"$f":"IF(AX40=Dropdowns!$F$15,Dropdowns!$G$15,IF(AX40=Dropdowns!$F$16,Dropdowns!$G$16,IF(AX40=Dropdowns!$F$17,Dropdowns!$G$17,\"0\")))","v":"0"}]
[null,null,null,null,null,null,null,null,null,null,"-",null,null,null,null,null,null,null,null,null,null,0,null,null,null,null,null,0,null,null,null,null,null,null,0,null,null,null,null,0,0,null,0,0,0,0,"-",null,null,null,null,null,null,null,null,null,null,null,null,null,null,null,0,0,0,0,0,0,0,0,0,0,1,{"$f":"IFERROR(IF(L41=Dropdowns!$F$32,\"\",IF(J41=\"Project\",AR41/BT41,IF(J41=\"Program\",AP41/BT41,\"\"))),\"\")","v":""},"",null,null,null,null,null,null,null,null,null,{"$f":"IF($CA41=\"\",0,VLOOKUP($CA41,'Conversion Tables'!$B$37:$C$62,2,FALSE))+IF($CB41=\"\",0,VLOOKUP($CB41,'Conversion Tables'!$B$37:$C$62,2,FALSE))+IF($CC41=\"\",0,VLOOKUP($CC41,'Conversion Tables'!$B$37:$C$62,2,FALSE))+IF($CD41=\"\",0,VLOOKUP($CD41,'Conversion Tables'!$B$37:$C$62,2,FALSE))+IF($CE41=\"\",0,VLOOKUP($CE41,'Conversion Tables'!$B$37:$C$62,2,FALSE))+IF($CF41=\"\",0,VLOOKUP($CF41,'Conversion Tables'!$B$37:$C$62,2,FALSE))","v":0},null,null,null,null,null,null,{"$f":"IFERROR(VLOOKUP(CM41,Dropdowns!A$51:B$55,2,FALSE),\"\")","v":""},null,null,null,null,null,null,null,null,null,null,{"$f":"IFERROR(VLOOKUP(AZ41,'Conversion Tables'!$G$8:$N$12,3,FALSE)/'Conversion Tables'!$I$12*Max_Point,0)","v":0},{"$f":"CY41*'Weighting Scale'!$D$9*DS41*DT41","v":0},{"$f":"IFERROR(VLOOKUP(BB41,'Conversion Tables'!$B$8:$C$32,2,FALSE),0)","v":0},{"$f":"IFERROR(VLOOKUP(BC41,'Conversion Tables'!$B$8:$C$32,2,FALSE),0)","v":0},{"$f":"(DA41-DB41)/'Conversion Tables'!$C$32*Max_Point","v":0},{"$f":"DC41*'Weighting Scale'!$D$10*DS41*DT41","v":0},{"$f":"IFERROR(VLOOKUP(BE41,'Conversion Tables'!$G$8:$N$12,2, FALSE)/'Conversion Tables'!$H$12*Max_Point,0)","v":0},{"$f":"DE41*'Weighting Scale'!$D$11*DS41*DT41","v":0},{"$f":"IFERROR(VLOOKUP(BF41,'Conversion Tables'!$G$8:$N$12,6,FALSE)/'Conversion Tables'!$L$12*Max_Point,0)","v":0},{"$f":"DG41*'Weighting Scale'!$D$14*DS41*DT41","v":0},{"$f":"IFERROR(VLOOKUP(BG41,'Conversion Tables'!$G$8:$N$12,4,FALSE)/'Conversion Tables'!$J$12*Max_Point,0)","v":0},{"$f":"DI41*'Weighting Scale'!$D$12*DS41*DT41","v":0},{"$f":"IFERROR(VLOOKUP(BH41,'Conversion Tables'!$G$8:$N$12,5,FALSE)/'Conversion Tables'!$K$12*Max_Point,0)","v":0},{"$f":"DK41*'Weighting Scale'!$D$13*DS41*DT41","v":0},{"$f":"IFERROR(VLOOKUP(BI41,'Conversion Tables'!$G$8:$N$12,7,FALSE)/'Conversion Tables'!$M$12*Max_Point,0)","v":0},{"$f":"DM41*'Weighting Scale'!$D$15*DS41*DT41","v":0},{"$f":"IF(BJ41 = \"Yes\",('Conversion Tables'!$N$12)/'Conversion Tables'!$N$12*Max_Point,0)","v":0},{"$f":"DO41*'Weighting Scale'!$D$16*DS41*DT41","v":0},0,0,0,{"$f":"IF(I41=Dropdowns!$C$7,Dropdowns!$B$7,IF(I41=Dropdowns!$C$8,Dropdowns!$B$8,IF(I41=Dropdowns!$C$9,Dropdowns!$B$9,IF(I41=Dropdowns!$C$10,Dropdowns!$B$10,IF(I41=Dropdowns!$C$11,Dropdowns!$B$11,IF(I41=Dropdowns!$C$12,Dropdowns!$B$12,IF(I41=Dropdowns!$C$13,Dropdowns!$B$13,IF(I41=Dropdowns!$C$14,Dropdowns!$B$14,IF(I41=Dropdowns!$C$15,Dropdowns!$B$15,IF(I41=Dropdowns!$C$16,Dropdowns!$B$16,IF(I41=Dropdowns!$C$17,Dropdowns!$B$17,IF(I41=Dropdowns!$C$18,Dropdowns!$B$18,IF(I41=Dropdowns!$C$19,Dropdowns!$B$19,IF(I41=Dropdowns!$C$20,Dropdowns!$B$20,IF(I41=Dropdowns!$C$21,Dropdowns!$B$21,IF(I41=Dropdowns!$C$22,Dropdowns!$B$22,IF(I41=Dropdowns!$C$23,Dropdowns!$B$23,IF(I41=Dropdowns!$C$24,Dropdowns!$B$24,IF(I41=Dropdowns!$C$25,Dropdowns!$B$25,IF(I41=Dropdowns!$C$26,Dropdowns!$B$26,IF(I41=Dropdowns!$C$27,Dropdowns!$B$27,IF(I41=Dropdowns!$C$28,Dropdowns!$B$28,IF(I41=Dropdowns!$C$29,Dropdowns!$B$29,IF(I41=Dropdowns!$C$30,Dropdowns!$B$30,IF(I41=Dropdowns!$C$31,Dropdowns!$B$31,IF(I41=Dropdowns!$C$32,Dropdowns!$B$32,IF(I41=Dropdowns!$C$33,Dropdowns!$B$33,IF(I41=Dropdowns!$C$34,Dropdowns!$B$34,IF(I41=Dropdowns!$C$35,Dropdowns!$B$35,IF(I41=Dropdowns!$C$36,Dropdowns!$B$36,IF(I41=Dropdowns!$C$37,Dropdowns!$B$37,IF(I41=Dropdowns!$C$38,Dropdowns!$B$38,IF(I41=Dropdowns!$C$39,Dropdowns!$B$39,IF(I41=Dropdowns!$C$40,Dropdowns!$B$40,IF(I41=Dropdowns!$C$41,Dropdowns!$B$41,IF(I41=Dropdowns!$C$42,Dropdowns!$B$42,IF(I41=Dropdowns!$C$43,Dropdowns!$B$43,IF(I41=Dropdowns!$C$44,Dropdowns!$B$44,IF(I41=Dropdowns!$C$45,Dropdowns!$B$45,IF(I41=Dropdowns!$C$46,Dropdowns!$B$46,IF(I41=Dropdowns!$C$47,Dropdowns!$B$47, IF(I41=Dropdowns!$C$48,Dropdowns!$B$48,\"0\"))))))))))))))))))))))))))))))))))))))))))","v":0},{"$f":"IF(AX41=Dropdowns!$F$15,Dropdowns!$G$15,IF(AX41=Dropdowns!$F$16,Dropdowns!$G$16,IF(AX41=Dropdowns!$F$17,Dropdowns!$G$17,\"0\")))","v":"0"}]
[null,null,null,null,null,null,null,null,null,null,"-",null,null,null,null,null,null,null,null,null,null,0,null,null,null,null,null,0,null,null,null,null,null,null,0,null,null,null,null,0,0,null,0,0,0,0,"-",null,null,null,null,null,null,null,null,null,null,null,null,null,null,null,0,0,0,0,0,0,0,0,0,0,1,{"$f":"IFERROR(IF(L42=Dropdowns!$F$32,\"\",IF(J42=\"Project\",AR42/BT42,IF(J42=\"Program\",AP42/BT42,\"\"))),\"\")","v":""},"",null,null,null,null,null,null,null,null,null,{"$f":"IF($CA42=\"\",0,VLOOKUP($CA42,'Conversion Tables'!$B$37:$C$62,2,FALSE))+IF($CB42=\"\",0,VLOOKUP($CB42,'Conversion Tables'!$B$37:$C$62,2,FALSE))+IF($CC42=\"\",0,VLOOKUP($CC42,'Conversion Tables'!$B$37:$C$62,2,FALSE))+IF($CD42=\"\",0,VLOOKUP($CD42,'Conversion Tables'!$B$37:$C$62,2,FALSE))+IF($CE42=\"\",0,VLOOKUP($CE42,'Conversion Tables'!$B$37:$C$62,2,FALSE))+IF($CF42=\"\",0,VLOOKUP($CF42,'Conversion Tables'!$B$37:$C$62,2,FALSE))","v":0},null,null,null,null,null,null,{"$f":"IFERROR(VLOOKUP(CM42,Dropdowns!A$51:B$55,2,FALSE),\"\")","v":""},null,null,null,null,null,null,null,null,null,null,{"$f":"IFERROR(VLOOKUP(AZ42,'Conversion Tables'!$G$8:$N$12,3,FALSE)/'Conversion Tables'!$I$12*Max_Point,0)","v":0},{"$f":"CY42*'Weighting Scale'!$D$9*DS42*DT42","v":0},{"$f":"IFERROR(VLOOKUP(BB42,'Conversion Tables'!$B$8:$C$32,2,FALSE),0)","v":0},{"$f":"IFERROR(VLOOKUP(BC42,'Conversion Tables'!$B$8:$C$32,2,FALSE),0)","v":0},{"$f":"(DA42-DB42)/'Conversion Tables'!$C$32*Max_Point","v":0},{"$f":"DC42*'Weighting Scale'!$D$10*DS42*DT42","v":0},{"$f":"IFERROR(VLOOKUP(BE42,'Conversion Tables'!$G$8:$N$12,2, FALSE)/'Conversion Tables'!$H$12*Max_Point,0)","v":0},{"$f":"DE42*'Weighting Scale'!$D$11*DS42*DT42","v":0},{"$f":"IFERROR(VLOOKUP(BF42,'Conversion Tables'!$G$8:$N$12,6,FALSE)/'Conversion Tables'!$L$12*Max_Point,0)","v":0},{"$f":"DG42*'Weighting Scale'!$D$14*DS42*DT42","v":0},{"$f":"IFERROR(VLOOKUP(BG42,'Conversion Tables'!$G$8:$N$12,4,FALSE)/'Conversion Tables'!$J$12*Max_Point,0)","v":0},{"$f":"DI42*'Weighting Scale'!$D$12*DS42*DT42","v":0},{"$f":"IFERROR(VLOOKUP(BH42,'Conversion Tables'!$G$8:$N$12,5,FALSE)/'Conversion Tables'!$K$12*Max_Point,0)","v":0},{"$f":"DK42*'Weighting Scale'!$D$13*DS42*DT42","v":0},{"$f":"IFERROR(VLOOKUP(BI42,'Conversion Tables'!$G$8:$N$12,7,FALSE)/'Conversion Tables'!$M$12*Max_Point,0)","v":0},{"$f":"DM42*'Weighting Scale'!$D$15*DS42*DT42","v":0},{"$f":"IF(BJ42 = \"Yes\",('Conversion Tables'!$N$12)/'Conversion Tables'!$N$12*Max_Point,0)","v":0},{"$f":"DO42*'Weighting Scale'!$D$16*DS42*DT42","v":0},0,0,0,{"$f":"IF(I42=Dropdowns!$C$7,Dropdowns!$B$7,IF(I42=Dropdowns!$C$8,Dropdowns!$B$8,IF(I42=Dropdowns!$C$9,Dropdowns!$B$9,IF(I42=Dropdowns!$C$10,Dropdowns!$B$10,IF(I42=Dropdowns!$C$11,Dropdowns!$B$11,IF(I42=Dropdowns!$C$12,Dropdowns!$B$12,IF(I42=Dropdowns!$C$13,Dropdowns!$B$13,IF(I42=Dropdowns!$C$14,Dropdowns!$B$14,IF(I42=Dropdowns!$C$15,Dropdowns!$B$15,IF(I42=Dropdowns!$C$16,Dropdowns!$B$16,IF(I42=Dropdowns!$C$17,Dropdowns!$B$17,IF(I42=Dropdowns!$C$18,Dropdowns!$B$18,IF(I42=Dropdowns!$C$19,Dropdowns!$B$19,IF(I42=Dropdowns!$C$20,Dropdowns!$B$20,IF(I42=Dropdowns!$C$21,Dropdowns!$B$21,IF(I42=Dropdowns!$C$22,Dropdowns!$B$22,IF(I42=Dropdowns!$C$23,Dropdowns!$B$23,IF(I42=Dropdowns!$C$24,Dropdowns!$B$24,IF(I42=Dropdowns!$C$25,Dropdowns!$B$25,IF(I42=Dropdowns!$C$26,Dropdowns!$B$26,IF(I42=Dropdowns!$C$27,Dropdowns!$B$27,IF(I42=Dropdowns!$C$28,Dropdowns!$B$28,IF(I42=Dropdowns!$C$29,Dropdowns!$B$29,IF(I42=Dropdowns!$C$30,Dropdowns!$B$30,IF(I42=Dropdowns!$C$31,Dropdowns!$B$31,IF(I42=Dropdowns!$C$32,Dropdowns!$B$32,IF(I42=Dropdowns!$C$33,Dropdowns!$B$33,IF(I42=Dropdowns!$C$34,Dropdowns!$B$34,IF(I42=Dropdowns!$C$35,Dropdowns!$B$35,IF(I42=Dropdowns!$C$36,Dropdowns!$B$36,IF(I42=Dropdowns!$C$37,Dropdowns!$B$37,IF(I42=Dropdowns!$C$38,Dropdowns!$B$38,IF(I42=Dropdowns!$C$39,Dropdowns!$B$39,IF(I42=Dropdowns!$C$40,Dropdowns!$B$40,IF(I42=Dropdowns!$C$41,Dropdowns!$B$41,IF(I42=Dropdowns!$C$42,Dropdowns!$B$42,IF(I42=Dropdowns!$C$43,Dropdowns!$B$43,IF(I42=Dropdowns!$C$44,Dropdowns!$B$44,IF(I42=Dropdowns!$C$45,Dropdowns!$B$45,IF(I42=Dropdowns!$C$46,Dropdowns!$B$46,IF(I42=Dropdowns!$C$47,Dropdowns!$B$47, IF(I42=Dropdowns!$C$48,Dropdowns!$B$48,\"0\"))))))))))))))))))))))))))))))))))))))))))","v":0},{"$f":"IF(AX42=Dropdowns!$F$15,Dropdowns!$G$15,IF(AX42=Dropdowns!$F$16,Dropdowns!$G$16,IF(AX42=Dropdowns!$F$17,Dropdowns!$G$17,\"0\")))","v":"0"}]
[null,null,null,null,null,null,null,null,null,null,"-",null,null,null,null,null,null,null,null,null,null,0,null,null,null,null,null,0,null,null,null,null,null,null,0,null,null,null,null,0,0,null,0,0,0,0,"-",null,null,null,null,null,null,null,null,null,null,null,null,null,null,null,0,0,0,0,0,0,0,0,0,0,1,{"$f":"IFERROR(IF(L43=Dropdowns!$F$32,\"\",IF(J43=\"Project\",AR43/BT43,IF(J43=\"Program\",AP43/BT43,\"\"))),\"\")","v":""},"",null,null,null,null,null,null,null,null,null,{"$f":"IF($CA43=\"\",0,VLOOKUP($CA43,'Conversion Tables'!$B$37:$C$62,2,FALSE))+IF($CB43=\"\",0,VLOOKUP($CB43,'Conversion Tables'!$B$37:$C$62,2,FALSE))+IF($CC43=\"\",0,VLOOKUP($CC43,'Conversion Tables'!$B$37:$C$62,2,FALSE))+IF($CD43=\"\",0,VLOOKUP($CD43,'Conversion Tables'!$B$37:$C$62,2,FALSE))+IF($CE43=\"\",0,VLOOKUP($CE43,'Conversion Tables'!$B$37:$C$62,2,FALSE))+IF($CF43=\"\",0,VLOOKUP($CF43,'Conversion Tables'!$B$37:$C$62,2,FALSE))","v":0},null,null,null,null,null,null,{"$f":"IFERROR(VLOOKUP(CM43,Dropdowns!A$51:B$55,2,FALSE),\"\")","v":""},null,null,null,null,null,null,null,null,null,null,{"$f":"IFERROR(VLOOKUP(AZ43,'Conversion Tables'!$G$8:$N$12,3,FALSE)/'Conversion Tables'!$I$12*Max_Point,0)","v":0},{"$f":"CY43*'Weighting Scale'!$D$9*DS43*DT43","v":0},{"$f":"IFERROR(VLOOKUP(BB43,'Conversion Tables'!$B$8:$C$32,2,FALSE),0)","v":0},{"$f":"IFERROR(VLOOKUP(BC43,'Conversion Tables'!$B$8:$C$32,2,FALSE),0)","v":0},{"$f":"(DA43-DB43)/'Conversion Tables'!$C$32*Max_Point","v":0},{"$f":"DC43*'Weighting Scale'!$D$10*DS43*DT43","v":0},{"$f":"IFERROR(VLOOKUP(BE43,'Conversion Tables'!$G$8:$N$12,2, FALSE)/'Conversion Tables'!$H$12*Max_Point,0)","v":0},{"$f":"DE43*'Weighting Scale'!$D$11*DS43*DT43","v":0},{"$f":"IFERROR(VLOOKUP(BF43,'Conversion Tables'!$G$8:$N$12,6,FALSE)/'Conversion Tables'!$L$12*Max_Point,0)","v":0},{"$f":"DG43*'Weighting Scale'!$D$14*DS43*DT43","v":0},{"$f":"IFERROR(VLOOKUP(BG43,'Conversion Tables'!$G$8:$N$12,4,FALSE)/'Conversion Tables'!$J$12*Max_Point,0)","v":0},{"$f":"DI43*'Weighting Scale'!$D$12*DS43*DT43","v":0},{"$f":"IFERROR(VLOOKUP(BH43,'Conversion Tables'!$G$8:$N$12,5,FALSE)/'Conversion Tables'!$K$12*Max_Point,0)","v":0},{"$f":"DK43*'Weighting Scale'!$D$13*DS43*DT43","v":0},{"$f":"IFERROR(VLOOKUP(BI43,'Conversion Tables'!$G$8:$N$12,7,FALSE)/'Conversion Tables'!$M$12*Max_Point,0)","v":0},{"$f":"DM43*'Weighting Scale'!$D$15*DS43*DT43","v":0},{"$f":"IF(BJ43 = \"Yes\",('Conversion Tables'!$N$12)/'Conversion Tables'!$N$12*Max_Point,0)","v":0},{"$f":"DO43*'Weighting Scale'!$D$16*DS43*DT43","v":0},0,0,0,{"$f":"IF(I43=Dropdowns!$C$7,Dropdowns!$B$7,IF(I43=Dropdowns!$C$8,Dropdowns!$B$8,IF(I43=Dropdowns!$C$9,Dropdowns!$B$9,IF(I43=Dropdowns!$C$10,Dropdowns!$B$10,IF(I43=Dropdowns!$C$11,Dropdowns!$B$11,IF(I43=Dropdowns!$C$12,Dropdowns!$B$12,IF(I43=Dropdowns!$C$13,Dropdowns!$B$13,IF(I43=Dropdowns!$C$14,Dropdowns!$B$14,IF(I43=Dropdowns!$C$15,Dropdowns!$B$15,IF(I43=Dropdowns!$C$16,Dropdowns!$B$16,IF(I43=Dropdowns!$C$17,Dropdowns!$B$17,IF(I43=Dropdowns!$C$18,Dropdowns!$B$18,IF(I43=Dropdowns!$C$19,Dropdowns!$B$19,IF(I43=Dropdowns!$C$20,Dropdowns!$B$20,IF(I43=Dropdowns!$C$21,Dropdowns!$B$21,IF(I43=Dropdowns!$C$22,Dropdowns!$B$22,IF(I43=Dropdowns!$C$23,Dropdowns!$B$23,IF(I43=Dropdowns!$C$24,Dropdowns!$B$24,IF(I43=Dropdowns!$C$25,Dropdowns!$B$25,IF(I43=Dropdowns!$C$26,Dropdowns!$B$26,IF(I43=Dropdowns!$C$27,Dropdowns!$B$27,IF(I43=Dropdowns!$C$28,Dropdowns!$B$28,IF(I43=Dropdowns!$C$29,Dropdowns!$B$29,IF(I43=Dropdowns!$C$30,Dropdowns!$B$30,IF(I43=Dropdowns!$C$31,Dropdowns!$B$31,IF(I43=Dropdowns!$C$32,Dropdowns!$B$32,IF(I43=Dropdowns!$C$33,Dropdowns!$B$33,IF(I43=Dropdowns!$C$34,Dropdowns!$B$34,IF(I43=Dropdowns!$C$35,Dropdowns!$B$35,IF(I43=Dropdowns!$C$36,Dropdowns!$B$36,IF(I43=Dropdowns!$C$37,Dropdowns!$B$37,IF(I43=Dropdowns!$C$38,Dropdowns!$B$38,IF(I43=Dropdowns!$C$39,Dropdowns!$B$39,IF(I43=Dropdowns!$C$40,Dropdowns!$B$40,IF(I43=Dropdowns!$C$41,Dropdowns!$B$41,IF(I43=Dropdowns!$C$42,Dropdowns!$B$42,IF(I43=Dropdowns!$C$43,Dropdowns!$B$43,IF(I43=Dropdowns!$C$44,Dropdowns!$B$44,IF(I43=Dropdowns!$C$45,Dropdowns!$B$45,IF(I43=Dropdowns!$C$46,Dropdowns!$B$46,IF(I43=Dropdowns!$C$47,Dropdowns!$B$47, IF(I43=Dropdowns!$C$48,Dropdowns!$B$48,\"0\"))))))))))))))))))))))))))))))))))))))))))","v":0},{"$f":"IF(AX43=Dropdowns!$F$15,Dropdowns!$G$15,IF(AX43=Dropdowns!$F$16,Dropdowns!$G$16,IF(AX43=Dropdowns!$F$17,Dropdowns!$G$17,\"0\")))","v":"0"}]
[null,null,null,null,null,null,null,null,null,null,"-",null,null,null,null,null,null,null,null,null,null,0,null,null,null,null,null,0,null,null,null,null,null,null,0,null,null,null,null,0,0,null,0,0,0,0,"-",null,null,null,null,null,null,null,null,null,null,null,null,null,null,null,0,0,0,0,0,0,0,0,0,0,1,{"$f":"IFERROR(IF(L44=Dropdowns!$F$32,\"\",IF(J44=\"Project\",AR44/BT44,IF(J44=\"Program\",AP44/BT44,\"\"))),\"\")","v":""},"",null,null,null,null,null,null,null,null,null,{"$f":"IF($CA44=\"\",0,VLOOKUP($CA44,'Conversion Tables'!$B$37:$C$62,2,FALSE))+IF($CB44=\"\",0,VLOOKUP($CB44,'Conversion Tables'!$B$37:$C$62,2,FALSE))+IF($CC44=\"\",0,VLOOKUP($CC44,'Conversion Tables'!$B$37:$C$62,2,FALSE))+IF($CD44=\"\",0,VLOOKUP($CD44,'Conversion Tables'!$B$37:$C$62,2,FALSE))+IF($CE44=\"\",0,VLOOKUP($CE44,'Conversion Tables'!$B$37:$C$62,2,FALSE))+IF($CF44=\"\",0,VLOOKUP($CF44,'Conversion Tables'!$B$37:$C$62,2,FALSE))","v":0},null,null,null,null,null,null,{"$f":"IFERROR(VLOOKUP(CM44,Dropdowns!A$51:B$55,2,FALSE),\"\")","v":""},null,null,null,null,null,null,null,null,null,null,{"$f":"IFERROR(VLOOKUP(AZ44,'Conversion Tables'!$G$8:$N$12,3,FALSE)/'Conversion Tables'!$I$12*Max_Point,0)","v":0},{"$f":"CY44*'Weighting Scale'!$D$9*DS44*DT44","v":0},{"$f":"IFERROR(VLOOKUP(BB44,'Conversion Tables'!$B$8:$C$32,2,FALSE),0)","v":0},{"$f":"IFERROR(VLOOKUP(BC44,'Conversion Tables'!$B$8:$C$32,2,FALSE),0)","v":0},{"$f":"(DA44-DB44)/'Conversion Tables'!$C$32*Max_Point","v":0},{"$f":"DC44*'Weighting Scale'!$D$10*DS44*DT44","v":0},{"$f":"IFERROR(VLOOKUP(BE44,'Conversion Tables'!$G$8:$N$12,2, FALSE)/'Conversion Tables'!$H$12*Max_Point,0)","v":0},{"$f":"DE44*'Weighting Scale'!$D$11*DS44*DT44","v":0},{"$f":"IFERROR(VLOOKUP(BF44,'Conversion Tables'!$G$8:$N$12,6,FALSE)/'Conversion Tables'!$L$12*Max_Point,0)","v":0},{"$f":"DG44*'Weighting Scale'!$D$14*DS44*DT44","v":0},{"$f":"IFERROR(VLOOKUP(BG44,'Conversion Tables'!$G$8:$N$12,4,FALSE)/'Conversion Tables'!$J$12*Max_Point,0)","v":0},{"$f":"DI44*'Weighting Scale'!$D$12*DS44*DT44","v":0},{"$f":"IFERROR(VLOOKUP(BH44,'Conversion Tables'!$G$8:$N$12,5,FALSE)/'Conversion Tables'!$K$12*Max_Point,0)","v":0},{"$f":"DK44*'Weighting Scale'!$D$13*DS44*DT44","v":0},{"$f":"IFERROR(VLOOKUP(BI44,'Conversion Tables'!$G$8:$N$12,7,FALSE)/'Conversion Tables'!$M$12*Max_Point,0)","v":0},{"$f":"DM44*'Weighting Scale'!$D$15*DS44*DT44","v":0},{"$f":"IF(BJ44 = \"Yes\",('Conversion Tables'!$N$12)/'Conversion Tables'!$N$12*Max_Point,0)","v":0},{"$f":"DO44*'Weighting Scale'!$D$16*DS44*DT44","v":0},0,0,0,{"$f":"IF(I44=Dropdowns!$C$7,Dropdowns!$B$7,IF(I44=Dropdowns!$C$8,Dropdowns!$B$8,IF(I44=Dropdowns!$C$9,Dropdowns!$B$9,IF(I44=Dropdowns!$C$10,Dropdowns!$B$10,IF(I44=Dropdowns!$C$11,Dropdowns!$B$11,IF(I44=Dropdowns!$C$12,Dropdowns!$B$12,IF(I44=Dropdowns!$C$13,Dropdowns!$B$13,IF(I44=Dropdowns!$C$14,Dropdowns!$B$14,IF(I44=Dropdowns!$C$15,Dropdowns!$B$15,IF(I44=Dropdowns!$C$16,Dropdowns!$B$16,IF(I44=Dropdowns!$C$17,Dropdowns!$B$17,IF(I44=Dropdowns!$C$18,Dropdowns!$B$18,IF(I44=Dropdowns!$C$19,Dropdowns!$B$19,IF(I44=Dropdowns!$C$20,Dropdowns!$B$20,IF(I44=Dropdowns!$C$21,Dropdowns!$B$21,IF(I44=Dropdowns!$C$22,Dropdowns!$B$22,IF(I44=Dropdowns!$C$23,Dropdowns!$B$23,IF(I44=Dropdowns!$C$24,Dropdowns!$B$24,IF(I44=Dropdowns!$C$25,Dropdowns!$B$25,IF(I44=Dropdowns!$C$26,Dropdowns!$B$26,IF(I44=Dropdowns!$C$27,Dropdowns!$B$27,IF(I44=Dropdowns!$C$28,Dropdowns!$B$28,IF(I44=Dropdowns!$C$29,Dropdowns!$B$29,IF(I44=Dropdowns!$C$30,Dropdowns!$B$30,IF(I44=Dropdowns!$C$31,Dropdowns!$B$31,IF(I44=Dropdowns!$C$32,Dropdowns!$B$32,IF(I44=Dropdowns!$C$33,Dropdowns!$B$33,IF(I44=Dropdowns!$C$34,Dropdowns!$B$34,IF(I44=Dropdowns!$C$35,Dropdowns!$B$35,IF(I44=Dropdowns!$C$36,Dropdowns!$B$36,IF(I44=Dropdowns!$C$37,Dropdowns!$B$37,IF(I44=Dropdowns!$C$38,Dropdowns!$B$38,IF(I44=Dropdowns!$C$39,Dropdowns!$B$39,IF(I44=Dropdowns!$C$40,Dropdowns!$B$40,IF(I44=Dropdowns!$C$41,Dropdowns!$B$41,IF(I44=Dropdowns!$C$42,Dropdowns!$B$42,IF(I44=Dropdowns!$C$43,Dropdowns!$B$43,IF(I44=Dropdowns!$C$44,Dropdowns!$B$44,IF(I44=Dropdowns!$C$45,Dropdowns!$B$45,IF(I44=Dropdowns!$C$46,Dropdowns!$B$46,IF(I44=Dropdowns!$C$47,Dropdowns!$B$47, IF(I44=Dropdowns!$C$48,Dropdowns!$B$48,\"0\"))))))))))))))))))))))))))))))))))))))))))","v":0},{"$f":"IF(AX44=Dropdowns!$F$15,Dropdowns!$G$15,IF(AX44=Dropdowns!$F$16,Dropdowns!$G$16,IF(AX44=Dropdowns!$F$17,Dropdowns!$G$17,\"0\")))","v":"0"}]
[null,null,null,null,null,null,null,null,null,null,{"$f":"IF(AND(J45=\"Project\", AO45>24999),\"Yes\",\"-\")","v":"-"},null,null,null,null,null,null,null,null,null,null,{"$f":"SUM(O45:U45)","v":0},null,null,null,null,null,{"$f":"SUM(W45:AA45)","v":0},null,null,null,null,null,null,{"$f":"SUM(AC45:AH45)","v":0},null,null,null,null,{"$f":"SUM(AJ45:AM45)","v":0},{"$f":"(V45+AB45+AI45+AN45)","v":0},null,{"$f":"U45+AA45","v":0},{"$f":"(AO45-AQ45)","v":0},{"$f":"SUM(V45+AB45)","v":0},{"$f":"AO45-AS45","v":0},{"$f":"IF(ISERROR((AS45)/AO45),\"-\", (AS45)/AO45)","v":"-"},null,null,null,null,null,null,null,null,null,null,null,null,null,null,null,{"$f":"AY45/158475797","v":0},{"$f":"CZ45","v":0},{"$f":"DD45","v":0},{"$f":"DF45","v":0},{"$f":"DH45","v":0},{"$f":"DJ45","v":0},{"$f":"DL45","v":0},{"$f":"DN45","v":0},{"$f":"DP45","v":0},{"$f":"DR45","v":0},{"$f":"IFERROR(RANK(BT45,$BT$13:$BT$143,0),\"\")","v":1},{"$f":"IFERROR(IF(L45=Dropdowns!$F$32,\"\",IF(J45=\"Project\",AR45/BT45,IF(J45=\"Program\",AP45/BT45,\"\"))),\"\")","v":""},{"$f":"IFERROR(RANK(BV45,$BV$13:$BV$143,1),\"\")","v":""},null,null,null,null,null,null,null,null,null,{"$f":"IF($CA45=\"\",0,VLOOKUP($CA45,'Conversion Tables'!$B$37:$C$62,2,FALSE))+IF($CB45=\"\",0,VLOOKUP($CB45,'Conversion Tables'!$B$37:$C$62,2,FALSE))+IF($CC45=\"\",0,VLOOKUP($CC45,'Conversion Tables'!$B$37:$C$62,2,FALSE))+IF($CD45=\"\",0,VLOOKUP($CD45,'Conversion Tables'!$B$37:$C$62,2,FALSE))+IF($CE45=\"\",0,VLOOKUP($CE45,'Conversion Tables'!$B$37:$C$62,2,FALSE))+IF($CF45=\"\",0,VLOOKUP($CF45,'Conversion Tables'!$B$37:$C$62,2,FALSE))","v":0},null,null,null,null,null,null,{"$f":"IFERROR(VLOOKUP(CM45,Dropdowns!A$51:B$55,2,FALSE),\"\")","v":""},null,null,null,null,null,null,null,null,null,null,{"$f":"IFERROR(VLOOKUP(AZ45,'Conversion Tables'!$G$8:$N$12,3,FALSE)/'Conversion Tables'!$I$12*Max_Point,0)","v":0},{"$f":"CY45*'Weighting Scale'!$D$9*DS45*DT45","v":0},{"$f":"IFERROR(VLOOKUP(BB45,'Conversion Tables'!$B$8:$C$32,2,FALSE),0)","v":0},{"$f":"IFERROR(VLOOKUP(BC45,'Conversion Tables'!$B$8:$C$32,2,FALSE),0)","v":0},{"$f":"(DA45-DB45)/'Conversion Tables'!$C$32*Max_Point","v":0},{"$f":"DC45*'Weighting Scale'!$D$10*DS45*DT45","v":0},{"$f":"IFERROR(VLOOKUP(BE45,'Conversion Tables'!$G$8:$N$12,2, FALSE)/'Conversion Tables'!$H$12*Max_Point,0)","v":0},{"$f":"DE45*'Weighting Scale'!$D$11*DS45*DT45","v":0},{"$f":"IFERROR(VLOOKUP(BF45,'Conversion Tables'!$G$8:$N$12,6,FALSE)/'Conversion Tables'!$L$12*Max_Point,0)","v":0},{"$f":"DG45*'Weighting Scale'!$D$14*DS45*DT45","v":0},{"$f":"IFERROR(VLOOKUP(BG45,'Conversion Tables'!$G$8:$N$12,4,FALSE)/'Conversion Tables'!$J$12*Max_Point,0)","v":0},{"$f":"DI45*'Weighting Scale'!$D$12*DS45*DT45","v":0},{"$f":"IFERROR(VLOOKUP(BH45,'Conversion Tables'!$G$8:$N$12,5,FALSE)/'Conversion Tables'!$K$12*Max_Point,0)","v":0},{"$f":"DK45*'Weighting Scale'!$D$13*DS45*DT45","v":0},{"$f":"IFERROR(VLOOKUP(BI45,'Conversion Tables'!$G$8:$N$12,7,FALSE)/'Conversion Tables'!$M$12*Max_Point,0)","v":0},{"$f":"DM45*'Weighting Scale'!$D$15*DS45*DT45","v":0},{"$f":"IF(BJ45 = \"Yes\",('Conversion Tables'!$N$12)/'Conversion Tables'!$N$12*Max_Point,0)","v":0},{"$f":"DO45*'Weighting Scale'!$D$16*DS45*DT45","v":0},{"$f":"CZ45+DD45+DF45+DH45+DJ45+DL45+DN45+DP45","v":0},{"$f":"DQ45*DU45","v":0},{"$f":"BK45","v":0},{"$f":"IF(I45=Dropdowns!$C$7,Dropdowns!$B$7,IF(I45=Dropdowns!$C$8,Dropdowns!$B$8,IF(I45=Dropdowns!$C$9,Dropdowns!$B$9,IF(I45=Dropdowns!$C$10,Dropdowns!$B$10,IF(I45=Dropdowns!$C$11,Dropdowns!$B$11,IF(I45=Dropdowns!$C$12,Dropdowns!$B$12,IF(I45=Dropdowns!$C$13,Dropdowns!$B$13,IF(I45=Dropdowns!$C$14,Dropdowns!$B$14,IF(I45=Dropdowns!$C$15,Dropdowns!$B$15,IF(I45=Dropdowns!$C$16,Dropdowns!$B$16,IF(I45=Dropdowns!$C$17,Dropdowns!$B$17,IF(I45=Dropdowns!$C$18,Dropdowns!$B$18,IF(I45=Dropdowns!$C$19,Dropdowns!$B$19,IF(I45=Dropdowns!$C$20,Dropdowns!$B$20,IF(I45=Dropdowns!$C$21,Dropdowns!$B$21,IF(I45=Dropdowns!$C$22,Dropdowns!$B$22,IF(I45=Dropdowns!$C$23,Dropdowns!$B$23,IF(I45=Dropdowns!$C$24,Dropdowns!$B$24,IF(I45=Dropdowns!$C$25,Dropdowns!$B$25,IF(I45=Dropdowns!$C$26,Dropdowns!$B$26,IF(I45=Dropdowns!$C$27,Dropdowns!$B$27,IF(I45=Dropdowns!$C$28,Dropdowns!$B$28,IF(I45=Dropdowns!$C$29,Dropdowns!$B$29,IF(I45=Dropdowns!$C$30,Dropdowns!$B$30,IF(I45=Dropdowns!$C$31,Dropdowns!$B$31,IF(I45=Dropdowns!$C$32,Dropdowns!$B$32,IF(I45=Dropdowns!$C$33,Dropdowns!$B$33,IF(I45=Dropdowns!$C$34,Dropdowns!$B$34,IF(I45=Dropdowns!$C$35,Dropdowns!$B$35,IF(I45=Dropdowns!$C$36,Dropdowns!$B$36,IF(I45=Dropdowns!$C$37,Dropdowns!$B$37,IF(I45=Dropdowns!$C$38,Dropdowns!$B$38,IF(I45=Dropdowns!$C$39,Dropdowns!$B$39,IF(I45=Dropdowns!$C$40,Dropdowns!$B$40,IF(I45=Dropdowns!$C$41,Dropdowns!$B$41,IF(I45=Dropdowns!$C$42,Dropdowns!$B$42,IF(I45=Dropdowns!$C$43,Dropdowns!$B$43,IF(I45=Dropdowns!$C$44,Dropdowns!$B$44,IF(I45=Dropdowns!$C$45,Dropdowns!$B$45,IF(I45=Dropdowns!$C$46,Dropdowns!$B$46,IF(I45=Dropdowns!$C$47,Dropdowns!$B$47, IF(I45=Dropdowns!$C$48,Dropdowns!$B$48,\"0\"))))))))))))))))))))))))))))))))))))))))))","v":0},{"$f":"IF(AX45=Dropdowns!$F$15,Dropdowns!$G$15,IF(AX45=Dropdowns!$F$16,Dropdowns!$G$16,IF(AX45=Dropdowns!$F$17,Dropdowns!$G$17,\"0\")))","v":"0"}]
[null,null,null,null,null,null,null,null,null,null,"-",null,null,null,null,null,null,null,null,null,null,0,null,null,null,null,null,0,null,null,null,null,null,null,0,null,null,null,null,0,0,null,0,0,0,0,"-",null,null,null,null,null,null,null,null,null,null,null,null,null,null,null,0,0,0,0,0,0,0,0,0,0,1,{"$f":"IFERROR(IF(L46=Dropdowns!$F$32,\"\",IF(J46=\"Project\",AR46/BT46,IF(J46=\"Program\",AP46/BT46,\"\"))),\"\")","v":""},"",null,null,null,null,null,null,null,null,null,{"$f":"IF($CA46=\"\",0,VLOOKUP($CA46,'Conversion Tables'!$B$37:$C$62,2,FALSE))+IF($CB46=\"\",0,VLOOKUP($CB46,'Conversion Tables'!$B$37:$C$62,2,FALSE))+IF($CC46=\"\",0,VLOOKUP($CC46,'Conversion Tables'!$B$37:$C$62,2,FALSE))+IF($CD46=\"\",0,VLOOKUP($CD46,'Conversion Tables'!$B$37:$C$62,2,FALSE))+IF($CE46=\"\",0,VLOOKUP($CE46,'Conversion Tables'!$B$37:$C$62,2,FALSE))+IF($CF46=\"\",0,VLOOKUP($CF46,'Conversion Tables'!$B$37:$C$62,2,FALSE))","v":0},null,null,null,null,null,null,{"$f":"IFERROR(VLOOKUP(CM46,Dropdowns!A$51:B$55,2,FALSE),\"\")","v":""},null,null,null,null,null,null,null,null,null,null,{"$f":"IFERROR(VLOOKUP(AZ46,'Conversion Tables'!$G$8:$N$12,3,FALSE)/'Conversion Tables'!$I$12*Max_Point,0)","v":0},{"$f":"CY46*'Weighting Scale'!$D$9*DS46*DT46","v":0},{"$f":"IFERROR(VLOOKUP(BB46,'Conversion Tables'!$B$8:$C$32,2,FALSE),0)","v":0},{"$f":"IFERROR(VLOOKUP(BC46,'Conversion Tables'!$B$8:$C$32,2,FALSE),0)","v":0},{"$f":"(DA46-DB46)/'Conversion Tables'!$C$32*Max_Point","v":0},{"$f":"DC46*'Weighting Scale'!$D$10*DS46*DT46","v":0},{"$f":"IFERROR(VLOOKUP(BE46,'Conversion Tables'!$G$8:$N$12,2, FALSE)/'Conversion Tables'!$H$12*Max_Point,0)","v":0},{"$f":"DE46*'Weighting Scale'!$D$11*DS46*DT46","v":0},{"$f":"IFERROR(VLOOKUP(BF46,'Conversion Tables'!$G$8:$N$12,6,FALSE)/'Conversion Tables'!$L$12*Max_Point,0)","v":0},{"$f":"DG46*'Weighting Scale'!$D$14*DS46*DT46","v":0},{"$f":"IFERROR(VLOOKUP(BG46,'Conversion Tables'!$G$8:$N$12,4,FALSE)/'Conversion Tables'!$J$12*Max_Point,0)","v":0},{"$f":"DI46*'Weighting Scale'!$D$12*DS46*DT46","v":0},{"$f":"IFERROR(VLOOKUP(BH46,'Conversion Tables'!$G$8:$N$12,5,FALSE)/'Conversion Tables'!$K$12*Max_Point,0)","v":0},{"$f":"DK46*'Weighting Scale'!$D$13*DS46*DT46","v":0},{"$f":"IFERROR(VLOOKUP(BI46,'Conversion Tables'!$G$8:$N$12,7,FALSE)/'Conversion Tables'!$M$12*Max_Point,0)","v":0},{"$f":"DM46*'Weighting Scale'!$D$15*DS46*DT46","v":0},{"$f":"IF(BJ46 = \"Yes\",('Conversion Tables'!$N$12)/'Conversion Tables'!$N$12*Max_Point,0)","v":0},{"$f":"DO46*'Weighting Scale'!$D$16*DS46*DT46","v":0},0,0,0,{"$f":"IF(I46=Dropdowns!$C$7,Dropdowns!$B$7,IF(I46=Dropdowns!$C$8,Dropdowns!$B$8,IF(I46=Dropdowns!$C$9,Dropdowns!$B$9,IF(I46=Dropdowns!$C$10,Dropdowns!$B$10,IF(I46=Dropdowns!$C$11,Dropdowns!$B$11,IF(I46=Dropdowns!$C$12,Dropdowns!$B$12,IF(I46=Dropdowns!$C$13,Dropdowns!$B$13,IF(I46=Dropdowns!$C$14,Dropdowns!$B$14,IF(I46=Dropdowns!$C$15,Dropdowns!$B$15,IF(I46=Dropdowns!$C$16,Dropdowns!$B$16,IF(I46=Dropdowns!$C$17,Dropdowns!$B$17,IF(I46=Dropdowns!$C$18,Dropdowns!$B$18,IF(I46=Dropdowns!$C$19,Dropdowns!$B$19,IF(I46=Dropdowns!$C$20,Dropdowns!$B$20,IF(I46=Dropdowns!$C$21,Dropdowns!$B$21,IF(I46=Dropdowns!$C$22,Dropdowns!$B$22,IF(I46=Dropdowns!$C$23,Dropdowns!$B$23,IF(I46=Dropdowns!$C$24,Dropdowns!$B$24,IF(I46=Dropdowns!$C$25,Dropdowns!$B$25,IF(I46=Dropdowns!$C$26,Dropdowns!$B$26,IF(I46=Dropdowns!$C$27,Dropdowns!$B$27,IF(I46=Dropdowns!$C$28,Dropdowns!$B$28,IF(I46=Dropdowns!$C$29,Dropdowns!$B$29,IF(I46=Dropdowns!$C$30,Dropdowns!$B$30,IF(I46=Dropdowns!$C$31,Dropdowns!$B$31,IF(I46=Dropdowns!$C$32,Dropdowns!$B$32,IF(I46=Dropdowns!$C$33,Dropdowns!$B$33,IF(I46=Dropdowns!$C$34,Dropdowns!$B$34,IF(I46=Dropdowns!$C$35,Dropdowns!$B$35,IF(I46=Dropdowns!$C$36,Dropdowns!$B$36,IF(I46=Dropdowns!$C$37,Dropdowns!$B$37,IF(I46=Dropdowns!$C$38,Dropdowns!$B$38,IF(I46=Dropdowns!$C$39,Dropdowns!$B$39,IF(I46=Dropdowns!$C$40,Dropdowns!$B$40,IF(I46=Dropdowns!$C$41,Dropdowns!$B$41,IF(I46=Dropdowns!$C$42,Dropdowns!$B$42,IF(I46=Dropdowns!$C$43,Dropdowns!$B$43,IF(I46=Dropdowns!$C$44,Dropdowns!$B$44,IF(I46=Dropdowns!$C$45,Dropdowns!$B$45,IF(I46=Dropdowns!$C$46,Dropdowns!$B$46,IF(I46=Dropdowns!$C$47,Dropdowns!$B$47, IF(I46=Dropdowns!$C$48,Dropdowns!$B$48,\"0\"))))))))))))))))))))))))))))))))))))))))))","v":0},{"$f":"IF(AX46=Dropdowns!$F$15,Dropdowns!$G$15,IF(AX46=Dropdowns!$F$16,Dropdowns!$G$16,IF(AX46=Dropdowns!$F$17,Dropdowns!$G$17,\"0\")))","v":"0"}]
[null,null,null,null,null,null,null,null,null,null,"-",null,null,null,null,null,null,null,null,null,null,0,null,null,null,null,null,0,null,null,null,null,null,null,0,null,null,null,null,0,0,null,0,0,0,0,"-",null,null,null,null,null,null,null,null,null,null,null,null,null,null,null,0,0,0,0,0,0,0,0,0,0,1,{"$f":"IFERROR(IF(L47=Dropdowns!$F$32,\"\",IF(J47=\"Project\",AR47/BT47,IF(J47=\"Program\",AP47/BT47,\"\"))),\"\")","v":""},"",null,null,null,null,null,null,null,null,null,{"$f":"IF($CA47=\"\",0,VLOOKUP($CA47,'Conversion Tables'!$B$37:$C$62,2,FALSE))+IF($CB47=\"\",0,VLOOKUP($CB47,'Conversion Tables'!$B$37:$C$62,2,FALSE))+IF($CC47=\"\",0,VLOOKUP($CC47,'Conversion Tables'!$B$37:$C$62,2,FALSE))+IF($CD47=\"\",0,VLOOKUP($CD47,'Conversion Tables'!$B$37:$C$62,2,FALSE))+IF($CE47=\"\",0,VLOOKUP($CE47,'Conversion Tables'!$B$37:$C$62,2,FALSE))+IF($CF47=\"\",0,VLOOKUP($CF47,'Conversion Tables'!$B$37:$C$62,2,FALSE))","v":0},null,null,null,null,null,null,{"$f":"IFERROR(VLOOKUP(CM47,Dropdowns!A$51:B$55,2,FALSE),\"\")","v":""},null,null,null,null,null,null,null,null,null,null,{"$f":"IFERROR(VLOOKUP(AZ47,'Conversion Tables'!$G$8:$N$12,3,FALSE)/'Conversion Tables'!$I$12*Max_Point,0)","v":0},{"$f":"CY47*'Weighting Scale'!$D$9*DS47*DT47","v":0},{"$f":"IFERROR(VLOOKUP(BB47,'Conversion Tables'!$B$8:$C$32,2,FALSE),0)","v":0},{"$f":"IFERROR(VLOOKUP(BC47,'Conversion Tables'!$B$8:$C$32,2,FALSE),0)","v":0},{"$f":"(DA47-DB47)/'Conversion Tables'!$C$32*Max_Point","v":0},{"$f":"DC47*'Weighting Scale'!$D$10*DS47*DT47","v":0},{"$f":"IFERROR(VLOOKUP(BE47,'Conversion Tables'!$G$8:$N$12,2, FALSE)/'Conversion Tables'!$H$12*Max_Point,0)","v":0},{"$f":"DE47*'Weighting Scale'!$D$11*DS47*DT47","v":0},{"$f":"IFERROR(VLOOKUP(BF47,'Conversion Tables'!$G$8:$N$12,6,FALSE)/'Conversion Tables'!$L$12*Max_Point,0)","v":0},{"$f":"DG47*'Weighting Scale'!$D$14*DS47*DT47","v":0},{"$f":"IFERROR(VLOOKUP(BG47,'Conversion Tables'!$G$8:$N$12,4,FALSE)/'Conversion Tables'!$J$12*Max_Point,0)","v":0},{"$f":"DI47*'Weighting Scale'!$D$12*DS47*DT47","v":0},{"$f":"IFERROR(VLOOKUP(BH47,'Conversion Tables'!$G$8:$N$12,5,FALSE)/'Conversion Tables'!$K$12*Max_Point,0)","v":0},{"$f":"DK47*'Weighting Scale'!$D$13*DS47*DT47","v":0},{"$f":"IFERROR(VLOOKUP(BI47,'Conversion Tables'!$G$8:$N$12,7,FALSE)/'Conversion Tables'!$M$12*Max_Point,0)","v":0},{"$f":"DM47*'Weighting Scale'!$D$15*DS47*DT47","v":0},{"$f":"IF(BJ47 = \"Yes\",('Conversion Tables'!$N$12)/'Conversion Tables'!$N$12*Max_Point,0)","v":0},{"$f":"DO47*'Weighting Scale'!$D$16*DS47*DT47","v":0},0,0,0,{"$f":"IF(I47=Dropdowns!$C$7,Dropdowns!$B$7,IF(I47=Dropdowns!$C$8,Dropdowns!$B$8,IF(I47=Dropdowns!$C$9,Dropdowns!$B$9,IF(I47=Dropdowns!$C$10,Dropdowns!$B$10,IF(I47=Dropdowns!$C$11,Dropdowns!$B$11,IF(I47=Dropdowns!$C$12,Dropdowns!$B$12,IF(I47=Dropdowns!$C$13,Dropdowns!$B$13,IF(I47=Dropdowns!$C$14,Dropdowns!$B$14,IF(I47=Dropdowns!$C$15,Dropdowns!$B$15,IF(I47=Dropdowns!$C$16,Dropdowns!$B$16,IF(I47=Dropdowns!$C$17,Dropdowns!$B$17,IF(I47=Dropdowns!$C$18,Dropdowns!$B$18,IF(I47=Dropdowns!$C$19,Dropdowns!$B$19,IF(I47=Dropdowns!$C$20,Dropdowns!$B$20,IF(I47=Dropdowns!$C$21,Dropdowns!$B$21,IF(I47=Dropdowns!$C$22,Dropdowns!$B$22,IF(I47=Dropdowns!$C$23,Dropdowns!$B$23,IF(I47=Dropdowns!$C$24,Dropdowns!$B$24,IF(I47=Dropdowns!$C$25,Dropdowns!$B$25,IF(I47=Dropdowns!$C$26,Dropdowns!$B$26,IF(I47=Dropdowns!$C$27,Dropdowns!$B$27,IF(I47=Dropdowns!$C$28,Dropdowns!$B$28,IF(I47=Dropdowns!$C$29,Dropdowns!$B$29,IF(I47=Dropdowns!$C$30,Dropdowns!$B$30,IF(I47=Dropdowns!$C$31,Dropdowns!$B$31,IF(I47=Dropdowns!$C$32,Dropdowns!$B$32,IF(I47=Dropdowns!$C$33,Dropdowns!$B$33,IF(I47=Dropdowns!$C$34,Dropdowns!$B$34,IF(I47=Dropdowns!$C$35,Dropdowns!$B$35,IF(I47=Dropdowns!$C$36,Dropdowns!$B$36,IF(I47=Dropdowns!$C$37,Dropdowns!$B$37,IF(I47=Dropdowns!$C$38,Dropdowns!$B$38,IF(I47=Dropdowns!$C$39,Dropdowns!$B$39,IF(I47=Dropdowns!$C$40,Dropdowns!$B$40,IF(I47=Dropdowns!$C$41,Dropdowns!$B$41,IF(I47=Dropdowns!$C$42,Dropdowns!$B$42,IF(I47=Dropdowns!$C$43,Dropdowns!$B$43,IF(I47=Dropdowns!$C$44,Dropdowns!$B$44,IF(I47=Dropdowns!$C$45,Dropdowns!$B$45,IF(I47=Dropdowns!$C$46,Dropdowns!$B$46,IF(I47=Dropdowns!$C$47,Dropdowns!$B$47, IF(I47=Dropdowns!$C$48,Dropdowns!$B$48,\"0\"))))))))))))))))))))))))))))))))))))))))))","v":0},{"$f":"IF(AX47=Dropdowns!$F$15,Dropdowns!$G$15,IF(AX47=Dropdowns!$F$16,Dropdowns!$G$16,IF(AX47=Dropdowns!$F$17,Dropdowns!$G$17,\"0\")))","v":"0"}]
[null,null,null,null,null,null,null,null,null,null,"-",null,null,null,null,null,null,null,null,null,null,0,null,null,null,null,null,0,null,null,null,null,null,null,0,null,null,null,null,0,0,null,0,0,0,0,"-",null,null,null,null,null,null,null,null,null,null,null,null,null,null,null,0,0,0,0,0,0,0,0,0,0,1,{"$f":"IFERROR(IF(L48=Dropdowns!$F$32,\"\",IF(J48=\"Project\",AR48/BT48,IF(J48=\"Program\",AP48/BT48,\"\"))),\"\")","v":""},"",null,null,null,null,null,null,null,null,null,{"$f":"IF($CA48=\"\",0,VLOOKUP($CA48,'Conversion Tables'!$B$37:$C$62,2,FALSE))+IF($CB48=\"\",0,VLOOKUP($CB48,'Conversion Tables'!$B$37:$C$62,2,FALSE))+IF($CC48=\"\",0,VLOOKUP($CC48,'Conversion Tables'!$B$37:$C$62,2,FALSE))+IF($CD48=\"\",0,VLOOKUP($CD48,'Conversion Tables'!$B$37:$C$62,2,FALSE))+IF($CE48=\"\",0,VLOOKUP($CE48,'Conversion Tables'!$B$37:$C$62,2,FALSE))+IF($CF48=\"\",0,VLOOKUP($CF48,'Conversion Tables'!$B$37:$C$62,2,FALSE))","v":0},null,null,null,null,null,null,{"$f":"IFERROR(VLOOKUP(CM48,Dropdowns!A$51:B$55,2,FALSE),\"\")","v":""},null,null,null,null,null,null,null,null,null,null,{"$f":"IFERROR(VLOOKUP(AZ48,'Conversion Tables'!$G$8:$N$12,3,FALSE)/'Conversion Tables'!$I$12*Max_Point,0)","v":0},{"$f":"CY48*'Weighting Scale'!$D$9*DS48*DT48","v":0},{"$f":"IFERROR(VLOOKUP(BB48,'Conversion Tables'!$B$8:$C$32,2,FALSE),0)","v":0},{"$f":"IFERROR(VLOOKUP(BC48,'Conversion Tables'!$B$8:$C$32,2,FALSE),0)","v":0},{"$f":"(DA48-DB48)/'Conversion Tables'!$C$32*Max_Point","v":0},{"$f":"DC48*'Weighting Scale'!$D$10*DS48*DT48","v":0},{"$f":"IFERROR(VLOOKUP(BE48,'Conversion Tables'!$G$8:$N$12,2, FALSE)/'Conversion Tables'!$H$12*Max_Point,0)","v":0},{"$f":"DE48*'Weighting Scale'!$D$11*DS48*DT48","v":0},{"$f":"IFERROR(VLOOKUP(BF48,'Conversion Tables'!$G$8:$N$12,6,FALSE)/'Conversion Tables'!$L$12*Max_Point,0)","v":0},{"$f":"DG48*'Weighting Scale'!$D$14*DS48*DT48","v":0},{"$f":"IFERROR(VLOOKUP(BG48,'Conversion Tables'!$G$8:$N$12,4,FALSE)/'Conversion Tables'!$J$12*Max_Point,0)","v":0},{"$f":"DI48*'Weighting Scale'!$D$12*DS48*DT48","v":0},{"$f":"IFERROR(VLOOKUP(BH48,'Conversion Tables'!$G$8:$N$12,5,FALSE)/'Conversion Tables'!$K$12*Max_Point,0)","v":0},{"$f":"DK48*'Weighting Scale'!$D$13*DS48*DT48","v":0},{"$f":"IFERROR(VLOOKUP(BI48,'Conversion Tables'!$G$8:$N$12,7,FALSE)/'Conversion Tables'!$M$12*Max_Point,0)","v":0},{"$f":"DM48*'Weighting Scale'!$D$15*DS48*DT48","v":0},{"$f":"IF(BJ48 = \"Yes\",('Conversion Tables'!$N$12)/'Conversion Tables'!$N$12*Max_Point,0)","v":0},{"$f":"DO48*'Weighting Scale'!$D$16*DS48*DT48","v":0},0,0,0,{"$f":"IF(I48=Dropdowns!$C$7,Dropdowns!$B$7,IF(I48=Dropdowns!$C$8,Dropdowns!$B$8,IF(I48=Dropdowns!$C$9,Dropdowns!$B$9,IF(I48=Dropdowns!$C$10,Dropdowns!$B$10,IF(I48=Dropdowns!$C$11,Dropdowns!$B$11,IF(I48=Dropdowns!$C$12,Dropdowns!$B$12,IF(I48=Dropdowns!$C$13,Dropdowns!$B$13,IF(I48=Dropdowns!$C$14,Dropdowns!$B$14,IF(I48=Dropdowns!$C$15,Dropdowns!$B$15,IF(I48=Dropdowns!$C$16,Dropdowns!$B$16,IF(I48=Dropdowns!$C$17,Dropdowns!$B$17,IF(I48=Dropdowns!$C$18,Dropdowns!$B$18,IF(I48=Dropdowns!$C$19,Dropdowns!$B$19,IF(I48=Dropdowns!$C$20,Dropdowns!$B$20,IF(I48=Dropdowns!$C$21,Dropdowns!$B$21,IF(I48=Dropdowns!$C$22,Dropdowns!$B$22,IF(I48=Dropdowns!$C$23,Dropdowns!$B$23,IF(I48=Dropdowns!$C$24,Dropdowns!$B$24,IF(I48=Dropdowns!$C$25,Dropdowns!$B$25,IF(I48=Dropdowns!$C$26,Dropdowns!$B$26,IF(I48=Dropdowns!$C$27,Dropdowns!$B$27,IF(I48=Dropdowns!$C$28,Dropdowns!$B$28,IF(I48=Dropdowns!$C$29,Dropdowns!$B$29,IF(I48=Dropdowns!$C$30,Dropdowns!$B$30,IF(I48=Dropdowns!$C$31,Dropdowns!$B$31,IF(I48=Dropdowns!$C$32,Dropdowns!$B$32,IF(I48=Dropdowns!$C$33,Dropdowns!$B$33,IF(I48=Dropdowns!$C$34,Dropdowns!$B$34,IF(I48=Dropdowns!$C$35,Dropdowns!$B$35,IF(I48=Dropdowns!$C$36,Dropdowns!$B$36,IF(I48=Dropdowns!$C$37,Dropdowns!$B$37,IF(I48=Dropdowns!$C$38,Dropdowns!$B$38,IF(I48=Dropdowns!$C$39,Dropdowns!$B$39,IF(I48=Dropdowns!$C$40,Dropdowns!$B$40,IF(I48=Dropdowns!$C$41,Dropdowns!$B$41,IF(I48=Dropdowns!$C$42,Dropdowns!$B$42,IF(I48=Dropdowns!$C$43,Dropdowns!$B$43,IF(I48=Dropdowns!$C$44,Dropdowns!$B$44,IF(I48=Dropdowns!$C$45,Dropdowns!$B$45,IF(I48=Dropdowns!$C$46,Dropdowns!$B$46,IF(I48=Dropdowns!$C$47,Dropdowns!$B$47, IF(I48=Dropdowns!$C$48,Dropdowns!$B$48,\"0\"))))))))))))))))))))))))))))))))))))))))))","v":0},{"$f":"IF(AX48=Dropdowns!$F$15,Dropdowns!$G$15,IF(AX48=Dropdowns!$F$16,Dropdowns!$G$16,IF(AX48=Dropdowns!$F$17,Dropdowns!$G$17,\"0\")))","v":"0"}]
[null,null,null,null,null,null,null,null,null,null,"-",null,null,null,null,null,null,null,null,null,null,0,null,null,null,null,null,0,null,null,null,null,null,null,0,null,null,null,null,0,0,null,0,0,0,0,"-",null,null,null,null,null,null,null,null,null,null,null,null,null,null,null,0,0,0,0,0,0,0,0,0,0,1,{"$f":"IFERROR(IF(L49=Dropdowns!$F$32,\"\",IF(J49=\"Project\",AR49/BT49,IF(J49=\"Program\",AP49/BT49,\"\"))),\"\")","v":""},"",null,null,null,null,null,null,null,null,null,{"$f":"IF($CA49=\"\",0,VLOOKUP($CA49,'Conversion Tables'!$B$37:$C$62,2,FALSE))+IF($CB49=\"\",0,VLOOKUP($CB49,'Conversion Tables'!$B$37:$C$62,2,FALSE))+IF($CC49=\"\",0,VLOOKUP($CC49,'Conversion Tables'!$B$37:$C$62,2,FALSE))+IF($CD49=\"\",0,VLOOKUP($CD49,'Conversion Tables'!$B$37:$C$62,2,FALSE))+IF($CE49=\"\",0,VLOOKUP($CE49,'Conversion Tables'!$B$37:$C$62,2,FALSE))+IF($CF49=\"\",0,VLOOKUP($CF49,'Conversion Tables'!$B$37:$C$62,2,FALSE))","v":0},null,null,null,null,null,null,{"$f":"IFERROR(VLOOKUP(CM49,Dropdowns!A$51:B$55,2,FALSE),\"\")","v":""},null,null,null,null,null,null,null,null,null,null,{"$f":"IFERROR(VLOOKUP(AZ49,'Conversion Tables'!$G$8:$N$12,3,FALSE)/'Conversion Tables'!$I$12*Max_Point,0)","v":0},{"$f":"CY49*'Weighting Scale'!$D$9*DS49*DT49","v":0},{"$f":"IFERROR(VLOOKUP(BB49,'Conversion Tables'!$B$8:$C$32,2,FALSE),0)","v":0},{"$f":"IFERROR(VLOOKUP(BC49,'Conversion Tables'!$B$8:$C$32,2,FALSE),0)","v":0},{"$f":"(DA49-DB49)/'Conversion Tables'!$C$32*Max_Point","v":0},{"$f":"DC49*'Weighting Scale'!$D$10*DS49*DT49","v":0},{"$f":"IFERROR(VLOOKUP(BE49,'Conversion Tables'!$G$8:$N$12,2, FALSE)/'Conversion Tables'!$H$12*Max_Point,0)","v":0},{"$f":"DE49*'Weighting Scale'!$D$11*DS49*DT49","v":0},{"$f":"IFERROR(VLOOKUP(BF49,'Conversion Tables'!$G$8:$N$12,6,FALSE)/'Conversion Tables'!$L$12*Max_Point,0)","v":0},{"$f":"DG49*'Weighting Scale'!$D$14*DS49*DT49","v":0},{"$f":"IFERROR(VLOOKUP(BG49,'Conversion Tables'!$G$8:$N$12,4,FALSE)/'Conversion Tables'!$J$12*Max_Point,0)","v":0},{"$f":"DI49*'Weighting Scale'!$D$12*DS49*DT49","v":0},{"$f":"IFERROR(VLOOKUP(BH49,'Conversion Tables'!$G$8:$N$12,5,FALSE)/'Conversion Tables'!$K$12*Max_Point,0)","v":0},{"$f":"DK49*'Weighting Scale'!$D$13*DS49*DT49","v":0},{"$f":"IFERROR(VLOOKUP(BI49,'Conversion Tables'!$G$8:$N$12,7,FALSE)/'Conversion Tables'!$M$12*Max_Point,0)","v":0},{"$f":"DM49*'Weighting Scale'!$D$15*DS49*DT49","v":0},{"$f":"IF(BJ49 = \"Yes\",('Conversion Tables'!$N$12)/'Conversion Tables'!$N$12*Max_Point,0)","v":0},{"$f":"DO49*'Weighting Scale'!$D$16*DS49*DT49","v":0},0,0,0,{"$f":"IF(I49=Dropdowns!$C$7,Dropdowns!$B$7,IF(I49=Dropdowns!$C$8,Dropdowns!$B$8,IF(I49=Dropdowns!$C$9,Dropdowns!$B$9,IF(I49=Dropdowns!$C$10,Dropdowns!$B$10,IF(I49=Dropdowns!$C$11,Dropdowns!$B$11,IF(I49=Dropdowns!$C$12,Dropdowns!$B$12,IF(I49=Dropdowns!$C$13,Dropdowns!$B$13,IF(I49=Dropdowns!$C$14,Dropdowns!$B$14,IF(I49=Dropdowns!$C$15,Dropdowns!$B$15,IF(I49=Dropdowns!$C$16,Dropdowns!$B$16,IF(I49=Dropdowns!$C$17,Dropdowns!$B$17,IF(I49=Dropdowns!$C$18,Dropdowns!$B$18,IF(I49=Dropdowns!$C$19,Dropdowns!$B$19,IF(I49=Dropdowns!$C$20,Dropdowns!$B$20,IF(I49=Dropdowns!$C$21,Dropdowns!$B$21,IF(I49=Dropdowns!$C$22,Dropdowns!$B$22,IF(I49=Dropdowns!$C$23,Dropdowns!$B$23,IF(I49=Dropdowns!$C$24,Dropdowns!$B$24,IF(I49=Dropdowns!$C$25,Dropdowns!$B$25,IF(I49=Dropdowns!$C$26,Dropdowns!$B$26,IF(I49=Dropdowns!$C$27,Dropdowns!$B$27,IF(I49=Dropdowns!$C$28,Dropdowns!$B$28,IF(I49=Dropdowns!$C$29,Dropdowns!$B$29,IF(I49=Dropdowns!$C$30,Dropdowns!$B$30,IF(I49=Dropdowns!$C$31,Dropdowns!$B$31,IF(I49=Dropdowns!$C$32,Dropdowns!$B$32,IF(I49=Dropdowns!$C$33,Dropdowns!$B$33,IF(I49=Dropdowns!$C$34,Dropdowns!$B$34,IF(I49=Dropdowns!$C$35,Dropdowns!$B$35,IF(I49=Dropdowns!$C$36,Dropdowns!$B$36,IF(I49=Dropdowns!$C$37,Dropdowns!$B$37,IF(I49=Dropdowns!$C$38,Dropdowns!$B$38,IF(I49=Dropdowns!$C$39,Dropdowns!$B$39,IF(I49=Dropdowns!$C$40,Dropdowns!$B$40,IF(I49=Dropdowns!$C$41,Dropdowns!$B$41,IF(I49=Dropdowns!$C$42,Dropdowns!$B$42,IF(I49=Dropdowns!$C$43,Dropdowns!$B$43,IF(I49=Dropdowns!$C$44,Dropdowns!$B$44,IF(I49=Dropdowns!$C$45,Dropdowns!$B$45,IF(I49=Dropdowns!$C$46,Dropdowns!$B$46,IF(I49=Dropdowns!$C$47,Dropdowns!$B$47, IF(I49=Dropdowns!$C$48,Dropdowns!$B$48,\"0\"))))))))))))))))))))))))))))))))))))))))))","v":0},{"$f":"IF(AX49=Dropdowns!$F$15,Dropdowns!$G$15,IF(AX49=Dropdowns!$F$16,Dropdowns!$G$16,IF(AX49=Dropdowns!$F$17,Dropdowns!$G$17,\"0\")))","v":"0"}]
[null,null,null,null,null,null,null,null,null,null,"-",null,null,null,null,null,null,null,null,null,null,0,null,null,null,null,null,0,null,null,null,null,null,null,0,null,null,null,null,0,0,null,0,0,0,0,"-",null,null,null,null,null,null,null,null,null,null,null,null,null,null,null,0,0,0,0,0,0,0,0,0,0,1,{"$f":"IFERROR(IF(L50=Dropdowns!$F$32,\"\",IF(J50=\"Project\",AR50/BT50,IF(J50=\"Program\",AP50/BT50,\"\"))),\"\")","v":""},"",null,null,null,null,null,null,null,null,null,{"$f":"IF($CA50=\"\",0,VLOOKUP($CA50,'Conversion Tables'!$B$37:$C$62,2,FALSE))+IF($CB50=\"\",0,VLOOKUP($CB50,'Conversion Tables'!$B$37:$C$62,2,FALSE))+IF($CC50=\"\",0,VLOOKUP($CC50,'Conversion Tables'!$B$37:$C$62,2,FALSE))+IF($CD50=\"\",0,VLOOKUP($CD50,'Conversion Tables'!$B$37:$C$62,2,FALSE))+IF($CE50=\"\",0,VLOOKUP($CE50,'Conversion Tables'!$B$37:$C$62,2,FALSE))+IF($CF50=\"\",0,VLOOKUP($CF50,'Conversion Tables'!$B$37:$C$62,2,FALSE))","v":0},null,null,null,null,null,null,{"$f":"IFERROR(VLOOKUP(CM50,Dropdowns!A$51:B$55,2,FALSE),\"\")","v":""},null,null,null,null,null,null,null,null,null,null,{"$f":"IFERROR(VLOOKUP(AZ50,'Conversion Tables'!$G$8:$N$12,3,FALSE)/'Conversion Tables'!$I$12*Max_Point,0)","v":0},{"$f":"CY50*'Weighting Scale'!$D$9*DS50*DT50","v":0},{"$f":"IFERROR(VLOOKUP(BB50,'Conversion Tables'!$B$8:$C$32,2,FALSE),0)","v":0},{"$f":"IFERROR(VLOOKUP(BC50,'Conversion Tables'!$B$8:$C$32,2,FALSE),0)","v":0},{"$f":"(DA50-DB50)/'Conversion Tables'!$C$32*Max_Point","v":0},{"$f":"DC50*'Weighting Scale'!$D$10*DS50*DT50","v":0},{"$f":"IFERROR(VLOOKUP(BE50,'Conversion Tables'!$G$8:$N$12,2, FALSE)/'Conversion Tables'!$H$12*Max_Point,0)","v":0},{"$f":"DE50*'Weighting Scale'!$D$11*DS50*DT50","v":0},{"$f":"IFERROR(VLOOKUP(BF50,'Conversion Tables'!$G$8:$N$12,6,FALSE)/'Conversion Tables'!$L$12*Max_Point,0)","v":0},{"$f":"DG50*'Weighting Scale'!$D$14*DS50*DT50","v":0},{"$f":"IFERROR(VLOOKUP(BG50,'Conversion Tables'!$G$8:$N$12,4,FALSE)/'Conversion Tables'!$J$12*Max_Point,0)","v":0},{"$f":"DI50*'Weighting Scale'!$D$12*DS50*DT50","v":0},{"$f":"IFERROR(VLOOKUP(BH50,'Conversion Tables'!$G$8:$N$12,5,FALSE)/'Conversion Tables'!$K$12*Max_Point,0)","v":0},{"$f":"DK50*'Weighting Scale'!$D$13*DS50*DT50","v":0},{"$f":"IFERROR(VLOOKUP(BI50,'Conversion Tables'!$G$8:$N$12,7,FALSE)/'Conversion Tables'!$M$12*Max_Point,0)","v":0},{"$f":"DM50*'Weighting Scale'!$D$15*DS50*DT50","v":0},{"$f":"IF(BJ50 = \"Yes\",('Conversion Tables'!$N$12)/'Conversion Tables'!$N$12*Max_Point,0)","v":0},{"$f":"DO50*'Weighting Scale'!$D$16*DS50*DT50","v":0},0,0,0,{"$f":"IF(I50=Dropdowns!$C$7,Dropdowns!$B$7,IF(I50=Dropdowns!$C$8,Dropdowns!$B$8,IF(I50=Dropdowns!$C$9,Dropdowns!$B$9,IF(I50=Dropdowns!$C$10,Dropdowns!$B$10,IF(I50=Dropdowns!$C$11,Dropdowns!$B$11,IF(I50=Dropdowns!$C$12,Dropdowns!$B$12,IF(I50=Dropdowns!$C$13,Dropdowns!$B$13,IF(I50=Dropdowns!$C$14,Dropdowns!$B$14,IF(I50=Dropdowns!$C$15,Dropdowns!$B$15,IF(I50=Dropdowns!$C$16,Dropdowns!$B$16,IF(I50=Dropdowns!$C$17,Dropdowns!$B$17,IF(I50=Dropdowns!$C$18,Dropdowns!$B$18,IF(I50=Dropdowns!$C$19,Dropdowns!$B$19,IF(I50=Dropdowns!$C$20,Dropdowns!$B$20,IF(I50=Dropdowns!$C$21,Dropdowns!$B$21,IF(I50=Dropdowns!$C$22,Dropdowns!$B$22,IF(I50=Dropdowns!$C$23,Dropdowns!$B$23,IF(I50=Dropdowns!$C$24,Dropdowns!$B$24,IF(I50=Dropdowns!$C$25,Dropdowns!$B$25,IF(I50=Dropdowns!$C$26,Dropdowns!$B$26,IF(I50=Dropdowns!$C$27,Dropdowns!$B$27,IF(I50=Dropdowns!$C$28,Dropdowns!$B$28,IF(I50=Dropdowns!$C$29,Dropdowns!$B$29,IF(I50=Dropdowns!$C$30,Dropdowns!$B$30,IF(I50=Dropdowns!$C$31,Dropdowns!$B$31,IF(I50=Dropdowns!$C$32,Dropdowns!$B$32,IF(I50=Dropdowns!$C$33,Dropdowns!$B$33,IF(I50=Dropdowns!$C$34,Dropdowns!$B$34,IF(I50=Dropdowns!$C$35,Dropdowns!$B$35,IF(I50=Dropdowns!$C$36,Dropdowns!$B$36,IF(I50=Dropdowns!$C$37,Dropdowns!$B$37,IF(I50=Dropdowns!$C$38,Dropdowns!$B$38,IF(I50=Dropdowns!$C$39,Dropdowns!$B$39,IF(I50=Dropdowns!$C$40,Dropdowns!$B$40,IF(I50=Dropdowns!$C$41,Dropdowns!$B$41,IF(I50=Dropdowns!$C$42,Dropdowns!$B$42,IF(I50=Dropdowns!$C$43,Dropdowns!$B$43,IF(I50=Dropdowns!$C$44,Dropdowns!$B$44,IF(I50=Dropdowns!$C$45,Dropdowns!$B$45,IF(I50=Dropdowns!$C$46,Dropdowns!$B$46,IF(I50=Dropdowns!$C$47,Dropdowns!$B$47, IF(I50=Dropdowns!$C$48,Dropdowns!$B$48,\"0\"))))))))))))))))))))))))))))))))))))))))))","v":0},{"$f":"IF(AX50=Dropdowns!$F$15,Dropdowns!$G$15,IF(AX50=Dropdowns!$F$16,Dropdowns!$G$16,IF(AX50=Dropdowns!$F$17,Dropdowns!$G$17,\"0\")))","v":"0"}]
[null,null,null,null,null,null,null,null,null,null,"-",null,null,null,null,null,null,null,null,null,null,0,null,null,null,null,null,0,null,null,null,null,null,null,0,null,null,null,null,0,0,null,0,0,0,0,"-",null,null,null,null,null,null,null,null,null,null,null,null,null,null,null,0,0,0,0,0,0,0,0,0,0,1,{"$f":"IFERROR(IF(L51=Dropdowns!$F$32,\"\",IF(J51=\"Project\",AR51/BT51,IF(J51=\"Program\",AP51/BT51,\"\"))),\"\")","v":""},"",null,null,null,null,null,null,null,null,null,{"$f":"IF($CA51=\"\",0,VLOOKUP($CA51,'Conversion Tables'!$B$37:$C$62,2,FALSE))+IF($CB51=\"\",0,VLOOKUP($CB51,'Conversion Tables'!$B$37:$C$62,2,FALSE))+IF($CC51=\"\",0,VLOOKUP($CC51,'Conversion Tables'!$B$37:$C$62,2,FALSE))+IF($CD51=\"\",0,VLOOKUP($CD51,'Conversion Tables'!$B$37:$C$62,2,FALSE))+IF($CE51=\"\",0,VLOOKUP($CE51,'Conversion Tables'!$B$37:$C$62,2,FALSE))+IF($CF51=\"\",0,VLOOKUP($CF51,'Conversion Tables'!$B$37:$C$62,2,FALSE))","v":0},null,null,null,null,null,null,{"$f":"IFERROR(VLOOKUP(CM51,Dropdowns!A$51:B$55,2,FALSE),\"\")","v":""},null,null,null,null,null,null,null,null,null,null,{"$f":"IFERROR(VLOOKUP(AZ51,'Conversion Tables'!$G$8:$N$12,3,FALSE)/'Conversion Tables'!$I$12*Max_Point,0)","v":0},{"$f":"CY51*'Weighting Scale'!$D$9*DS51*DT51","v":0},{"$f":"IFERROR(VLOOKUP(BB51,'Conversion Tables'!$B$8:$C$32,2,FALSE),0)","v":0},{"$f":"IFERROR(VLOOKUP(BC51,'Conversion Tables'!$B$8:$C$32,2,FALSE),0)","v":0},{"$f":"(DA51-DB51)/'Conversion Tables'!$C$32*Max_Point","v":0},{"$f":"DC51*'Weighting Scale'!$D$10*DS51*DT51","v":0},{"$f":"IFERROR(VLOOKUP(BE51,'Conversion Tables'!$G$8:$N$12,2, FALSE)/'Conversion Tables'!$H$12*Max_Point,0)","v":0},{"$f":"DE51*'Weighting Scale'!$D$11*DS51*DT51","v":0},{"$f":"IFERROR(VLOOKUP(BF51,'Conversion Tables'!$G$8:$N$12,6,FALSE)/'Conversion Tables'!$L$12*Max_Point,0)","v":0},{"$f":"DG51*'Weighting Scale'!$D$14*DS51*DT51","v":0},{"$f":"IFERROR(VLOOKUP(BG51,'Conversion Tables'!$G$8:$N$12,4,FALSE)/'Conversion Tables'!$J$12*Max_Point,0)","v":0},{"$f":"DI51*'Weighting Scale'!$D$12*DS51*DT51","v":0},{"$f":"IFERROR(VLOOKUP(BH51,'Conversion Tables'!$G$8:$N$12,5,FALSE)/'Conversion Tables'!$K$12*Max_Point,0)","v":0},{"$f":"DK51*'Weighting Scale'!$D$13*DS51*DT51","v":0},{"$f":"IFERROR(VLOOKUP(BI51,'Conversion Tables'!$G$8:$N$12,7,FALSE)/'Conversion Tables'!$M$12*Max_Point,0)","v":0},{"$f":"DM51*'Weighting Scale'!$D$15*DS51*DT51","v":0},{"$f":"IF(BJ51 = \"Yes\",('Conversion Tables'!$N$12)/'Conversion Tables'!$N$12*Max_Point,0)","v":0},{"$f":"DO51*'Weighting Scale'!$D$16*DS51*DT51","v":0},0,0,0,{"$f":"IF(I51=Dropdowns!$C$7,Dropdowns!$B$7,IF(I51=Dropdowns!$C$8,Dropdowns!$B$8,IF(I51=Dropdowns!$C$9,Dropdowns!$B$9,IF(I51=Dropdowns!$C$10,Dropdowns!$B$10,IF(I51=Dropdowns!$C$11,Dropdowns!$B$11,IF(I51=Dropdowns!$C$12,Dropdowns!$B$12,IF(I51=Dropdowns!$C$13,Dropdowns!$B$13,IF(I51=Dropdowns!$C$14,Dropdowns!$B$14,IF(I51=Dropdowns!$C$15,Dropdowns!$B$15,IF(I51=Dropdowns!$C$16,Dropdowns!$B$16,IF(I51=Dropdowns!$C$17,Dropdowns!$B$17,IF(I51=Dropdowns!$C$18,Dropdowns!$B$18,IF(I51=Dropdowns!$C$19,Dropdowns!$B$19,IF(I51=Dropdowns!$C$20,Dropdowns!$B$20,IF(I51=Dropdowns!$C$21,Dropdowns!$B$21,IF(I51=Dropdowns!$C$22,Dropdowns!$B$22,IF(I51=Dropdowns!$C$23,Dropdowns!$B$23,IF(I51=Dropdowns!$C$24,Dropdowns!$B$24,IF(I51=Dropdowns!$C$25,Dropdowns!$B$25,IF(I51=Dropdowns!$C$26,Dropdowns!$B$26,IF(I51=Dropdowns!$C$27,Dropdowns!$B$27,IF(I51=Dropdowns!$C$28,Dropdowns!$B$28,IF(I51=Dropdowns!$C$29,Dropdowns!$B$29,IF(I51=Dropdowns!$C$30,Dropdowns!$B$30,IF(I51=Dropdowns!$C$31,Dropdowns!$B$31,IF(I51=Dropdowns!$C$32,Dropdowns!$B$32,IF(I51=Dropdowns!$C$33,Dropdowns!$B$33,IF(I51=Dropdowns!$C$34,Dropdowns!$B$34,IF(I51=Dropdowns!$C$35,Dropdowns!$B$35,IF(I51=Dropdowns!$C$36,Dropdowns!$B$36,IF(I51=Dropdowns!$C$37,Dropdowns!$B$37,IF(I51=Dropdowns!$C$38,Dropdowns!$B$38,IF(I51=Dropdowns!$C$39,Dropdowns!$B$39,IF(I51=Dropdowns!$C$40,Dropdowns!$B$40,IF(I51=Dropdowns!$C$41,Dropdowns!$B$41,IF(I51=Dropdowns!$C$42,Dropdowns!$B$42,IF(I51=Dropdowns!$C$43,Dropdowns!$B$43,IF(I51=Dropdowns!$C$44,Dropdowns!$B$44,IF(I51=Dropdowns!$C$45,Dropdowns!$B$45,IF(I51=Dropdowns!$C$46,Dropdowns!$B$46,IF(I51=Dropdowns!$C$47,Dropdowns!$B$47, IF(I51=Dropdowns!$C$48,Dropdowns!$B$48,\"0\"))))))))))))))))))))))))))))))))))))))))))","v":0},{"$f":"IF(AX51=Dropdowns!$F$15,Dropdowns!$G$15,IF(AX51=Dropdowns!$F$16,Dropdowns!$G$16,IF(AX51=Dropdowns!$F$17,Dropdowns!$G$17,\"0\")))","v":"0"}]
[null,null,null,null,null,null,null,null,null,null,"-",null,null,null,null,null,null,null,null,null,null,0,null,null,null,null,null,0,null,null,null,null,null,null,0,null,null,null,null,0,0,null,0,0,0,0,"-",null,null,null,null,null,null,null,null,null,null,null,null,null,null,null,0,0,0,0,0,0,0,0,0,0,1,{"$f":"IFERROR(IF(L52=Dropdowns!$F$32,\"\",IF(J52=\"Project\",AR52/BT52,IF(J52=\"Program\",AP52/BT52,\"\"))),\"\")","v":""},"",null,null,null,null,null,null,null,null,null,{"$f":"IF($CA52=\"\",0,VLOOKUP($CA52,'Conversion Tables'!$B$37:$C$62,2,FALSE))+IF($CB52=\"\",0,VLOOKUP($CB52,'Conversion Tables'!$B$37:$C$62,2,FALSE))+IF($CC52=\"\",0,VLOOKUP($CC52,'Conversion Tables'!$B$37:$C$62,2,FALSE))+IF($CD52=\"\",0,VLOOKUP($CD52,'Conversion Tables'!$B$37:$C$62,2,FALSE))+IF($CE52=\"\",0,VLOOKUP($CE52,'Conversion Tables'!$B$37:$C$62,2,FALSE))+IF($CF52=\"\",0,VLOOKUP($CF52,'Conversion Tables'!$B$37:$C$62,2,FALSE))","v":0},null,null,null,null,null,null,{"$f":"IFERROR(VLOOKUP(CM52,Dropdowns!A$51:B$55,2,FALSE),\"\")","v":""},null,null,null,null,null,null,null,null,null,null,{"$f":"IFERROR(VLOOKUP(AZ52,'Conversion Tables'!$G$8:$N$12,3,FALSE)/'Conversion Tables'!$I$12*Max_Point,0)","v":0},{"$f":"CY52*'Weighting Scale'!$D$9*DS52*DT52","v":0},{"$f":"IFERROR(VLOOKUP(BB52,'Conversion Tables'!$B$8:$C$32,2,FALSE),0)","v":0},{"$f":"IFERROR(VLOOKUP(BC52,'Conversion Tables'!$B$8:$C$32,2,FALSE),0)","v":0},{"$f":"(DA52-DB52)/'Conversion Tables'!$C$32*Max_Point","v":0},{"$f":"DC52*'Weighting Scale'!$D$10*DS52*DT52","v":0},{"$f":"IFERROR(VLOOKUP(BE52,'Conversion Tables'!$G$8:$N$12,2, FALSE)/'Conversion Tables'!$H$12*Max_Point,0)","v":0},{"$f":"DE52*'Weighting Scale'!$D$11*DS52*DT52","v":0},{"$f":"IFERROR(VLOOKUP(BF52,'Conversion Tables'!$G$8:$N$12,6,FALSE)/'Conversion Tables'!$L$12*Max_Point,0)","v":0},{"$f":"DG52*'Weighting Scale'!$D$14*DS52*DT52","v":0},{"$f":"IFERROR(VLOOKUP(BG52,'Conversion Tables'!$G$8:$N$12,4,FALSE)/'Conversion Tables'!$J$12*Max_Point,0)","v":0},{"$f":"DI52*'Weighting Scale'!$D$12*DS52*DT52","v":0},{"$f":"IFERROR(VLOOKUP(BH52,'Conversion Tables'!$G$8:$N$12,5,FALSE)/'Conversion Tables'!$K$12*Max_Point,0)","v":0},{"$f":"DK52*'Weighting Scale'!$D$13*DS52*DT52","v":0},{"$f":"IFERROR(VLOOKUP(BI52,'Conversion Tables'!$G$8:$N$12,7,FALSE)/'Conversion Tables'!$M$12*Max_Point,0)","v":0},{"$f":"DM52*'Weighting Scale'!$D$15*DS52*DT52","v":0},{"$f":"IF(BJ52 = \"Yes\",('Conversion Tables'!$N$12)/'Conversion Tables'!$N$12*Max_Point,0)","v":0},{"$f":"DO52*'Weighting Scale'!$D$16*DS52*DT52","v":0},0,0,0,{"$f":"IF(I52=Dropdowns!$C$7,Dropdowns!$B$7,IF(I52=Dropdowns!$C$8,Dropdowns!$B$8,IF(I52=Dropdowns!$C$9,Dropdowns!$B$9,IF(I52=Dropdowns!$C$10,Dropdowns!$B$10,IF(I52=Dropdowns!$C$11,Dropdowns!$B$11,IF(I52=Dropdowns!$C$12,Dropdowns!$B$12,IF(I52=Dropdowns!$C$13,Dropdowns!$B$13,IF(I52=Dropdowns!$C$14,Dropdowns!$B$14,IF(I52=Dropdowns!$C$15,Dropdowns!$B$15,IF(I52=Dropdowns!$C$16,Dropdowns!$B$16,IF(I52=Dropdowns!$C$17,Dropdowns!$B$17,IF(I52=Dropdowns!$C$18,Dropdowns!$B$18,IF(I52=Dropdowns!$C$19,Dropdowns!$B$19,IF(I52=Dropdowns!$C$20,Dropdowns!$B$20,IF(I52=Dropdowns!$C$21,Dropdowns!$B$21,IF(I52=Dropdowns!$C$22,Dropdowns!$B$22,IF(I52=Dropdowns!$C$23,Dropdowns!$B$23,IF(I52=Dropdowns!$C$24,Dropdowns!$B$24,IF(I52=Dropdowns!$C$25,Dropdowns!$B$25,IF(I52=Dropdowns!$C$26,Dropdowns!$B$26,IF(I52=Dropdowns!$C$27,Dropdowns!$B$27,IF(I52=Dropdowns!$C$28,Dropdowns!$B$28,IF(I52=Dropdowns!$C$29,Dropdowns!$B$29,IF(I52=Dropdowns!$C$30,Dropdowns!$B$30,IF(I52=Dropdowns!$C$31,Dropdowns!$B$31,IF(I52=Dropdowns!$C$32,Dropdowns!$B$32,IF(I52=Dropdowns!$C$33,Dropdowns!$B$33,IF(I52=Dropdowns!$C$34,Dropdowns!$B$34,IF(I52=Dropdowns!$C$35,Dropdowns!$B$35,IF(I52=Dropdowns!$C$36,Dropdowns!$B$36,IF(I52=Dropdowns!$C$37,Dropdowns!$B$37,IF(I52=Dropdowns!$C$38,Dropdowns!$B$38,IF(I52=Dropdowns!$C$39,Dropdowns!$B$39,IF(I52=Dropdowns!$C$40,Dropdowns!$B$40,IF(I52=Dropdowns!$C$41,Dropdowns!$B$41,IF(I52=Dropdowns!$C$42,Dropdowns!$B$42,IF(I52=Dropdowns!$C$43,Dropdowns!$B$43,IF(I52=Dropdowns!$C$44,Dropdowns!$B$44,IF(I52=Dropdowns!$C$45,Dropdowns!$B$45,IF(I52=Dropdowns!$C$46,Dropdowns!$B$46,IF(I52=Dropdowns!$C$47,Dropdowns!$B$47, IF(I52=Dropdowns!$C$48,Dropdowns!$B$48,\"0\"))))))))))))))))))))))))))))))))))))))))))","v":0},{"$f":"IF(AX52=Dropdowns!$F$15,Dropdowns!$G$15,IF(AX52=Dropdowns!$F$16,Dropdowns!$G$16,IF(AX52=Dropdowns!$F$17,Dropdowns!$G$17,\"0\")))","v":"0"}]
[null,null,null,null,null,null,null,null,null,null,"-",null,null,null,null,null,null,null,null,null,null,0,null,null,null,null,null,0,null,null,null,null,null,null,0,null,null,null,null,0,0,null,0,0,0,0,"-",null,null,null,null,null,null,null,null,null,null,null,null,null,null,null,0,0,0,0,0,0,0,0,0,0,1,{"$f":"IFERROR(IF(L53=Dropdowns!$F$32,\"\",IF(J53=\"Project\",AR53/BT53,IF(J53=\"Program\",AP53/BT53,\"\"))),\"\")","v":""},"",null,null,null,null,null,null,null,null,null,{"$f":"IF($CA53=\"\",0,VLOOKUP($CA53,'Conversion Tables'!$B$37:$C$62,2,FALSE))+IF($CB53=\"\",0,VLOOKUP($CB53,'Conversion Tables'!$B$37:$C$62,2,FALSE))+IF($CC53=\"\",0,VLOOKUP($CC53,'Conversion Tables'!$B$37:$C$62,2,FALSE))+IF($CD53=\"\",0,VLOOKUP($CD53,'Conversion Tables'!$B$37:$C$62,2,FALSE))+IF($CE53=\"\",0,VLOOKUP($CE53,'Conversion Tables'!$B$37:$C$62,2,FALSE))+IF($CF53=\"\",0,VLOOKUP($CF53,'Conversion Tables'!$B$37:$C$62,2,FALSE))","v":0},null,null,null,null,null,null,{"$f":"IFERROR(VLOOKUP(CM53,Dropdowns!A$51:B$55,2,FALSE),\"\")","v":""},null,null,null,null,null,null,null,null,null,null,{"$f":"IFERROR(VLOOKUP(AZ53,'Conversion Tables'!$G$8:$N$12,3,FALSE)/'Conversion Tables'!$I$12*Max_Point,0)","v":0},{"$f":"CY53*'Weighting Scale'!$D$9*DS53*DT53","v":0},{"$f":"IFERROR(VLOOKUP(BB53,'Conversion Tables'!$B$8:$C$32,2,FALSE),0)","v":0},{"$f":"IFERROR(VLOOKUP(BC53,'Conversion Tables'!$B$8:$C$32,2,FALSE),0)","v":0},{"$f":"(DA53-DB53)/'Conversion Tables'!$C$32*Max_Point","v":0},{"$f":"DC53*'Weighting Scale'!$D$10*DS53*DT53","v":0},{"$f":"IFERROR(VLOOKUP(BE53,'Conversion Tables'!$G$8:$N$12,2, FALSE)/'Conversion Tables'!$H$12*Max_Point,0)","v":0},{"$f":"DE53*'Weighting Scale'!$D$11*DS53*DT53","v":0},{"$f":"IFERROR(VLOOKUP(BF53,'Conversion Tables'!$G$8:$N$12,6,FALSE)/'Conversion Tables'!$L$12*Max_Point,0)","v":0},{"$f":"DG53*'Weighting Scale'!$D$14*DS53*DT53","v":0},{"$f":"IFERROR(VLOOKUP(BG53,'Conversion Tables'!$G$8:$N$12,4,FALSE)/'Conversion Tables'!$J$12*Max_Point,0)","v":0},{"$f":"DI53*'Weighting Scale'!$D$12*DS53*DT53","v":0},{"$f":"IFERROR(VLOOKUP(BH53,'Conversion Tables'!$G$8:$N$12,5,FALSE)/'Conversion Tables'!$K$12*Max_Point,0)","v":0},{"$f":"DK53*'Weighting Scale'!$D$13*DS53*DT53","v":0},{"$f":"IFERROR(VLOOKUP(BI53,'Conversion Tables'!$G$8:$N$12,7,FALSE)/'Conversion Tables'!$M$12*Max_Point,0)","v":0},{"$f":"DM53*'Weighting Scale'!$D$15*DS53*DT53","v":0},{"$f":"IF(BJ53 = \"Yes\",('Conversion Tables'!$N$12)/'Conversion Tables'!$N$12*Max_Point,0)","v":0},{"$f":"DO53*'Weighting Scale'!$D$16*DS53*DT53","v":0},0,0,0,{"$f":"IF(I53=Dropdowns!$C$7,Dropdowns!$B$7,IF(I53=Dropdowns!$C$8,Dropdowns!$B$8,IF(I53=Dropdowns!$C$9,Dropdowns!$B$9,IF(I53=Dropdowns!$C$10,Dropdowns!$B$10,IF(I53=Dropdowns!$C$11,Dropdowns!$B$11,IF(I53=Dropdowns!$C$12,Dropdowns!$B$12,IF(I53=Dropdowns!$C$13,Dropdowns!$B$13,IF(I53=Dropdowns!$C$14,Dropdowns!$B$14,IF(I53=Dropdowns!$C$15,Dropdowns!$B$15,IF(I53=Dropdowns!$C$16,Dropdowns!$B$16,IF(I53=Dropdowns!$C$17,Dropdowns!$B$17,IF(I53=Dropdowns!$C$18,Dropdowns!$B$18,IF(I53=Dropdowns!$C$19,Dropdowns!$B$19,IF(I53=Dropdowns!$C$20,Dropdowns!$B$20,IF(I53=Dropdowns!$C$21,Dropdowns!$B$21,IF(I53=Dropdowns!$C$22,Dropdowns!$B$22,IF(I53=Dropdowns!$C$23,Dropdowns!$B$23,IF(I53=Dropdowns!$C$24,Dropdowns!$B$24,IF(I53=Dropdowns!$C$25,Dropdowns!$B$25,IF(I53=Dropdowns!$C$26,Dropdowns!$B$26,IF(I53=Dropdowns!$C$27,Dropdowns!$B$27,IF(I53=Dropdowns!$C$28,Dropdowns!$B$28,IF(I53=Dropdowns!$C$29,Dropdowns!$B$29,IF(I53=Dropdowns!$C$30,Dropdowns!$B$30,IF(I53=Dropdowns!$C$31,Dropdowns!$B$31,IF(I53=Dropdowns!$C$32,Dropdowns!$B$32,IF(I53=Dropdowns!$C$33,Dropdowns!$B$33,IF(I53=Dropdowns!$C$34,Dropdowns!$B$34,IF(I53=Dropdowns!$C$35,Dropdowns!$B$35,IF(I53=Dropdowns!$C$36,Dropdowns!$B$36,IF(I53=Dropdowns!$C$37,Dropdowns!$B$37,IF(I53=Dropdowns!$C$38,Dropdowns!$B$38,IF(I53=Dropdowns!$C$39,Dropdowns!$B$39,IF(I53=Dropdowns!$C$40,Dropdowns!$B$40,IF(I53=Dropdowns!$C$41,Dropdowns!$B$41,IF(I53=Dropdowns!$C$42,Dropdowns!$B$42,IF(I53=Dropdowns!$C$43,Dropdowns!$B$43,IF(I53=Dropdowns!$C$44,Dropdowns!$B$44,IF(I53=Dropdowns!$C$45,Dropdowns!$B$45,IF(I53=Dropdowns!$C$46,Dropdowns!$B$46,IF(I53=Dropdowns!$C$47,Dropdowns!$B$47, IF(I53=Dropdowns!$C$48,Dropdowns!$B$48,\"0\"))))))))))))))))))))))))))))))))))))))))))","v":0},{"$f":"IF(AX53=Dropdowns!$F$15,Dropdowns!$G$15,IF(AX53=Dropdowns!$F$16,Dropdowns!$G$16,IF(AX53=Dropdowns!$F$17,Dropdowns!$G$17,\"0\")))","v":"0"}]
[null,null,null,null,null,null,null,null,null,null,"-",null,null,null,null,null,null,null,null,null,null,0,null,null,null,null,null,0,null,null,null,null,null,null,0,null,null,null,null,0,0,null,0,0,0,0,"-",null,null,null,null,null,null,null,null,null,null,null,null,null,null,null,0,0,0,0,0,0,0,0,0,0,1,{"$f":"IFERROR(IF(L54=Dropdowns!$F$32,\"\",IF(J54=\"Project\",AR54/BT54,IF(J54=\"Program\",AP54/BT54,\"\"))),\"\")","v":""},"",null,null,null,null,null,null,null,null,null,{"$f":"IF($CA54=\"\",0,VLOOKUP($CA54,'Conversion Tables'!$B$37:$C$62,2,FALSE))+IF($CB54=\"\",0,VLOOKUP($CB54,'Conversion Tables'!$B$37:$C$62,2,FALSE))+IF($CC54=\"\",0,VLOOKUP($CC54,'Conversion Tables'!$B$37:$C$62,2,FALSE))+IF($CD54=\"\",0,VLOOKUP($CD54,'Conversion Tables'!$B$37:$C$62,2,FALSE))+IF($CE54=\"\",0,VLOOKUP($CE54,'Conversion Tables'!$B$37:$C$62,2,FALSE))+IF($CF54=\"\",0,VLOOKUP($CF54,'Conversion Tables'!$B$37:$C$62,2,FALSE))","v":0},null,null,null,null,null,null,{"$f":"IFERROR(VLOOKUP(CM54,Dropdowns!A$51:B$55,2,FALSE),\"\")","v":""},null,null,null,null,null,null,null,null,null,null,{"$f":"IFERROR(VLOOKUP(AZ54,'Conversion Tables'!$G$8:$N$12,3,FALSE)/'Conversion Tables'!$I$12*Max_Point,0)","v":0},{"$f":"CY54*'Weighting Scale'!$D$9*DS54*DT54","v":0},{"$f":"IFERROR(VLOOKUP(BB54,'Conversion Tables'!$B$8:$C$32,2,FALSE),0)","v":0},{"$f":"IFERROR(VLOOKUP(BC54,'Conversion Tables'!$B$8:$C$32,2,FALSE),0)","v":0},{"$f":"(DA54-DB54)/'Conversion Tables'!$C$32*Max_Point","v":0},{"$f":"DC54*'Weighting Scale'!$D$10*DS54*DT54","v":0},{"$f":"IFERROR(VLOOKUP(BE54,'Conversion Tables'!$G$8:$N$12,2, FALSE)/'Conversion Tables'!$H$12*Max_Point,0)","v":0},{"$f":"DE54*'Weighting Scale'!$D$11*DS54*DT54","v":0},{"$f":"IFERROR(VLOOKUP(BF54,'Conversion Tables'!$G$8:$N$12,6,FALSE)/'Conversion Tables'!$L$12*Max_Point,0)","v":0},{"$f":"DG54*'Weighting Scale'!$D$14*DS54*DT54","v":0},{"$f":"IFERROR(VLOOKUP(BG54,'Conversion Tables'!$G$8:$N$12,4,FALSE)/'Conversion Tables'!$J$12*Max_Point,0)","v":0},{"$f":"DI54*'Weighting Scale'!$D$12*DS54*DT54","v":0},{"$f":"IFERROR(VLOOKUP(BH54,'Conversion Tables'!$G$8:$N$12,5,FALSE)/'Conversion Tables'!$K$12*Max_Point,0)","v":0},{"$f":"DK54*'Weighting Scale'!$D$13*DS54*DT54","v":0},{"$f":"IFERROR(VLOOKUP(BI54,'Conversion Tables'!$G$8:$N$12,7,FALSE)/'Conversion Tables'!$M$12*Max_Point,0)","v":0},{"$f":"DM54*'Weighting Scale'!$D$15*DS54*DT54","v":0},{"$f":"IF(BJ54 = \"Yes\",('Conversion Tables'!$N$12)/'Conversion Tables'!$N$12*Max_Point,0)","v":0},{"$f":"DO54*'Weighting Scale'!$D$16*DS54*DT54","v":0},0,0,0,{"$f":"IF(I54=Dropdowns!$C$7,Dropdowns!$B$7,IF(I54=Dropdowns!$C$8,Dropdowns!$B$8,IF(I54=Dropdowns!$C$9,Dropdowns!$B$9,IF(I54=Dropdowns!$C$10,Dropdowns!$B$10,IF(I54=Dropdowns!$C$11,Dropdowns!$B$11,IF(I54=Dropdowns!$C$12,Dropdowns!$B$12,IF(I54=Dropdowns!$C$13,Dropdowns!$B$13,IF(I54=Dropdowns!$C$14,Dropdowns!$B$14,IF(I54=Dropdowns!$C$15,Dropdowns!$B$15,IF(I54=Dropdowns!$C$16,Dropdowns!$B$16,IF(I54=Dropdowns!$C$17,Dropdowns!$B$17,IF(I54=Dropdowns!$C$18,Dropdowns!$B$18,IF(I54=Dropdowns!$C$19,Dropdowns!$B$19,IF(I54=Dropdowns!$C$20,Dropdowns!$B$20,IF(I54=Dropdowns!$C$21,Dropdowns!$B$21,IF(I54=Dropdowns!$C$22,Dropdowns!$B$22,IF(I54=Dropdowns!$C$23,Dropdowns!$B$23,IF(I54=Dropdowns!$C$24,Dropdowns!$B$24,IF(I54=Dropdowns!$C$25,Dropdowns!$B$25,IF(I54=Dropdowns!$C$26,Dropdowns!$B$26,IF(I54=Dropdowns!$C$27,Dropdowns!$B$27,IF(I54=Dropdowns!$C$28,Dropdowns!$B$28,IF(I54=Dropdowns!$C$29,Dropdowns!$B$29,IF(I54=Dropdowns!$C$30,Dropdowns!$B$30,IF(I54=Dropdowns!$C$31,Dropdowns!$B$31,IF(I54=Dropdowns!$C$32,Dropdowns!$B$32,IF(I54=Dropdowns!$C$33,Dropdowns!$B$33,IF(I54=Dropdowns!$C$34,Dropdowns!$B$34,IF(I54=Dropdowns!$C$35,Dropdowns!$B$35,IF(I54=Dropdowns!$C$36,Dropdowns!$B$36,IF(I54=Dropdowns!$C$37,Dropdowns!$B$37,IF(I54=Dropdowns!$C$38,Dropdowns!$B$38,IF(I54=Dropdowns!$C$39,Dropdowns!$B$39,IF(I54=Dropdowns!$C$40,Dropdowns!$B$40,IF(I54=Dropdowns!$C$41,Dropdowns!$B$41,IF(I54=Dropdowns!$C$42,Dropdowns!$B$42,IF(I54=Dropdowns!$C$43,Dropdowns!$B$43,IF(I54=Dropdowns!$C$44,Dropdowns!$B$44,IF(I54=Dropdowns!$C$45,Dropdowns!$B$45,IF(I54=Dropdowns!$C$46,Dropdowns!$B$46,IF(I54=Dropdowns!$C$47,Dropdowns!$B$47, IF(I54=Dropdowns!$C$48,Dropdowns!$B$48,\"0\"))))))))))))))))))))))))))))))))))))))))))","v":0},{"$f":"IF(AX54=Dropdowns!$F$15,Dropdowns!$G$15,IF(AX54=Dropdowns!$F$16,Dropdowns!$G$16,IF(AX54=Dropdowns!$F$17,Dropdowns!$G$17,\"0\")))","v":"0"}]
[null,null,null,null,null,null,null,null,null,null,"-",null,null,null,null,null,null,null,null,null,null,0,null,null,null,null,null,0,null,null,null,null,null,null,0,null,null,null,null,0,0,null,0,0,0,0,"-",null,null,null,null,null,null,null,null,null,null,null,null,null,null,null,0,0,0,0,0,0,0,0,0,0,1,{"$f":"IFERROR(IF(L55=Dropdowns!$F$32,\"\",IF(J55=\"Project\",AR55/BT55,IF(J55=\"Program\",AP55/BT55,\"\"))),\"\")","v":""},"",null,null,null,null,null,null,null,null,null,{"$f":"IF($CA55=\"\",0,VLOOKUP($CA55,'Conversion Tables'!$B$37:$C$62,2,FALSE))+IF($CB55=\"\",0,VLOOKUP($CB55,'Conversion Tables'!$B$37:$C$62,2,FALSE))+IF($CC55=\"\",0,VLOOKUP($CC55,'Conversion Tables'!$B$37:$C$62,2,FALSE))+IF($CD55=\"\",0,VLOOKUP($CD55,'Conversion Tables'!$B$37:$C$62,2,FALSE))+IF($CE55=\"\",0,VLOOKUP($CE55,'Conversion Tables'!$B$37:$C$62,2,FALSE))+IF($CF55=\"\",0,VLOOKUP($CF55,'Conversion Tables'!$B$37:$C$62,2,FALSE))","v":0},null,null,null,null,null,null,{"$f":"IFERROR(VLOOKUP(CM55,Dropdowns!A$51:B$55,2,FALSE),\"\")","v":""},null,null,null,null,null,null,null,null,null,null,{"$f":"IFERROR(VLOOKUP(AZ55,'Conversion Tables'!$G$8:$N$12,3,FALSE)/'Conversion Tables'!$I$12*Max_Point,0)","v":0},{"$f":"CY55*'Weighting Scale'!$D$9*DS55*DT55","v":0},{"$f":"IFERROR(VLOOKUP(BB55,'Conversion Tables'!$B$8:$C$32,2,FALSE),0)","v":0},{"$f":"IFERROR(VLOOKUP(BC55,'Conversion Tables'!$B$8:$C$32,2,FALSE),0)","v":0},{"$f":"(DA55-DB55)/'Conversion Tables'!$C$32*Max_Point","v":0},{"$f":"DC55*'Weighting Scale'!$D$10*DS55*DT55","v":0},{"$f":"IFERROR(VLOOKUP(BE55,'Conversion Tables'!$G$8:$N$12,2, FALSE)/'Conversion Tables'!$H$12*Max_Point,0)","v":0},{"$f":"DE55*'Weighting Scale'!$D$11*DS55*DT55","v":0},{"$f":"IFERROR(VLOOKUP(BF55,'Conversion Tables'!$G$8:$N$12,6,FALSE)/'Conversion Tables'!$L$12*Max_Point,0)","v":0},{"$f":"DG55*'Weighting Scale'!$D$14*DS55*DT55","v":0},{"$f":"IFERROR(VLOOKUP(BG55,'Conversion Tables'!$G$8:$N$12,4,FALSE)/'Conversion Tables'!$J$12*Max_Point,0)","v":0},{"$f":"DI55*'Weighting Scale'!$D$12*DS55*DT55","v":0},{"$f":"IFERROR(VLOOKUP(BH55,'Conversion Tables'!$G$8:$N$12,5,FALSE)/'Conversion Tables'!$K$12*Max_Point,0)","v":0},{"$f":"DK55*'Weighting Scale'!$D$13*DS55*DT55","v":0},{"$f":"IFERROR(VLOOKUP(BI55,'Conversion Tables'!$G$8:$N$12,7,FALSE)/'Conversion Tables'!$M$12*Max_Point,0)","v":0},{"$f":"DM55*'Weighting Scale'!$D$15*DS55*DT55","v":0},{"$f":"IF(BJ55 = \"Yes\",('Conversion Tables'!$N$12)/'Conversion Tables'!$N$12*Max_Point,0)","v":0},{"$f":"DO55*'Weighting Scale'!$D$16*DS55*DT55","v":0},0,0,0,{"$f":"IF(I55=Dropdowns!$C$7,Dropdowns!$B$7,IF(I55=Dropdowns!$C$8,Dropdowns!$B$8,IF(I55=Dropdowns!$C$9,Dropdowns!$B$9,IF(I55=Dropdowns!$C$10,Dropdowns!$B$10,IF(I55=Dropdowns!$C$11,Dropdowns!$B$11,IF(I55=Dropdowns!$C$12,Dropdowns!$B$12,IF(I55=Dropdowns!$C$13,Dropdowns!$B$13,IF(I55=Dropdowns!$C$14,Dropdowns!$B$14,IF(I55=Dropdowns!$C$15,Dropdowns!$B$15,IF(I55=Dropdowns!$C$16,Dropdowns!$B$16,IF(I55=Dropdowns!$C$17,Dropdowns!$B$17,IF(I55=Dropdowns!$C$18,Dropdowns!$B$18,IF(I55=Dropdowns!$C$19,Dropdowns!$B$19,IF(I55=Dropdowns!$C$20,Dropdowns!$B$20,IF(I55=Dropdowns!$C$21,Dropdowns!$B$21,IF(I55=Dropdowns!$C$22,Dropdowns!$B$22,IF(I55=Dropdowns!$C$23,Dropdowns!$B$23,IF(I55=Dropdowns!$C$24,Dropdowns!$B$24,IF(I55=Dropdowns!$C$25,Dropdowns!$B$25,IF(I55=Dropdowns!$C$26,Dropdowns!$B$26,IF(I55=Dropdowns!$C$27,Dropdowns!$B$27,IF(I55=Dropdowns!$C$28,Dropdowns!$B$28,IF(I55=Dropdowns!$C$29,Dropdowns!$B$29,IF(I55=Dropdowns!$C$30,Dropdowns!$B$30,IF(I55=Dropdowns!$C$31,Dropdowns!$B$31,IF(I55=Dropdowns!$C$32,Dropdowns!$B$32,IF(I55=Dropdowns!$C$33,Dropdowns!$B$33,IF(I55=Dropdowns!$C$34,Dropdowns!$B$34,IF(I55=Dropdowns!$C$35,Dropdowns!$B$35,IF(I55=Dropdowns!$C$36,Dropdowns!$B$36,IF(I55=Dropdowns!$C$37,Dropdowns!$B$37,IF(I55=Dropdowns!$C$38,Dropdowns!$B$38,IF(I55=Dropdowns!$C$39,Dropdowns!$B$39,IF(I55=Dropdowns!$C$40,Dropdowns!$B$40,IF(I55=Dropdowns!$C$41,Dropdowns!$B$41,IF(I55=Dropdowns!$C$42,Dropdowns!$B$42,IF(I55=Dropdowns!$C$43,Dropdowns!$B$43,IF(I55=Dropdowns!$C$44,Dropdowns!$B$44,IF(I55=Dropdowns!$C$45,Dropdowns!$B$45,IF(I55=Dropdowns!$C$46,Dropdowns!$B$46,IF(I55=Dropdowns!$C$47,Dropdowns!$B$47, IF(I55=Dropdowns!$C$48,Dropdowns!$B$48,\"0\"))))))))))))))))))))))))))))))))))))))))))","v":0},{"$f":"IF(AX55=Dropdowns!$F$15,Dropdowns!$G$15,IF(AX55=Dropdowns!$F$16,Dropdowns!$G$16,IF(AX55=Dropdowns!$F$17,Dropdowns!$G$17,\"0\")))","v":"0"}]
[null,null,null,null,null,null,null,null,null,null,"-",null,null,null,null,null,null,null,null,null,null,0,null,null,null,null,null,0,null,null,null,null,null,null,0,null,null,null,null,0,0,null,0,0,0,0,"-",null,null,null,null,null,null,null,null,null,null,null,null,null,null,null,0,0,0,0,0,0,0,0,0,0,1,{"$f":"IFERROR(IF(L56=Dropdowns!$F$32,\"\",IF(J56=\"Project\",AR56/BT56,IF(J56=\"Program\",AP56/BT56,\"\"))),\"\")","v":""},"",null,null,null,null,null,null,null,null,null,{"$f":"IF($CA56=\"\",0,VLOOKUP($CA56,'Conversion Tables'!$B$37:$C$62,2,FALSE))+IF($CB56=\"\",0,VLOOKUP($CB56,'Conversion Tables'!$B$37:$C$62,2,FALSE))+IF($CC56=\"\",0,VLOOKUP($CC56,'Conversion Tables'!$B$37:$C$62,2,FALSE))+IF($CD56=\"\",0,VLOOKUP($CD56,'Conversion Tables'!$B$37:$C$62,2,FALSE))+IF($CE56=\"\",0,VLOOKUP($CE56,'Conversion Tables'!$B$37:$C$62,2,FALSE))+IF($CF56=\"\",0,VLOOKUP($CF56,'Conversion Tables'!$B$37:$C$62,2,FALSE))","v":0},null,null,null,null,null,null,{"$f":"IFERROR(VLOOKUP(CM56,Dropdowns!A$51:B$55,2,FALSE),\"\")","v":""},null,null,null,null,null,null,null,null,null,null,{"$f":"IFERROR(VLOOKUP(AZ56,'Conversion Tables'!$G$8:$N$12,3,FALSE)/'Conversion Tables'!$I$12*Max_Point,0)","v":0},{"$f":"CY56*'Weighting Scale'!$D$9*DS56*DT56","v":0},{"$f":"IFERROR(VLOOKUP(BB56,'Conversion Tables'!$B$8:$C$32,2,FALSE),0)","v":0},{"$f":"IFERROR(VLOOKUP(BC56,'Conversion Tables'!$B$8:$C$32,2,FALSE),0)","v":0},{"$f":"(DA56-DB56)/'Conversion Tables'!$C$32*Max_Point","v":0},{"$f":"DC56*'Weighting Scale'!$D$10*DS56*DT56","v":0},{"$f":"IFERROR(VLOOKUP(BE56,'Conversion Tables'!$G$8:$N$12,2, FALSE)/'Conversion Tables'!$H$12*Max_Point,0)","v":0},{"$f":"DE56*'Weighting Scale'!$D$11*DS56*DT56","v":0},{"$f":"IFERROR(VLOOKUP(BF56,'Conversion Tables'!$G$8:$N$12,6,FALSE)/'Conversion Tables'!$L$12*Max_Point,0)","v":0},{"$f":"DG56*'Weighting Scale'!$D$14*DS56*DT56","v":0},{"$f":"IFERROR(VLOOKUP(BG56,'Conversion Tables'!$G$8:$N$12,4,FALSE)/'Conversion Tables'!$J$12*Max_Point,0)","v":0},{"$f":"DI56*'Weighting Scale'!$D$12*DS56*DT56","v":0},{"$f":"IFERROR(VLOOKUP(BH56,'Conversion Tables'!$G$8:$N$12,5,FALSE)/'Conversion Tables'!$K$12*Max_Point,0)","v":0},{"$f":"DK56*'Weighting Scale'!$D$13*DS56*DT56","v":0},{"$f":"IFERROR(VLOOKUP(BI56,'Conversion Tables'!$G$8:$N$12,7,FALSE)/'Conversion Tables'!$M$12*Max_Point,0)","v":0},{"$f":"DM56*'Weighting Scale'!$D$15*DS56*DT56","v":0},{"$f":"IF(BJ56 = \"Yes\",('Conversion Tables'!$N$12)/'Conversion Tables'!$N$12*Max_Point,0)","v":0},{"$f":"DO56*'Weighting Scale'!$D$16*DS56*DT56","v":0},0,0,0,{"$f":"IF(I56=Dropdowns!$C$7,Dropdowns!$B$7,IF(I56=Dropdowns!$C$8,Dropdowns!$B$8,IF(I56=Dropdowns!$C$9,Dropdowns!$B$9,IF(I56=Dropdowns!$C$10,Dropdowns!$B$10,IF(I56=Dropdowns!$C$11,Dropdowns!$B$11,IF(I56=Dropdowns!$C$12,Dropdowns!$B$12,IF(I56=Dropdowns!$C$13,Dropdowns!$B$13,IF(I56=Dropdowns!$C$14,Dropdowns!$B$14,IF(I56=Dropdowns!$C$15,Dropdowns!$B$15,IF(I56=Dropdowns!$C$16,Dropdowns!$B$16,IF(I56=Dropdowns!$C$17,Dropdowns!$B$17,IF(I56=Dropdowns!$C$18,Dropdowns!$B$18,IF(I56=Dropdowns!$C$19,Dropdowns!$B$19,IF(I56=Dropdowns!$C$20,Dropdowns!$B$20,IF(I56=Dropdowns!$C$21,Dropdowns!$B$21,IF(I56=Dropdowns!$C$22,Dropdowns!$B$22,IF(I56=Dropdowns!$C$23,Dropdowns!$B$23,IF(I56=Dropdowns!$C$24,Dropdowns!$B$24,IF(I56=Dropdowns!$C$25,Dropdowns!$B$25,IF(I56=Dropdowns!$C$26,Dropdowns!$B$26,IF(I56=Dropdowns!$C$27,Dropdowns!$B$27,IF(I56=Dropdowns!$C$28,Dropdowns!$B$28,IF(I56=Dropdowns!$C$29,Dropdowns!$B$29,IF(I56=Dropdowns!$C$30,Dropdowns!$B$30,IF(I56=Dropdowns!$C$31,Dropdowns!$B$31,IF(I56=Dropdowns!$C$32,Dropdowns!$B$32,IF(I56=Dropdowns!$C$33,Dropdowns!$B$33,IF(I56=Dropdowns!$C$34,Dropdowns!$B$34,IF(I56=Dropdowns!$C$35,Dropdowns!$B$35,IF(I56=Dropdowns!$C$36,Dropdowns!$B$36,IF(I56=Dropdowns!$C$37,Dropdowns!$B$37,IF(I56=Dropdowns!$C$38,Dropdowns!$B$38,IF(I56=Dropdowns!$C$39,Dropdowns!$B$39,IF(I56=Dropdowns!$C$40,Dropdowns!$B$40,IF(I56=Dropdowns!$C$41,Dropdowns!$B$41,IF(I56=Dropdowns!$C$42,Dropdowns!$B$42,IF(I56=Dropdowns!$C$43,Dropdowns!$B$43,IF(I56=Dropdowns!$C$44,Dropdowns!$B$44,IF(I56=Dropdowns!$C$45,Dropdowns!$B$45,IF(I56=Dropdowns!$C$46,Dropdowns!$B$46,IF(I56=Dropdowns!$C$47,Dropdowns!$B$47, IF(I56=Dropdowns!$C$48,Dropdowns!$B$48,\"0\"))))))))))))))))))))))))))))))))))))))))))","v":0},{"$f":"IF(AX56=Dropdowns!$F$15,Dropdowns!$G$15,IF(AX56=Dropdowns!$F$16,Dropdowns!$G$16,IF(AX56=Dropdowns!$F$17,Dropdowns!$G$17,\"0\")))","v":"0"}]
[null,null,null,null,null,null,null,null,null,null,"-",null,null,null,null,null,null,null,null,null,null,0,null,null,null,null,null,0,null,null,null,null,null,null,0,null,null,null,null,0,0,null,0,0,0,0,"-",null,null,null,null,null,null,null,null,null,null,null,null,null,null,null,0,0,0,0,0,0,0,0,0,0,1,{"$f":"IFERROR(IF(L57=Dropdowns!$F$32,\"\",IF(J57=\"Project\",AR57/BT57,IF(J57=\"Program\",AP57/BT57,\"\"))),\"\")","v":""},"",null,null,null,null,null,null,null,null,null,{"$f":"IF($CA57=\"\",0,VLOOKUP($CA57,'Conversion Tables'!$B$37:$C$62,2,FALSE))+IF($CB57=\"\",0,VLOOKUP($CB57,'Conversion Tables'!$B$37:$C$62,2,FALSE))+IF($CC57=\"\",0,VLOOKUP($CC57,'Conversion Tables'!$B$37:$C$62,2,FALSE))+IF($CD57=\"\",0,VLOOKUP($CD57,'Conversion Tables'!$B$37:$C$62,2,FALSE))+IF($CE57=\"\",0,VLOOKUP($CE57,'Conversion Tables'!$B$37:$C$62,2,FALSE))+IF($CF57=\"\",0,VLOOKUP($CF57,'Conversion Tables'!$B$37:$C$62,2,FALSE))","v":0},null,null,null,null,null,null,{"$f":"IFERROR(VLOOKUP(CM57,Dropdowns!A$51:B$55,2,FALSE),\"\")","v":""},null,null,null,null,null,null,null,null,null,null,{"$f":"IFERROR(VLOOKUP(AZ57,'Conversion Tables'!$G$8:$N$12,3,FALSE)/'Conversion Tables'!$I$12*Max_Point,0)","v":0},{"$f":"CY57*'Weighting Scale'!$D$9*DS57*DT57","v":0},{"$f":"IFERROR(VLOOKUP(BB57,'Conversion Tables'!$B$8:$C$32,2,FALSE),0)","v":0},{"$f":"IFERROR(VLOOKUP(BC57,'Conversion Tables'!$B$8:$C$32,2,FALSE),0)","v":0},{"$f":"(DA57-DB57)/'Conversion Tables'!$C$32*Max_Point","v":0},{"$f":"DC57*'Weighting Scale'!$D$10*DS57*DT57","v":0},{"$f":"IFERROR(VLOOKUP(BE57,'Conversion Tables'!$G$8:$N$12,2, FALSE)/'Conversion Tables'!$H$12*Max_Point,0)","v":0},{"$f":"DE57*'Weighting Scale'!$D$11*DS57*DT57","v":0},{"$f":"IFERROR(VLOOKUP(BF57,'Conversion Tables'!$G$8:$N$12,6,FALSE)/'Conversion Tables'!$L$12*Max_Point,0)","v":0},{"$f":"DG57*'Weighting Scale'!$D$14*DS57*DT57","v":0},{"$f":"IFERROR(VLOOKUP(BG57,'Conversion Tables'!$G$8:$N$12,4,FALSE)/'Conversion Tables'!$J$12*Max_Point,0)","v":0},{"$f":"DI57*'Weighting Scale'!$D$12*DS57*DT57","v":0},{"$f":"IFERROR(VLOOKUP(BH57,'Conversion Tables'!$G$8:$N$12,5,FALSE)/'Conversion Tables'!$K$12*Max_Point,0)","v":0},{"$f":"DK57*'Weighting Scale'!$D$13*DS57*DT57","v":0},{"$f":"IFERROR(VLOOKUP(BI57,'Conversion Tables'!$G$8:$N$12,7,FALSE)/'Conversion Tables'!$M$12*Max_Point,0)","v":0},{"$f":"DM57*'Weighting Scale'!$D$15*DS57*DT57","v":0},{"$f":"IF(BJ57 = \"Yes\",('Conversion Tables'!$N$12)/'Conversion Tables'!$N$12*Max_Point,0)","v":0},{"$f":"DO57*'Weighting Scale'!$D$16*DS57*DT57","v":0},0,0,0,{"$f":"IF(I57=Dropdowns!$C$7,Dropdowns!$B$7,IF(I57=Dropdowns!$C$8,Dropdowns!$B$8,IF(I57=Dropdowns!$C$9,Dropdowns!$B$9,IF(I57=Dropdowns!$C$10,Dropdowns!$B$10,IF(I57=Dropdowns!$C$11,Dropdowns!$B$11,IF(I57=Dropdowns!$C$12,Dropdowns!$B$12,IF(I57=Dropdowns!$C$13,Dropdowns!$B$13,IF(I57=Dropdowns!$C$14,Dropdowns!$B$14,IF(I57=Dropdowns!$C$15,Dropdowns!$B$15,IF(I57=Dropdowns!$C$16,Dropdowns!$B$16,IF(I57=Dropdowns!$C$17,Dropdowns!$B$17,IF(I57=Dropdowns!$C$18,Dropdowns!$B$18,IF(I57=Dropdowns!$C$19,Dropdowns!$B$19,IF(I57=Dropdowns!$C$20,Dropdowns!$B$20,IF(I57=Dropdowns!$C$21,Dropdowns!$B$21,IF(I57=Dropdowns!$C$22,Dropdowns!$B$22,IF(I57=Dropdowns!$C$23,Dropdowns!$B$23,IF(I57=Dropdowns!$C$24,Dropdowns!$B$24,IF(I57=Dropdowns!$C$25,Dropdowns!$B$25,IF(I57=Dropdowns!$C$26,Dropdowns!$B$26,IF(I57=Dropdowns!$C$27,Dropdowns!$B$27,IF(I57=Dropdowns!$C$28,Dropdowns!$B$28,IF(I57=Dropdowns!$C$29,Dropdowns!$B$29,IF(I57=Dropdowns!$C$30,Dropdowns!$B$30,IF(I57=Dropdowns!$C$31,Dropdowns!$B$31,IF(I57=Dropdowns!$C$32,Dropdowns!$B$32,IF(I57=Dropdowns!$C$33,Dropdowns!$B$33,IF(I57=Dropdowns!$C$34,Dropdowns!$B$34,IF(I57=Dropdowns!$C$35,Dropdowns!$B$35,IF(I57=Dropdowns!$C$36,Dropdowns!$B$36,IF(I57=Dropdowns!$C$37,Dropdowns!$B$37,IF(I57=Dropdowns!$C$38,Dropdowns!$B$38,IF(I57=Dropdowns!$C$39,Dropdowns!$B$39,IF(I57=Dropdowns!$C$40,Dropdowns!$B$40,IF(I57=Dropdowns!$C$41,Dropdowns!$B$41,IF(I57=Dropdowns!$C$42,Dropdowns!$B$42,IF(I57=Dropdowns!$C$43,Dropdowns!$B$43,IF(I57=Dropdowns!$C$44,Dropdowns!$B$44,IF(I57=Dropdowns!$C$45,Dropdowns!$B$45,IF(I57=Dropdowns!$C$46,Dropdowns!$B$46,IF(I57=Dropdowns!$C$47,Dropdowns!$B$47, IF(I57=Dropdowns!$C$48,Dropdowns!$B$48,\"0\"))))))))))))))))))))))))))))))))))))))))))","v":0},{"$f":"IF(AX57=Dropdowns!$F$15,Dropdowns!$G$15,IF(AX57=Dropdowns!$F$16,Dropdowns!$G$16,IF(AX57=Dropdowns!$F$17,Dropdowns!$G$17,\"0\")))","v":"0"}]
[null,null,null,null,null,null,null,null,null,null,"-",null,null,null,null,null,null,null,null,null,null,0,null,null,null,null,null,0,null,null,null,null,null,null,0,null,null,null,null,0,0,null,0,0,0,0,"-",null,null,null,null,null,null,null,null,null,null,null,null,null,null,null,0,0,0,0,0,0,0,0,0,0,1,{"$f":"IFERROR(IF(L58=Dropdowns!$F$32,\"\",IF(J58=\"Project\",AR58/BT58,IF(J58=\"Program\",AP58/BT58,\"\"))),\"\")","v":""},"",null,null,null,null,null,null,null,null,null,{"$f":"IF($CA58=\"\",0,VLOOKUP($CA58,'Conversion Tables'!$B$37:$C$62,2,FALSE))+IF($CB58=\"\",0,VLOOKUP($CB58,'Conversion Tables'!$B$37:$C$62,2,FALSE))+IF($CC58=\"\",0,VLOOKUP($CC58,'Conversion Tables'!$B$37:$C$62,2,FALSE))+IF($CD58=\"\",0,VLOOKUP($CD58,'Conversion Tables'!$B$37:$C$62,2,FALSE))+IF($CE58=\"\",0,VLOOKUP($CE58,'Conversion Tables'!$B$37:$C$62,2,FALSE))+IF($CF58=\"\",0,VLOOKUP($CF58,'Conversion Tables'!$B$37:$C$62,2,FALSE))","v":0},null,null,null,null,null,null,{"$f":"IFERROR(VLOOKUP(CM58,Dropdowns!A$51:B$55,2,FALSE),\"\")","v":""},null,null,null,null,null,null,null,null,null,null,{"$f":"IFERROR(VLOOKUP(AZ58,'Conversion Tables'!$G$8:$N$12,3,FALSE)/'Conversion Tables'!$I$12*Max_Point,0)","v":0},{"$f":"CY58*'Weighting Scale'!$D$9*DS58*DT58","v":0},{"$f":"IFERROR(VLOOKUP(BB58,'Conversion Tables'!$B$8:$C$32,2,FALSE),0)","v":0},{"$f":"IFERROR(VLOOKUP(BC58,'Conversion Tables'!$B$8:$C$32,2,FALSE),0)","v":0},{"$f":"(DA58-DB58)/'Conversion Tables'!$C$32*Max_Point","v":0},{"$f":"DC58*'Weighting Scale'!$D$10*DS58*DT58","v":0},{"$f":"IFERROR(VLOOKUP(BE58,'Conversion Tables'!$G$8:$N$12,2, FALSE)/'Conversion Tables'!$H$12*Max_Point,0)","v":0},{"$f":"DE58*'Weighting Scale'!$D$11*DS58*DT58","v":0},{"$f":"IFERROR(VLOOKUP(BF58,'Conversion Tables'!$G$8:$N$12,6,FALSE)/'Conversion Tables'!$L$12*Max_Point,0)","v":0},{"$f":"DG58*'Weighting Scale'!$D$14*DS58*DT58","v":0},{"$f":"IFERROR(VLOOKUP(BG58,'Conversion Tables'!$G$8:$N$12,4,FALSE)/'Conversion Tables'!$J$12*Max_Point,0)","v":0},{"$f":"DI58*'Weighting Scale'!$D$12*DS58*DT58","v":0},{"$f":"IFERROR(VLOOKUP(BH58,'Conversion Tables'!$G$8:$N$12,5,FALSE)/'Conversion Tables'!$K$12*Max_Point,0)","v":0},{"$f":"DK58*'Weighting Scale'!$D$13*DS58*DT58","v":0},{"$f":"IFERROR(VLOOKUP(BI58,'Conversion Tables'!$G$8:$N$12,7,FALSE)/'Conversion Tables'!$M$12*Max_Point,0)","v":0},{"$f":"DM58*'Weighting Scale'!$D$15*DS58*DT58","v":0},{"$f":"IF(BJ58 = \"Yes\",('Conversion Tables'!$N$12)/'Conversion Tables'!$N$12*Max_Point,0)","v":0},{"$f":"DO58*'Weighting Scale'!$D$16*DS58*DT58","v":0},0,0,0,{"$f":"IF(I58=Dropdowns!$C$7,Dropdowns!$B$7,IF(I58=Dropdowns!$C$8,Dropdowns!$B$8,IF(I58=Dropdowns!$C$9,Dropdowns!$B$9,IF(I58=Dropdowns!$C$10,Dropdowns!$B$10,IF(I58=Dropdowns!$C$11,Dropdowns!$B$11,IF(I58=Dropdowns!$C$12,Dropdowns!$B$12,IF(I58=Dropdowns!$C$13,Dropdowns!$B$13,IF(I58=Dropdowns!$C$14,Dropdowns!$B$14,IF(I58=Dropdowns!$C$15,Dropdowns!$B$15,IF(I58=Dropdowns!$C$16,Dropdowns!$B$16,IF(I58=Dropdowns!$C$17,Dropdowns!$B$17,IF(I58=Dropdowns!$C$18,Dropdowns!$B$18,IF(I58=Dropdowns!$C$19,Dropdowns!$B$19,IF(I58=Dropdowns!$C$20,Dropdowns!$B$20,IF(I58=Dropdowns!$C$21,Dropdowns!$B$21,IF(I58=Dropdowns!$C$22,Dropdowns!$B$22,IF(I58=Dropdowns!$C$23,Dropdowns!$B$23,IF(I58=Dropdowns!$C$24,Dropdowns!$B$24,IF(I58=Dropdowns!$C$25,Dropdowns!$B$25,IF(I58=Dropdowns!$C$26,Dropdowns!$B$26,IF(I58=Dropdowns!$C$27,Dropdowns!$B$27,IF(I58=Dropdowns!$C$28,Dropdowns!$B$28,IF(I58=Dropdowns!$C$29,Dropdowns!$B$29,IF(I58=Dropdowns!$C$30,Dropdowns!$B$30,IF(I58=Dropdowns!$C$31,Dropdowns!$B$31,IF(I58=Dropdowns!$C$32,Dropdowns!$B$32,IF(I58=Dropdowns!$C$33,Dropdowns!$B$33,IF(I58=Dropdowns!$C$34,Dropdowns!$B$34,IF(I58=Dropdowns!$C$35,Dropdowns!$B$35,IF(I58=Dropdowns!$C$36,Dropdowns!$B$36,IF(I58=Dropdowns!$C$37,Dropdowns!$B$37,IF(I58=Dropdowns!$C$38,Dropdowns!$B$38,IF(I58=Dropdowns!$C$39,Dropdowns!$B$39,IF(I58=Dropdowns!$C$40,Dropdowns!$B$40,IF(I58=Dropdowns!$C$41,Dropdowns!$B$41,IF(I58=Dropdowns!$C$42,Dropdowns!$B$42,IF(I58=Dropdowns!$C$43,Dropdowns!$B$43,IF(I58=Dropdowns!$C$44,Dropdowns!$B$44,IF(I58=Dropdowns!$C$45,Dropdowns!$B$45,IF(I58=Dropdowns!$C$46,Dropdowns!$B$46,IF(I58=Dropdowns!$C$47,Dropdowns!$B$47, IF(I58=Dropdowns!$C$48,Dropdowns!$B$48,\"0\"))))))))))))))))))))))))))))))))))))))))))","v":0},{"$f":"IF(AX58=Dropdowns!$F$15,Dropdowns!$G$15,IF(AX58=Dropdowns!$F$16,Dropdowns!$G$16,IF(AX58=Dropdowns!$F$17,Dropdowns!$G$17,\"0\")))","v":"0"}]
[null,null,null,null,null,null,null,null,null,null,"-",null,null,null,null,null,null,null,null,null,null,0,null,null,null,null,null,0,null,null,null,null,null,null,0,null,null,null,null,0,0,null,0,0,0,0,"-",null,null,null,null,null,null,null,null,null,null,null,null,null,null,null,0,0,0,0,0,0,0,0,0,0,1,{"$f":"IFERROR(IF(L59=Dropdowns!$F$32,\"\",IF(J59=\"Project\",AR59/BT59,IF(J59=\"Program\",AP59/BT59,\"\"))),\"\")","v":""},"",null,null,null,null,null,null,null,null,null,{"$f":"IF($CA59=\"\",0,VLOOKUP($CA59,'Conversion Tables'!$B$37:$C$62,2,FALSE))+IF($CB59=\"\",0,VLOOKUP($CB59,'Conversion Tables'!$B$37:$C$62,2,FALSE))+IF($CC59=\"\",0,VLOOKUP($CC59,'Conversion Tables'!$B$37:$C$62,2,FALSE))+IF($CD59=\"\",0,VLOOKUP($CD59,'Conversion Tables'!$B$37:$C$62,2,FALSE))+IF($CE59=\"\",0,VLOOKUP($CE59,'Conversion Tables'!$B$37:$C$62,2,FALSE))+IF($CF59=\"\",0,VLOOKUP($CF59,'Conversion Tables'!$B$37:$C$62,2,FALSE))","v":0},null,null,null,null,null,null,{"$f":"IFERROR(VLOOKUP(CM59,Dropdowns!A$51:B$55,2,FALSE),\"\")","v":""},null,null,null,null,null,null,null,null,null,null,{"$f":"IFERROR(VLOOKUP(AZ59,'Conversion Tables'!$G$8:$N$12,3,FALSE)/'Conversion Tables'!$I$12*Max_Point,0)","v":0},{"$f":"CY59*'Weighting Scale'!$D$9*DS59*DT59","v":0},{"$f":"IFERROR(VLOOKUP(BB59,'Conversion Tables'!$B$8:$C$32,2,FALSE),0)","v":0},{"$f":"IFERROR(VLOOKUP(BC59,'Conversion Tables'!$B$8:$C$32,2,FALSE),0)","v":0},{"$f":"(DA59-DB59)/'Conversion Tables'!$C$32*Max_Point","v":0},{"$f":"DC59*'Weighting Scale'!$D$10*DS59*DT59","v":0},{"$f":"IFERROR(VLOOKUP(BE59,'Conversion Tables'!$G$8:$N$12,2, FALSE)/'Conversion Tables'!$H$12*Max_Point,0)","v":0},{"$f":"DE59*'Weighting Scale'!$D$11*DS59*DT59","v":0},{"$f":"IFERROR(VLOOKUP(BF59,'Conversion Tables'!$G$8:$N$12,6,FALSE)/'Conversion Tables'!$L$12*Max_Point,0)","v":0},{"$f":"DG59*'Weighting Scale'!$D$14*DS59*DT59","v":0},{"$f":"IFERROR(VLOOKUP(BG59,'Conversion Tables'!$G$8:$N$12,4,FALSE)/'Conversion Tables'!$J$12*Max_Point,0)","v":0},{"$f":"DI59*'Weighting Scale'!$D$12*DS59*DT59","v":0},{"$f":"IFERROR(VLOOKUP(BH59,'Conversion Tables'!$G$8:$N$12,5,FALSE)/'Conversion Tables'!$K$12*Max_Point,0)","v":0},{"$f":"DK59*'Weighting Scale'!$D$13*DS59*DT59","v":0},{"$f":"IFERROR(VLOOKUP(BI59,'Conversion Tables'!$G$8:$N$12,7,FALSE)/'Conversion Tables'!$M$12*Max_Point,0)","v":0},{"$f":"DM59*'Weighting Scale'!$D$15*DS59*DT59","v":0},{"$f":"IF(BJ59 = \"Yes\",('Conversion Tables'!$N$12)/'Conversion Tables'!$N$12*Max_Point,0)","v":0},{"$f":"DO59*'Weighting Scale'!$D$16*DS59*DT59","v":0},0,0,0,{"$f":"IF(I59=Dropdowns!$C$7,Dropdowns!$B$7,IF(I59=Dropdowns!$C$8,Dropdowns!$B$8,IF(I59=Dropdowns!$C$9,Dropdowns!$B$9,IF(I59=Dropdowns!$C$10,Dropdowns!$B$10,IF(I59=Dropdowns!$C$11,Dropdowns!$B$11,IF(I59=Dropdowns!$C$12,Dropdowns!$B$12,IF(I59=Dropdowns!$C$13,Dropdowns!$B$13,IF(I59=Dropdowns!$C$14,Dropdowns!$B$14,IF(I59=Dropdowns!$C$15,Dropdowns!$B$15,IF(I59=Dropdowns!$C$16,Dropdowns!$B$16,IF(I59=Dropdowns!$C$17,Dropdowns!$B$17,IF(I59=Dropdowns!$C$18,Dropdowns!$B$18,IF(I59=Dropdowns!$C$19,Dropdowns!$B$19,IF(I59=Dropdowns!$C$20,Dropdowns!$B$20,IF(I59=Dropdowns!$C$21,Dropdowns!$B$21,IF(I59=Dropdowns!$C$22,Dropdowns!$B$22,IF(I59=Dropdowns!$C$23,Dropdowns!$B$23,IF(I59=Dropdowns!$C$24,Dropdowns!$B$24,IF(I59=Dropdowns!$C$25,Dropdowns!$B$25,IF(I59=Dropdowns!$C$26,Dropdowns!$B$26,IF(I59=Dropdowns!$C$27,Dropdowns!$B$27,IF(I59=Dropdowns!$C$28,Dropdowns!$B$28,IF(I59=Dropdowns!$C$29,Dropdowns!$B$29,IF(I59=Dropdowns!$C$30,Dropdowns!$B$30,IF(I59=Dropdowns!$C$31,Dropdowns!$B$31,IF(I59=Dropdowns!$C$32,Dropdowns!$B$32,IF(I59=Dropdowns!$C$33,Dropdowns!$B$33,IF(I59=Dropdowns!$C$34,Dropdowns!$B$34,IF(I59=Dropdowns!$C$35,Dropdowns!$B$35,IF(I59=Dropdowns!$C$36,Dropdowns!$B$36,IF(I59=Dropdowns!$C$37,Dropdowns!$B$37,IF(I59=Dropdowns!$C$38,Dropdowns!$B$38,IF(I59=Dropdowns!$C$39,Dropdowns!$B$39,IF(I59=Dropdowns!$C$40,Dropdowns!$B$40,IF(I59=Dropdowns!$C$41,Dropdowns!$B$41,IF(I59=Dropdowns!$C$42,Dropdowns!$B$42,IF(I59=Dropdowns!$C$43,Dropdowns!$B$43,IF(I59=Dropdowns!$C$44,Dropdowns!$B$44,IF(I59=Dropdowns!$C$45,Dropdowns!$B$45,IF(I59=Dropdowns!$C$46,Dropdowns!$B$46,IF(I59=Dropdowns!$C$47,Dropdowns!$B$47, IF(I59=Dropdowns!$C$48,Dropdowns!$B$48,\"0\"))))))))))))))))))))))))))))))))))))))))))","v":0},{"$f":"IF(AX59=Dropdowns!$F$15,Dropdowns!$G$15,IF(AX59=Dropdowns!$F$16,Dropdowns!$G$16,IF(AX59=Dropdowns!$F$17,Dropdowns!$G$17,\"0\")))","v":"0"}]
[null,null,null,null,null,null,null,null,null,null,"-",null,null,null,null,null,null,null,null,null,null,0,null,null,null,null,null,0,null,null,null,null,null,null,0,null,null,null,null,0,0,null,0,0,0,0,"-",null,null,null,null,null,null,null,null,null,null,null,null,null,null,null,0,0,0,0,0,0,0,0,0,0,1,{"$f":"IFERROR(IF(L60=Dropdowns!$F$32,\"\",IF(J60=\"Project\",AR60/BT60,IF(J60=\"Program\",AP60/BT60,\"\"))),\"\")","v":""},"",null,null,null,null,null,null,null,null,null,{"$f":"IF($CA60=\"\",0,VLOOKUP($CA60,'Conversion Tables'!$B$37:$C$62,2,FALSE))+IF($CB60=\"\",0,VLOOKUP($CB60,'Conversion Tables'!$B$37:$C$62,2,FALSE))+IF($CC60=\"\",0,VLOOKUP($CC60,'Conversion Tables'!$B$37:$C$62,2,FALSE))+IF($CD60=\"\",0,VLOOKUP($CD60,'Conversion Tables'!$B$37:$C$62,2,FALSE))+IF($CE60=\"\",0,VLOOKUP($CE60,'Conversion Tables'!$B$37:$C$62,2,FALSE))+IF($CF60=\"\",0,VLOOKUP($CF60,'Conversion Tables'!$B$37:$C$62,2,FALSE))","v":0},null,null,null,null,null,null,{"$f":"IFERROR(VLOOKUP(CM60,Dropdowns!A$51:B$55,2,FALSE),\"\")","v":""},null,null,null,null,null,null,null,null,null,null,{"$f":"IFERROR(VLOOKUP(AZ60,'Conversion Tables'!$G$8:$N$12,3,FALSE)/'Conversion Tables'!$I$12*Max_Point,0)","v":0},{"$f":"CY60*'Weighting Scale'!$D$9*DS60*DT60","v":0},{"$f":"IFERROR(VLOOKUP(BB60,'Conversion Tables'!$B$8:$C$32,2,FALSE),0)","v":0},{"$f":"IFERROR(VLOOKUP(BC60,'Conversion Tables'!$B$8:$C$32,2,FALSE),0)","v":0},{"$f":"(DA60-DB60)/'Conversion Tables'!$C$32*Max_Point","v":0},{"$f":"DC60*'Weighting Scale'!$D$10*DS60*DT60","v":0},{"$f":"IFERROR(VLOOKUP(BE60,'Conversion Tables'!$G$8:$N$12,2, FALSE)/'Conversion Tables'!$H$12*Max_Point,0)","v":0},{"$f":"DE60*'Weighting Scale'!$D$11*DS60*DT60","v":0},{"$f":"IFERROR(VLOOKUP(BF60,'Conversion Tables'!$G$8:$N$12,6,FALSE)/'Conversion Tables'!$L$12*Max_Point,0)","v":0},{"$f":"DG60*'Weighting Scale'!$D$14*DS60*DT60","v":0},{"$f":"IFERROR(VLOOKUP(BG60,'Conversion Tables'!$G$8:$N$12,4,FALSE)/'Conversion Tables'!$J$12*Max_Point,0)","v":0},{"$f":"DI60*'Weighting Scale'!$D$12*DS60*DT60","v":0},{"$f":"IFERROR(VLOOKUP(BH60,'Conversion Tables'!$G$8:$N$12,5,FALSE)/'Conversion Tables'!$K$12*Max_Point,0)","v":0},{"$f":"DK60*'Weighting Scale'!$D$13*DS60*DT60","v":0},{"$f":"IFERROR(VLOOKUP(BI60,'Conversion Tables'!$G$8:$N$12,7,FALSE)/'Conversion Tables'!$M$12*Max_Point,0)","v":0},{"$f":"DM60*'Weighting Scale'!$D$15*DS60*DT60","v":0},{"$f":"IF(BJ60 = \"Yes\",('Conversion Tables'!$N$12)/'Conversion Tables'!$N$12*Max_Point,0)","v":0},{"$f":"DO60*'Weighting Scale'!$D$16*DS60*DT60","v":0},0,0,0,{"$f":"IF(I60=Dropdowns!$C$7,Dropdowns!$B$7,IF(I60=Dropdowns!$C$8,Dropdowns!$B$8,IF(I60=Dropdowns!$C$9,Dropdowns!$B$9,IF(I60=Dropdowns!$C$10,Dropdowns!$B$10,IF(I60=Dropdowns!$C$11,Dropdowns!$B$11,IF(I60=Dropdowns!$C$12,Dropdowns!$B$12,IF(I60=Dropdowns!$C$13,Dropdowns!$B$13,IF(I60=Dropdowns!$C$14,Dropdowns!$B$14,IF(I60=Dropdowns!$C$15,Dropdowns!$B$15,IF(I60=Dropdowns!$C$16,Dropdowns!$B$16,IF(I60=Dropdowns!$C$17,Dropdowns!$B$17,IF(I60=Dropdowns!$C$18,Dropdowns!$B$18,IF(I60=Dropdowns!$C$19,Dropdowns!$B$19,IF(I60=Dropdowns!$C$20,Dropdowns!$B$20,IF(I60=Dropdowns!$C$21,Dropdowns!$B$21,IF(I60=Dropdowns!$C$22,Dropdowns!$B$22,IF(I60=Dropdowns!$C$23,Dropdowns!$B$23,IF(I60=Dropdowns!$C$24,Dropdowns!$B$24,IF(I60=Dropdowns!$C$25,Dropdowns!$B$25,IF(I60=Dropdowns!$C$26,Dropdowns!$B$26,IF(I60=Dropdowns!$C$27,Dropdowns!$B$27,IF(I60=Dropdowns!$C$28,Dropdowns!$B$28,IF(I60=Dropdowns!$C$29,Dropdowns!$B$29,IF(I60=Dropdowns!$C$30,Dropdowns!$B$30,IF(I60=Dropdowns!$C$31,Dropdowns!$B$31,IF(I60=Dropdowns!$C$32,Dropdowns!$B$32,IF(I60=Dropdowns!$C$33,Dropdowns!$B$33,IF(I60=Dropdowns!$C$34,Dropdowns!$B$34,IF(I60=Dropdowns!$C$35,Dropdowns!$B$35,IF(I60=Dropdowns!$C$36,Dropdowns!$B$36,IF(I60=Dropdowns!$C$37,Dropdowns!$B$37,IF(I60=Dropdowns!$C$38,Dropdowns!$B$38,IF(I60=Dropdowns!$C$39,Dropdowns!$B$39,IF(I60=Dropdowns!$C$40,Dropdowns!$B$40,IF(I60=Dropdowns!$C$41,Dropdowns!$B$41,IF(I60=Dropdowns!$C$42,Dropdowns!$B$42,IF(I60=Dropdowns!$C$43,Dropdowns!$B$43,IF(I60=Dropdowns!$C$44,Dropdowns!$B$44,IF(I60=Dropdowns!$C$45,Dropdowns!$B$45,IF(I60=Dropdowns!$C$46,Dropdowns!$B$46,IF(I60=Dropdowns!$C$47,Dropdowns!$B$47, IF(I60=Dropdowns!$C$48,Dropdowns!$B$48,\"0\"))))))))))))))))))))))))))))))))))))))))))","v":0},{"$f":"IF(AX60=Dropdowns!$F$15,Dropdowns!$G$15,IF(AX60=Dropdowns!$F$16,Dropdowns!$G$16,IF(AX60=Dropdowns!$F$17,Dropdowns!$G$17,\"0\")))","v":"0"}]
[null,null,null,null,null,null,null,null,null,null,"-",null,null,null,null,null,null,null,null,null,null,0,null,null,null,null,null,0,null,null,null,null,null,null,0,null,null,null,null,0,0,null,0,0,0,0,"-",null,null,null,null,null,null,null,null,null,null,null,null,null,null,null,0,0,0,0,0,0,0,0,0,0,1,{"$f":"IFERROR(IF(L61=Dropdowns!$F$32,\"\",IF(J61=\"Project\",AR61/BT61,IF(J61=\"Program\",AP61/BT61,\"\"))),\"\")","v":""},"",null,null,null,null,null,null,null,null,null,{"$f":"IF($CA61=\"\",0,VLOOKUP($CA61,'Conversion Tables'!$B$37:$C$62,2,FALSE))+IF($CB61=\"\",0,VLOOKUP($CB61,'Conversion Tables'!$B$37:$C$62,2,FALSE))+IF($CC61=\"\",0,VLOOKUP($CC61,'Conversion Tables'!$B$37:$C$62,2,FALSE))+IF($CD61=\"\",0,VLOOKUP($CD61,'Conversion Tables'!$B$37:$C$62,2,FALSE))+IF($CE61=\"\",0,VLOOKUP($CE61,'Conversion Tables'!$B$37:$C$62,2,FALSE))+IF($CF61=\"\",0,VLOOKUP($CF61,'Conversion Tables'!$B$37:$C$62,2,FALSE))","v":0},null,null,null,null,null,null,{"$f":"IFERROR(VLOOKUP(CM61,Dropdowns!A$51:B$55,2,FALSE),\"\")","v":""},null,null,null,null,null,null,null,null,null,null,{"$f":"IFERROR(VLOOKUP(AZ61,'Conversion Tables'!$G$8:$N$12,3,FALSE)/'Conversion Tables'!$I$12*Max_Point,0)","v":0},{"$f":"CY61*'Weighting Scale'!$D$9*DS61*DT61","v":0},{"$f":"IFERROR(VLOOKUP(BB61,'Conversion Tables'!$B$8:$C$32,2,FALSE),0)","v":0},{"$f":"IFERROR(VLOOKUP(BC61,'Conversion Tables'!$B$8:$C$32,2,FALSE),0)","v":0},{"$f":"(DA61-DB61)/'Conversion Tables'!$C$32*Max_Point","v":0},{"$f":"DC61*'Weighting Scale'!$D$10*DS61*DT61","v":0},{"$f":"IFERROR(VLOOKUP(BE61,'Conversion Tables'!$G$8:$N$12,2, FALSE)/'Conversion Tables'!$H$12*Max_Point,0)","v":0},{"$f":"DE61*'Weighting Scale'!$D$11*DS61*DT61","v":0},{"$f":"IFERROR(VLOOKUP(BF61,'Conversion Tables'!$G$8:$N$12,6,FALSE)/'Conversion Tables'!$L$12*Max_Point,0)","v":0},{"$f":"DG61*'Weighting Scale'!$D$14*DS61*DT61","v":0},{"$f":"IFERROR(VLOOKUP(BG61,'Conversion Tables'!$G$8:$N$12,4,FALSE)/'Conversion Tables'!$J$12*Max_Point,0)","v":0},{"$f":"DI61*'Weighting Scale'!$D$12*DS61*DT61","v":0},{"$f":"IFERROR(VLOOKUP(BH61,'Conversion Tables'!$G$8:$N$12,5,FALSE)/'Conversion Tables'!$K$12*Max_Point,0)","v":0},{"$f":"DK61*'Weighting Scale'!$D$13*DS61*DT61","v":0},{"$f":"IFERROR(VLOOKUP(BI61,'Conversion Tables'!$G$8:$N$12,7,FALSE)/'Conversion Tables'!$M$12*Max_Point,0)","v":0},{"$f":"DM61*'Weighting Scale'!$D$15*DS61*DT61","v":0},{"$f":"IF(BJ61 = \"Yes\",('Conversion Tables'!$N$12)/'Conversion Tables'!$N$12*Max_Point,0)","v":0},{"$f":"DO61*'Weighting Scale'!$D$16*DS61*DT61","v":0},0,0,0,{"$f":"IF(I61=Dropdowns!$C$7,Dropdowns!$B$7,IF(I61=Dropdowns!$C$8,Dropdowns!$B$8,IF(I61=Dropdowns!$C$9,Dropdowns!$B$9,IF(I61=Dropdowns!$C$10,Dropdowns!$B$10,IF(I61=Dropdowns!$C$11,Dropdowns!$B$11,IF(I61=Dropdowns!$C$12,Dropdowns!$B$12,IF(I61=Dropdowns!$C$13,Dropdowns!$B$13,IF(I61=Dropdowns!$C$14,Dropdowns!$B$14,IF(I61=Dropdowns!$C$15,Dropdowns!$B$15,IF(I61=Dropdowns!$C$16,Dropdowns!$B$16,IF(I61=Dropdowns!$C$17,Dropdowns!$B$17,IF(I61=Dropdowns!$C$18,Dropdowns!$B$18,IF(I61=Dropdowns!$C$19,Dropdowns!$B$19,IF(I61=Dropdowns!$C$20,Dropdowns!$B$20,IF(I61=Dropdowns!$C$21,Dropdowns!$B$21,IF(I61=Dropdowns!$C$22,Dropdowns!$B$22,IF(I61=Dropdowns!$C$23,Dropdowns!$B$23,IF(I61=Dropdowns!$C$24,Dropdowns!$B$24,IF(I61=Dropdowns!$C$25,Dropdowns!$B$25,IF(I61=Dropdowns!$C$26,Dropdowns!$B$26,IF(I61=Dropdowns!$C$27,Dropdowns!$B$27,IF(I61=Dropdowns!$C$28,Dropdowns!$B$28,IF(I61=Dropdowns!$C$29,Dropdowns!$B$29,IF(I61=Dropdowns!$C$30,Dropdowns!$B$30,IF(I61=Dropdowns!$C$31,Dropdowns!$B$31,IF(I61=Dropdowns!$C$32,Dropdowns!$B$32,IF(I61=Dropdowns!$C$33,Dropdowns!$B$33,IF(I61=Dropdowns!$C$34,Dropdowns!$B$34,IF(I61=Dropdowns!$C$35,Dropdowns!$B$35,IF(I61=Dropdowns!$C$36,Dropdowns!$B$36,IF(I61=Dropdowns!$C$37,Dropdowns!$B$37,IF(I61=Dropdowns!$C$38,Dropdowns!$B$38,IF(I61=Dropdowns!$C$39,Dropdowns!$B$39,IF(I61=Dropdowns!$C$40,Dropdowns!$B$40,IF(I61=Dropdowns!$C$41,Dropdowns!$B$41,IF(I61=Dropdowns!$C$42,Dropdowns!$B$42,IF(I61=Dropdowns!$C$43,Dropdowns!$B$43,IF(I61=Dropdowns!$C$44,Dropdowns!$B$44,IF(I61=Dropdowns!$C$45,Dropdowns!$B$45,IF(I61=Dropdowns!$C$46,Dropdowns!$B$46,IF(I61=Dropdowns!$C$47,Dropdowns!$B$47, IF(I61=Dropdowns!$C$48,Dropdowns!$B$48,\"0\"))))))))))))))))))))))))))))))))))))))))))","v":0},{"$f":"IF(AX61=Dropdowns!$F$15,Dropdowns!$G$15,IF(AX61=Dropdowns!$F$16,Dropdowns!$G$16,IF(AX61=Dropdowns!$F$17,Dropdowns!$G$17,\"0\")))","v":"0"}]
[null,null,null,null,null,null,null,null,null,null,"-",null,null,null,null,null,null,null,null,null,null,0,null,null,null,null,null,0,null,null,null,null,null,null,0,null,null,null,null,0,0,null,0,0,0,0,"-",null,null,null,null,null,null,null,null,null,null,null,null,null,null,null,0,0,0,0,0,0,0,0,0,0,1,{"$f":"IFERROR(IF(L62=Dropdowns!$F$32,\"\",IF(J62=\"Project\",AR62/BT62,IF(J62=\"Program\",AP62/BT62,\"\"))),\"\")","v":""},"",null,null,null,null,null,null,null,null,null,{"$f":"IF($CA62=\"\",0,VLOOKUP($CA62,'Conversion Tables'!$B$37:$C$62,2,FALSE))+IF($CB62=\"\",0,VLOOKUP($CB62,'Conversion Tables'!$B$37:$C$62,2,FALSE))+IF($CC62=\"\",0,VLOOKUP($CC62,'Conversion Tables'!$B$37:$C$62,2,FALSE))+IF($CD62=\"\",0,VLOOKUP($CD62,'Conversion Tables'!$B$37:$C$62,2,FALSE))+IF($CE62=\"\",0,VLOOKUP($CE62,'Conversion Tables'!$B$37:$C$62,2,FALSE))+IF($CF62=\"\",0,VLOOKUP($CF62,'Conversion Tables'!$B$37:$C$62,2,FALSE))","v":0},null,null,null,null,null,null,{"$f":"IFERROR(VLOOKUP(CM62,Dropdowns!A$51:B$55,2,FALSE),\"\")","v":""},null,null,null,null,null,null,null,null,null,null,{"$f":"IFERROR(VLOOKUP(AZ62,'Conversion Tables'!$G$8:$N$12,3,FALSE)/'Conversion Tables'!$I$12*Max_Point,0)","v":0},{"$f":"CY62*'Weighting Scale'!$D$9*DS62*DT62","v":0},{"$f":"IFERROR(VLOOKUP(BB62,'Conversion Tables'!$B$8:$C$32,2,FALSE),0)","v":0},{"$f":"IFERROR(VLOOKUP(BC62,'Conversion Tables'!$B$8:$C$32,2,FALSE),0)","v":0},{"$f":"(DA62-DB62)/'Conversion Tables'!$C$32*Max_Point","v":0},{"$f":"DC62*'Weighting Scale'!$D$10*DS62*DT62","v":0},{"$f":"IFERROR(VLOOKUP(BE62,'Conversion Tables'!$G$8:$N$12,2, FALSE)/'Conversion Tables'!$H$12*Max_Point,0)","v":0},{"$f":"DE62*'Weighting Scale'!$D$11*DS62*DT62","v":0},{"$f":"IFERROR(VLOOKUP(BF62,'Conversion Tables'!$G$8:$N$12,6,FALSE)/'Conversion Tables'!$L$12*Max_Point,0)","v":0},{"$f":"DG62*'Weighting Scale'!$D$14*DS62*DT62","v":0},{"$f":"IFERROR(VLOOKUP(BG62,'Conversion Tables'!$G$8:$N$12,4,FALSE)/'Conversion Tables'!$J$12*Max_Point,0)","v":0},{"$f":"DI62*'Weighting Scale'!$D$12*DS62*DT62","v":0},{"$f":"IFERROR(VLOOKUP(BH62,'Conversion Tables'!$G$8:$N$12,5,FALSE)/'Conversion Tables'!$K$12*Max_Point,0)","v":0},{"$f":"DK62*'Weighting Scale'!$D$13*DS62*DT62","v":0},{"$f":"IFERROR(VLOOKUP(BI62,'Conversion Tables'!$G$8:$N$12,7,FALSE)/'Conversion Tables'!$M$12*Max_Point,0)","v":0},{"$f":"DM62*'Weighting Scale'!$D$15*DS62*DT62","v":0},{"$f":"IF(BJ62 = \"Yes\",('Conversion Tables'!$N$12)/'Conversion Tables'!$N$12*Max_Point,0)","v":0},{"$f":"DO62*'Weighting Scale'!$D$16*DS62*DT62","v":0},0,0,0,{"$f":"IF(I62=Dropdowns!$C$7,Dropdowns!$B$7,IF(I62=Dropdowns!$C$8,Dropdowns!$B$8,IF(I62=Dropdowns!$C$9,Dropdowns!$B$9,IF(I62=Dropdowns!$C$10,Dropdowns!$B$10,IF(I62=Dropdowns!$C$11,Dropdowns!$B$11,IF(I62=Dropdowns!$C$12,Dropdowns!$B$12,IF(I62=Dropdowns!$C$13,Dropdowns!$B$13,IF(I62=Dropdowns!$C$14,Dropdowns!$B$14,IF(I62=Dropdowns!$C$15,Dropdowns!$B$15,IF(I62=Dropdowns!$C$16,Dropdowns!$B$16,IF(I62=Dropdowns!$C$17,Dropdowns!$B$17,IF(I62=Dropdowns!$C$18,Dropdowns!$B$18,IF(I62=Dropdowns!$C$19,Dropdowns!$B$19,IF(I62=Dropdowns!$C$20,Dropdowns!$B$20,IF(I62=Dropdowns!$C$21,Dropdowns!$B$21,IF(I62=Dropdowns!$C$22,Dropdowns!$B$22,IF(I62=Dropdowns!$C$23,Dropdowns!$B$23,IF(I62=Dropdowns!$C$24,Dropdowns!$B$24,IF(I62=Dropdowns!$C$25,Dropdowns!$B$25,IF(I62=Dropdowns!$C$26,Dropdowns!$B$26,IF(I62=Dropdowns!$C$27,Dropdowns!$B$27,IF(I62=Dropdowns!$C$28,Dropdowns!$B$28,IF(I62=Dropdowns!$C$29,Dropdowns!$B$29,IF(I62=Dropdowns!$C$30,Dropdowns!$B$30,IF(I62=Dropdowns!$C$31,Dropdowns!$B$31,IF(I62=Dropdowns!$C$32,Dropdowns!$B$32,IF(I62=Dropdowns!$C$33,Dropdowns!$B$33,IF(I62=Dropdowns!$C$34,Dropdowns!$B$34,IF(I62=Dropdowns!$C$35,Dropdowns!$B$35,IF(I62=Dropdowns!$C$36,Dropdowns!$B$36,IF(I62=Dropdowns!$C$37,Dropdowns!$B$37,IF(I62=Dropdowns!$C$38,Dropdowns!$B$38,IF(I62=Dropdowns!$C$39,Dropdowns!$B$39,IF(I62=Dropdowns!$C$40,Dropdowns!$B$40,IF(I62=Dropdowns!$C$41,Dropdowns!$B$41,IF(I62=Dropdowns!$C$42,Dropdowns!$B$42,IF(I62=Dropdowns!$C$43,Dropdowns!$B$43,IF(I62=Dropdowns!$C$44,Dropdowns!$B$44,IF(I62=Dropdowns!$C$45,Dropdowns!$B$45,IF(I62=Dropdowns!$C$46,Dropdowns!$B$46,IF(I62=Dropdowns!$C$47,Dropdowns!$B$47, IF(I62=Dropdowns!$C$48,Dropdowns!$B$48,\"0\"))))))))))))))))))))))))))))))))))))))))))","v":0},{"$f":"IF(AX62=Dropdowns!$F$15,Dropdowns!$G$15,IF(AX62=Dropdowns!$F$16,Dropdowns!$G$16,IF(AX62=Dropdowns!$F$17,Dropdowns!$G$17,\"0\")))","v":"0"}]
[null,null,null,null,null,null,null,null,null,null,"-",null,null,null,null,null,null,null,null,null,null,0,null,null,null,null,null,0,null,null,null,null,null,null,0,null,null,null,null,0,0,null,0,0,0,0,"-",null,null,null,null,null,null,null,null,null,null,null,null,null,null,null,0,0,0,0,0,0,0,0,0,0,1,{"$f":"IFERROR(IF(L63=Dropdowns!$F$32,\"\",IF(J63=\"Project\",AR63/BT63,IF(J63=\"Program\",AP63/BT63,\"\"))),\"\")","v":""},"",null,null,null,null,null,null,null,null,null,{"$f":"IF($CA63=\"\",0,VLOOKUP($CA63,'Conversion Tables'!$B$37:$C$62,2,FALSE))+IF($CB63=\"\",0,VLOOKUP($CB63,'Conversion Tables'!$B$37:$C$62,2,FALSE))+IF($CC63=\"\",0,VLOOKUP($CC63,'Conversion Tables'!$B$37:$C$62,2,FALSE))+IF($CD63=\"\",0,VLOOKUP($CD63,'Conversion Tables'!$B$37:$C$62,2,FALSE))+IF($CE63=\"\",0,VLOOKUP($CE63,'Conversion Tables'!$B$37:$C$62,2,FALSE))+IF($CF63=\"\",0,VLOOKUP($CF63,'Conversion Tables'!$B$37:$C$62,2,FALSE))","v":0},null,null,null,null,null,null,{"$f":"IFERROR(VLOOKUP(CM63,Dropdowns!A$51:B$55,2,FALSE),\"\")","v":""},null,null,null,null,null,null,null,null,null,null,{"$f":"IFERROR(VLOOKUP(AZ63,'Conversion Tables'!$G$8:$N$12,3,FALSE)/'Conversion Tables'!$I$12*Max_Point,0)","v":0},{"$f":"CY63*'Weighting Scale'!$D$9*DS63*DT63","v":0},{"$f":"IFERROR(VLOOKUP(BB63,'Conversion Tables'!$B$8:$C$32,2,FALSE),0)","v":0},{"$f":"IFERROR(VLOOKUP(BC63,'Conversion Tables'!$B$8:$C$32,2,FALSE),0)","v":0},{"$f":"(DA63-DB63)/'Conversion Tables'!$C$32*Max_Point","v":0},{"$f":"DC63*'Weighting Scale'!$D$10*DS63*DT63","v":0},{"$f":"IFERROR(VLOOKUP(BE63,'Conversion Tables'!$G$8:$N$12,2, FALSE)/'Conversion Tables'!$H$12*Max_Point,0)","v":0},{"$f":"DE63*'Weighting Scale'!$D$11*DS63*DT63","v":0},{"$f":"IFERROR(VLOOKUP(BF63,'Conversion Tables'!$G$8:$N$12,6,FALSE)/'Conversion Tables'!$L$12*Max_Point,0)","v":0},{"$f":"DG63*'Weighting Scale'!$D$14*DS63*DT63","v":0},{"$f":"IFERROR(VLOOKUP(BG63,'Conversion Tables'!$G$8:$N$12,4,FALSE)/'Conversion Tables'!$J$12*Max_Point,0)","v":0},{"$f":"DI63*'Weighting Scale'!$D$12*DS63*DT63","v":0},{"$f":"IFERROR(VLOOKUP(BH63,'Conversion Tables'!$G$8:$N$12,5,FALSE)/'Conversion Tables'!$K$12*Max_Point,0)","v":0},{"$f":"DK63*'Weighting Scale'!$D$13*DS63*DT63","v":0},{"$f":"IFERROR(VLOOKUP(BI63,'Conversion Tables'!$G$8:$N$12,7,FALSE)/'Conversion Tables'!$M$12*Max_Point,0)","v":0},{"$f":"DM63*'Weighting Scale'!$D$15*DS63*DT63","v":0},{"$f":"IF(BJ63 = \"Yes\",('Conversion Tables'!$N$12)/'Conversion Tables'!$N$12*Max_Point,0)","v":0},{"$f":"DO63*'Weighting Scale'!$D$16*DS63*DT63","v":0},0,0,0,{"$f":"IF(I63=Dropdowns!$C$7,Dropdowns!$B$7,IF(I63=Dropdowns!$C$8,Dropdowns!$B$8,IF(I63=Dropdowns!$C$9,Dropdowns!$B$9,IF(I63=Dropdowns!$C$10,Dropdowns!$B$10,IF(I63=Dropdowns!$C$11,Dropdowns!$B$11,IF(I63=Dropdowns!$C$12,Dropdowns!$B$12,IF(I63=Dropdowns!$C$13,Dropdowns!$B$13,IF(I63=Dropdowns!$C$14,Dropdowns!$B$14,IF(I63=Dropdowns!$C$15,Dropdowns!$B$15,IF(I63=Dropdowns!$C$16,Dropdowns!$B$16,IF(I63=Dropdowns!$C$17,Dropdowns!$B$17,IF(I63=Dropdowns!$C$18,Dropdowns!$B$18,IF(I63=Dropdowns!$C$19,Dropdowns!$B$19,IF(I63=Dropdowns!$C$20,Dropdowns!$B$20,IF(I63=Dropdowns!$C$21,Dropdowns!$B$21,IF(I63=Dropdowns!$C$22,Dropdowns!$B$22,IF(I63=Dropdowns!$C$23,Dropdowns!$B$23,IF(I63=Dropdowns!$C$24,Dropdowns!$B$24,IF(I63=Dropdowns!$C$25,Dropdowns!$B$25,IF(I63=Dropdowns!$C$26,Dropdowns!$B$26,IF(I63=Dropdowns!$C$27,Dropdowns!$B$27,IF(I63=Dropdowns!$C$28,Dropdowns!$B$28,IF(I63=Dropdowns!$C$29,Dropdowns!$B$29,IF(I63=Dropdowns!$C$30,Dropdowns!$B$30,IF(I63=Dropdowns!$C$31,Dropdowns!$B$31,IF(I63=Dropdowns!$C$32,Dropdowns!$B$32,IF(I63=Dropdowns!$C$33,Dropdowns!$B$33,IF(I63=Dropdowns!$C$34,Dropdowns!$B$34,IF(I63=Dropdowns!$C$35,Dropdowns!$B$35,IF(I63=Dropdowns!$C$36,Dropdowns!$B$36,IF(I63=Dropdowns!$C$37,Dropdowns!$B$37,IF(I63=Dropdowns!$C$38,Dropdowns!$B$38,IF(I63=Dropdowns!$C$39,Dropdowns!$B$39,IF(I63=Dropdowns!$C$40,Dropdowns!$B$40,IF(I63=Dropdowns!$C$41,Dropdowns!$B$41,IF(I63=Dropdowns!$C$42,Dropdowns!$B$42,IF(I63=Dropdowns!$C$43,Dropdowns!$B$43,IF(I63=Dropdowns!$C$44,Dropdowns!$B$44,IF(I63=Dropdowns!$C$45,Dropdowns!$B$45,IF(I63=Dropdowns!$C$46,Dropdowns!$B$46,IF(I63=Dropdowns!$C$47,Dropdowns!$B$47, IF(I63=Dropdowns!$C$48,Dropdowns!$B$48,\"0\"))))))))))))))))))))))))))))))))))))))))))","v":0},{"$f":"IF(AX63=Dropdowns!$F$15,Dropdowns!$G$15,IF(AX63=Dropdowns!$F$16,Dropdowns!$G$16,IF(AX63=Dropdowns!$F$17,Dropdowns!$G$17,\"0\")))","v":"0"}]
[null,null,null,null,null,null,null,null,null,null,"-",null,null,null,null,null,null,null,null,null,null,0,null,null,null,null,null,0,null,null,null,null,null,null,0,null,null,null,null,0,0,null,0,0,0,0,"-",null,null,null,null,null,null,null,null,null,null,null,null,null,null,null,0,0,0,0,0,0,0,0,0,0,1,{"$f":"IFERROR(IF(L64=Dropdowns!$F$32,\"\",IF(J64=\"Project\",AR64/BT64,IF(J64=\"Program\",AP64/BT64,\"\"))),\"\")","v":""},"",null,null,null,null,null,null,null,null,null,{"$f":"IF($CA64=\"\",0,VLOOKUP($CA64,'Conversion Tables'!$B$37:$C$62,2,FALSE))+IF($CB64=\"\",0,VLOOKUP($CB64,'Conversion Tables'!$B$37:$C$62,2,FALSE))+IF($CC64=\"\",0,VLOOKUP($CC64,'Conversion Tables'!$B$37:$C$62,2,FALSE))+IF($CD64=\"\",0,VLOOKUP($CD64,'Conversion Tables'!$B$37:$C$62,2,FALSE))+IF($CE64=\"\",0,VLOOKUP($CE64,'Conversion Tables'!$B$37:$C$62,2,FALSE))+IF($CF64=\"\",0,VLOOKUP($CF64,'Conversion Tables'!$B$37:$C$62,2,FALSE))","v":0},null,null,null,null,null,null,{"$f":"IFERROR(VLOOKUP(CM64,Dropdowns!A$51:B$55,2,FALSE),\"\")","v":""},null,null,null,null,null,null,null,null,null,null,{"$f":"IFERROR(VLOOKUP(AZ64,'Conversion Tables'!$G$8:$N$12,3,FALSE)/'Conversion Tables'!$I$12*Max_Point,0)","v":0},{"$f":"CY64*'Weighting Scale'!$D$9*DS64*DT64","v":0},{"$f":"IFERROR(VLOOKUP(BB64,'Conversion Tables'!$B$8:$C$32,2,FALSE),0)","v":0},{"$f":"IFERROR(VLOOKUP(BC64,'Conversion Tables'!$B$8:$C$32,2,FALSE),0)","v":0},{"$f":"(DA64-DB64)/'Conversion Tables'!$C$32*Max_Point","v":0},{"$f":"DC64*'Weighting Scale'!$D$10*DS64*DT64","v":0},{"$f":"IFERROR(VLOOKUP(BE64,'Conversion Tables'!$G$8:$N$12,2, FALSE)/'Conversion Tables'!$H$12*Max_Point,0)","v":0},{"$f":"DE64*'Weighting Scale'!$D$11*DS64*DT64","v":0},{"$f":"IFERROR(VLOOKUP(BF64,'Conversion Tables'!$G$8:$N$12,6,FALSE)/'Conversion Tables'!$L$12*Max_Point,0)","v":0},{"$f":"DG64*'Weighting Scale'!$D$14*DS64*DT64","v":0},{"$f":"IFERROR(VLOOKUP(BG64,'Conversion Tables'!$G$8:$N$12,4,FALSE)/'Conversion Tables'!$J$12*Max_Point,0)","v":0},{"$f":"DI64*'Weighting Scale'!$D$12*DS64*DT64","v":0},{"$f":"IFERROR(VLOOKUP(BH64,'Conversion Tables'!$G$8:$N$12,5,FALSE)/'Conversion Tables'!$K$12*Max_Point,0)","v":0},{"$f":"DK64*'Weighting Scale'!$D$13*DS64*DT64","v":0},{"$f":"IFERROR(VLOOKUP(BI64,'Conversion Tables'!$G$8:$N$12,7,FALSE)/'Conversion Tables'!$M$12*Max_Point,0)","v":0},{"$f":"DM64*'Weighting Scale'!$D$15*DS64*DT64","v":0},{"$f":"IF(BJ64 = \"Yes\",('Conversion Tables'!$N$12)/'Conversion Tables'!$N$12*Max_Point,0)","v":0},{"$f":"DO64*'Weighting Scale'!$D$16*DS64*DT64","v":0},0,0,0,{"$f":"IF(I64=Dropdowns!$C$7,Dropdowns!$B$7,IF(I64=Dropdowns!$C$8,Dropdowns!$B$8,IF(I64=Dropdowns!$C$9,Dropdowns!$B$9,IF(I64=Dropdowns!$C$10,Dropdowns!$B$10,IF(I64=Dropdowns!$C$11,Dropdowns!$B$11,IF(I64=Dropdowns!$C$12,Dropdowns!$B$12,IF(I64=Dropdowns!$C$13,Dropdowns!$B$13,IF(I64=Dropdowns!$C$14,Dropdowns!$B$14,IF(I64=Dropdowns!$C$15,Dropdowns!$B$15,IF(I64=Dropdowns!$C$16,Dropdowns!$B$16,IF(I64=Dropdowns!$C$17,Dropdowns!$B$17,IF(I64=Dropdowns!$C$18,Dropdowns!$B$18,IF(I64=Dropdowns!$C$19,Dropdowns!$B$19,IF(I64=Dropdowns!$C$20,Dropdowns!$B$20,IF(I64=Dropdowns!$C$21,Dropdowns!$B$21,IF(I64=Dropdowns!$C$22,Dropdowns!$B$22,IF(I64=Dropdowns!$C$23,Dropdowns!$B$23,IF(I64=Dropdowns!$C$24,Dropdowns!$B$24,IF(I64=Dropdowns!$C$25,Dropdowns!$B$25,IF(I64=Dropdowns!$C$26,Dropdowns!$B$26,IF(I64=Dropdowns!$C$27,Dropdowns!$B$27,IF(I64=Dropdowns!$C$28,Dropdowns!$B$28,IF(I64=Dropdowns!$C$29,Dropdowns!$B$29,IF(I64=Dropdowns!$C$30,Dropdowns!$B$30,IF(I64=Dropdowns!$C$31,Dropdowns!$B$31,IF(I64=Dropdowns!$C$32,Dropdowns!$B$32,IF(I64=Dropdowns!$C$33,Dropdowns!$B$33,IF(I64=Dropdowns!$C$34,Dropdowns!$B$34,IF(I64=Dropdowns!$C$35,Dropdowns!$B$35,IF(I64=Dropdowns!$C$36,Dropdowns!$B$36,IF(I64=Dropdowns!$C$37,Dropdowns!$B$37,IF(I64=Dropdowns!$C$38,Dropdowns!$B$38,IF(I64=Dropdowns!$C$39,Dropdowns!$B$39,IF(I64=Dropdowns!$C$40,Dropdowns!$B$40,IF(I64=Dropdowns!$C$41,Dropdowns!$B$41,IF(I64=Dropdowns!$C$42,Dropdowns!$B$42,IF(I64=Dropdowns!$C$43,Dropdowns!$B$43,IF(I64=Dropdowns!$C$44,Dropdowns!$B$44,IF(I64=Dropdowns!$C$45,Dropdowns!$B$45,IF(I64=Dropdowns!$C$46,Dropdowns!$B$46,IF(I64=Dropdowns!$C$47,Dropdowns!$B$47, IF(I64=Dropdowns!$C$48,Dropdowns!$B$48,\"0\"))))))))))))))))))))))))))))))))))))))))))","v":0},{"$f":"IF(AX64=Dropdowns!$F$15,Dropdowns!$G$15,IF(AX64=Dropdowns!$F$16,Dropdowns!$G$16,IF(AX64=Dropdowns!$F$17,Dropdowns!$G$17,\"0\")))","v":"0"}]
[null,null,null,null,null,null,null,null,null,null,"-",null,null,null,null,null,null,null,null,null,null,0,null,null,null,null,null,0,null,null,null,null,null,null,0,null,null,null,null,0,0,null,0,0,0,0,"-",null,null,null,null,null,null,null,null,null,null,null,null,null,null,null,0,0,0,0,0,0,0,0,0,0,1,{"$f":"IFERROR(IF(L65=Dropdowns!$F$32,\"\",IF(J65=\"Project\",AR65/BT65,IF(J65=\"Program\",AP65/BT65,\"\"))),\"\")","v":""},"",null,null,null,null,null,null,null,null,null,{"$f":"IF($CA65=\"\",0,VLOOKUP($CA65,'Conversion Tables'!$B$37:$C$62,2,FALSE))+IF($CB65=\"\",0,VLOOKUP($CB65,'Conversion Tables'!$B$37:$C$62,2,FALSE))+IF($CC65=\"\",0,VLOOKUP($CC65,'Conversion Tables'!$B$37:$C$62,2,FALSE))+IF($CD65=\"\",0,VLOOKUP($CD65,'Conversion Tables'!$B$37:$C$62,2,FALSE))+IF($CE65=\"\",0,VLOOKUP($CE65,'Conversion Tables'!$B$37:$C$62,2,FALSE))+IF($CF65=\"\",0,VLOOKUP($CF65,'Conversion Tables'!$B$37:$C$62,2,FALSE))","v":0},null,null,null,null,null,null,{"$f":"IFERROR(VLOOKUP(CM65,Dropdowns!A$51:B$55,2,FALSE),\"\")","v":""},null,null,null,null,null,null,null,null,null,null,{"$f":"IFERROR(VLOOKUP(AZ65,'Conversion Tables'!$G$8:$N$12,3,FALSE)/'Conversion Tables'!$I$12*Max_Point,0)","v":0},{"$f":"CY65*'Weighting Scale'!$D$9*DS65*DT65","v":0},{"$f":"IFERROR(VLOOKUP(BB65,'Conversion Tables'!$B$8:$C$32,2,FALSE),0)","v":0},{"$f":"IFERROR(VLOOKUP(BC65,'Conversion Tables'!$B$8:$C$32,2,FALSE),0)","v":0},{"$f":"(DA65-DB65)/'Conversion Tables'!$C$32*Max_Point","v":0},{"$f":"DC65*'Weighting Scale'!$D$10*DS65*DT65","v":0},{"$f":"IFERROR(VLOOKUP(BE65,'Conversion Tables'!$G$8:$N$12,2, FALSE)/'Conversion Tables'!$H$12*Max_Point,0)","v":0},{"$f":"DE65*'Weighting Scale'!$D$11*DS65*DT65","v":0},{"$f":"IFERROR(VLOOKUP(BF65,'Conversion Tables'!$G$8:$N$12,6,FALSE)/'Conversion Tables'!$L$12*Max_Point,0)","v":0},{"$f":"DG65*'Weighting Scale'!$D$14*DS65*DT65","v":0},{"$f":"IFERROR(VLOOKUP(BG65,'Conversion Tables'!$G$8:$N$12,4,FALSE)/'Conversion Tables'!$J$12*Max_Point,0)","v":0},{"$f":"DI65*'Weighting Scale'!$D$12*DS65*DT65","v":0},{"$f":"IFERROR(VLOOKUP(BH65,'Conversion Tables'!$G$8:$N$12,5,FALSE)/'Conversion Tables'!$K$12*Max_Point,0)","v":0},{"$f":"DK65*'Weighting Scale'!$D$13*DS65*DT65","v":0},{"$f":"IFERROR(VLOOKUP(BI65,'Conversion Tables'!$G$8:$N$12,7,FALSE)/'Conversion Tables'!$M$12*Max_Point,0)","v":0},{"$f":"DM65*'Weighting Scale'!$D$15*DS65*DT65","v":0},{"$f":"IF(BJ65 = \"Yes\",('Conversion Tables'!$N$12)/'Conversion Tables'!$N$12*Max_Point,0)","v":0},{"$f":"DO65*'Weighting Scale'!$D$16*DS65*DT65","v":0},0,0,0,{"$f":"IF(I65=Dropdowns!$C$7,Dropdowns!$B$7,IF(I65=Dropdowns!$C$8,Dropdowns!$B$8,IF(I65=Dropdowns!$C$9,Dropdowns!$B$9,IF(I65=Dropdowns!$C$10,Dropdowns!$B$10,IF(I65=Dropdowns!$C$11,Dropdowns!$B$11,IF(I65=Dropdowns!$C$12,Dropdowns!$B$12,IF(I65=Dropdowns!$C$13,Dropdowns!$B$13,IF(I65=Dropdowns!$C$14,Dropdowns!$B$14,IF(I65=Dropdowns!$C$15,Dropdowns!$B$15,IF(I65=Dropdowns!$C$16,Dropdowns!$B$16,IF(I65=Dropdowns!$C$17,Dropdowns!$B$17,IF(I65=Dropdowns!$C$18,Dropdowns!$B$18,IF(I65=Dropdowns!$C$19,Dropdowns!$B$19,IF(I65=Dropdowns!$C$20,Dropdowns!$B$20,IF(I65=Dropdowns!$C$21,Dropdowns!$B$21,IF(I65=Dropdowns!$C$22,Dropdowns!$B$22,IF(I65=Dropdowns!$C$23,Dropdowns!$B$23,IF(I65=Dropdowns!$C$24,Dropdowns!$B$24,IF(I65=Dropdowns!$C$25,Dropdowns!$B$25,IF(I65=Dropdowns!$C$26,Dropdowns!$B$26,IF(I65=Dropdowns!$C$27,Dropdowns!$B$27,IF(I65=Dropdowns!$C$28,Dropdowns!$B$28,IF(I65=Dropdowns!$C$29,Dropdowns!$B$29,IF(I65=Dropdowns!$C$30,Dropdowns!$B$30,IF(I65=Dropdowns!$C$31,Dropdowns!$B$31,IF(I65=Dropdowns!$C$32,Dropdowns!$B$32,IF(I65=Dropdowns!$C$33,Dropdowns!$B$33,IF(I65=Dropdowns!$C$34,Dropdowns!$B$34,IF(I65=Dropdowns!$C$35,Dropdowns!$B$35,IF(I65=Dropdowns!$C$36,Dropdowns!$B$36,IF(I65=Dropdowns!$C$37,Dropdowns!$B$37,IF(I65=Dropdowns!$C$38,Dropdowns!$B$38,IF(I65=Dropdowns!$C$39,Dropdowns!$B$39,IF(I65=Dropdowns!$C$40,Dropdowns!$B$40,IF(I65=Dropdowns!$C$41,Dropdowns!$B$41,IF(I65=Dropdowns!$C$42,Dropdowns!$B$42,IF(I65=Dropdowns!$C$43,Dropdowns!$B$43,IF(I65=Dropdowns!$C$44,Dropdowns!$B$44,IF(I65=Dropdowns!$C$45,Dropdowns!$B$45,IF(I65=Dropdowns!$C$46,Dropdowns!$B$46,IF(I65=Dropdowns!$C$47,Dropdowns!$B$47, IF(I65=Dropdowns!$C$48,Dropdowns!$B$48,\"0\"))))))))))))))))))))))))))))))))))))))))))","v":0},{"$f":"IF(AX65=Dropdowns!$F$15,Dropdowns!$G$15,IF(AX65=Dropdowns!$F$16,Dropdowns!$G$16,IF(AX65=Dropdowns!$F$17,Dropdowns!$G$17,\"0\")))","v":"0"}]
[null,null,null,null,null,null,null,null,null,null,"-",null,null,null,null,null,null,null,null,null,null,0,null,null,null,null,null,0,null,null,null,null,null,null,0,null,null,null,null,0,0,null,0,0,0,0,"-",null,null,null,null,null,null,null,null,null,null,null,null,null,null,null,0,0,0,0,0,0,0,0,0,0,1,{"$f":"IFERROR(IF(L66=Dropdowns!$F$32,\"\",IF(J66=\"Project\",AR66/BT66,IF(J66=\"Program\",AP66/BT66,\"\"))),\"\")","v":""},"",null,null,null,null,null,null,null,null,null,{"$f":"IF($CA66=\"\",0,VLOOKUP($CA66,'Conversion Tables'!$B$37:$C$62,2,FALSE))+IF($CB66=\"\",0,VLOOKUP($CB66,'Conversion Tables'!$B$37:$C$62,2,FALSE))+IF($CC66=\"\",0,VLOOKUP($CC66,'Conversion Tables'!$B$37:$C$62,2,FALSE))+IF($CD66=\"\",0,VLOOKUP($CD66,'Conversion Tables'!$B$37:$C$62,2,FALSE))+IF($CE66=\"\",0,VLOOKUP($CE66,'Conversion Tables'!$B$37:$C$62,2,FALSE))+IF($CF66=\"\",0,VLOOKUP($CF66,'Conversion Tables'!$B$37:$C$62,2,FALSE))","v":0},null,null,null,null,null,null,{"$f":"IFERROR(VLOOKUP(CM66,Dropdowns!A$51:B$55,2,FALSE),\"\")","v":""},null,null,null,null,null,null,null,null,null,null,{"$f":"IFERROR(VLOOKUP(AZ66,'Conversion Tables'!$G$8:$N$12,3,FALSE)/'Conversion Tables'!$I$12*Max_Point,0)","v":0},{"$f":"CY66*'Weighting Scale'!$D$9*DS66*DT66","v":0},{"$f":"IFERROR(VLOOKUP(BB66,'Conversion Tables'!$B$8:$C$32,2,FALSE),0)","v":0},{"$f":"IFERROR(VLOOKUP(BC66,'Conversion Tables'!$B$8:$C$32,2,FALSE),0)","v":0},{"$f":"(DA66-DB66)/'Conversion Tables'!$C$32*Max_Point","v":0},{"$f":"DC66*'Weighting Scale'!$D$10*DS66*DT66","v":0},{"$f":"IFERROR(VLOOKUP(BE66,'Conversion Tables'!$G$8:$N$12,2, FALSE)/'Conversion Tables'!$H$12*Max_Point,0)","v":0},{"$f":"DE66*'Weighting Scale'!$D$11*DS66*DT66","v":0},{"$f":"IFERROR(VLOOKUP(BF66,'Conversion Tables'!$G$8:$N$12,6,FALSE)/'Conversion Tables'!$L$12*Max_Point,0)","v":0},{"$f":"DG66*'Weighting Scale'!$D$14*DS66*DT66","v":0},{"$f":"IFERROR(VLOOKUP(BG66,'Conversion Tables'!$G$8:$N$12,4,FALSE)/'Conversion Tables'!$J$12*Max_Point,0)","v":0},{"$f":"DI66*'Weighting Scale'!$D$12*DS66*DT66","v":0},{"$f":"IFERROR(VLOOKUP(BH66,'Conversion Tables'!$G$8:$N$12,5,FALSE)/'Conversion Tables'!$K$12*Max_Point,0)","v":0},{"$f":"DK66*'Weighting Scale'!$D$13*DS66*DT66","v":0},{"$f":"IFERROR(VLOOKUP(BI66,'Conversion Tables'!$G$8:$N$12,7,FALSE)/'Conversion Tables'!$M$12*Max_Point,0)","v":0},{"$f":"DM66*'Weighting Scale'!$D$15*DS66*DT66","v":0},{"$f":"IF(BJ66 = \"Yes\",('Conversion Tables'!$N$12)/'Conversion Tables'!$N$12*Max_Point,0)","v":0},{"$f":"DO66*'Weighting Scale'!$D$16*DS66*DT66","v":0},0,0,0,{"$f":"IF(I66=Dropdowns!$C$7,Dropdowns!$B$7,IF(I66=Dropdowns!$C$8,Dropdowns!$B$8,IF(I66=Dropdowns!$C$9,Dropdowns!$B$9,IF(I66=Dropdowns!$C$10,Dropdowns!$B$10,IF(I66=Dropdowns!$C$11,Dropdowns!$B$11,IF(I66=Dropdowns!$C$12,Dropdowns!$B$12,IF(I66=Dropdowns!$C$13,Dropdowns!$B$13,IF(I66=Dropdowns!$C$14,Dropdowns!$B$14,IF(I66=Dropdowns!$C$15,Dropdowns!$B$15,IF(I66=Dropdowns!$C$16,Dropdowns!$B$16,IF(I66=Dropdowns!$C$17,Dropdowns!$B$17,IF(I66=Dropdowns!$C$18,Dropdowns!$B$18,IF(I66=Dropdowns!$C$19,Dropdowns!$B$19,IF(I66=Dropdowns!$C$20,Dropdowns!$B$20,IF(I66=Dropdowns!$C$21,Dropdowns!$B$21,IF(I66=Dropdowns!$C$22,Dropdowns!$B$22,IF(I66=Dropdowns!$C$23,Dropdowns!$B$23,IF(I66=Dropdowns!$C$24,Dropdowns!$B$24,IF(I66=Dropdowns!$C$25,Dropdowns!$B$25,IF(I66=Dropdowns!$C$26,Dropdowns!$B$26,IF(I66=Dropdowns!$C$27,Dropdowns!$B$27,IF(I66=Dropdowns!$C$28,Dropdowns!$B$28,IF(I66=Dropdowns!$C$29,Dropdowns!$B$29,IF(I66=Dropdowns!$C$30,Dropdowns!$B$30,IF(I66=Dropdowns!$C$31,Dropdowns!$B$31,IF(I66=Dropdowns!$C$32,Dropdowns!$B$32,IF(I66=Dropdowns!$C$33,Dropdowns!$B$33,IF(I66=Dropdowns!$C$34,Dropdowns!$B$34,IF(I66=Dropdowns!$C$35,Dropdowns!$B$35,IF(I66=Dropdowns!$C$36,Dropdowns!$B$36,IF(I66=Dropdowns!$C$37,Dropdowns!$B$37,IF(I66=Dropdowns!$C$38,Dropdowns!$B$38,IF(I66=Dropdowns!$C$39,Dropdowns!$B$39,IF(I66=Dropdowns!$C$40,Dropdowns!$B$40,IF(I66=Dropdowns!$C$41,Dropdowns!$B$41,IF(I66=Dropdowns!$C$42,Dropdowns!$B$42,IF(I66=Dropdowns!$C$43,Dropdowns!$B$43,IF(I66=Dropdowns!$C$44,Dropdowns!$B$44,IF(I66=Dropdowns!$C$45,Dropdowns!$B$45,IF(I66=Dropdowns!$C$46,Dropdowns!$B$46,IF(I66=Dropdowns!$C$47,Dropdowns!$B$47, IF(I66=Dropdowns!$C$48,Dropdowns!$B$48,\"0\"))))))))))))))))))))))))))))))))))))))))))","v":0},{"$f":"IF(AX66=Dropdowns!$F$15,Dropdowns!$G$15,IF(AX66=Dropdowns!$F$16,Dropdowns!$G$16,IF(AX66=Dropdowns!$F$17,Dropdowns!$G$17,\"0\")))","v":"0"}]
[null,null,null,null,null,null,null,null,null,null,"-",null,null,null,null,null,null,null,null,null,null,0,null,null,null,null,null,0,null,null,null,null,null,null,0,null,null,null,null,0,0,null,0,0,0,0,"-",null,null,null,null,null,null,null,null,null,null,null,null,null,null,null,0,0,0,0,0,0,0,0,0,0,1,{"$f":"IFERROR(IF(L67=Dropdowns!$F$32,\"\",IF(J67=\"Project\",AR67/BT67,IF(J67=\"Program\",AP67/BT67,\"\"))),\"\")","v":""},"",null,null,null,null,null,null,null,null,null,{"$f":"IF($CA67=\"\",0,VLOOKUP($CA67,'Conversion Tables'!$B$37:$C$62,2,FALSE))+IF($CB67=\"\",0,VLOOKUP($CB67,'Conversion Tables'!$B$37:$C$62,2,FALSE))+IF($CC67=\"\",0,VLOOKUP($CC67,'Conversion Tables'!$B$37:$C$62,2,FALSE))+IF($CD67=\"\",0,VLOOKUP($CD67,'Conversion Tables'!$B$37:$C$62,2,FALSE))+IF($CE67=\"\",0,VLOOKUP($CE67,'Conversion Tables'!$B$37:$C$62,2,FALSE))+IF($CF67=\"\",0,VLOOKUP($CF67,'Conversion Tables'!$B$37:$C$62,2,FALSE))","v":0},null,null,null,null,null,null,{"$f":"IFERROR(VLOOKUP(CM67,Dropdowns!A$51:B$55,2,FALSE),\"\")","v":""},null,null,null,null,null,null,null,null,null,null,{"$f":"IFERROR(VLOOKUP(AZ67,'Conversion Tables'!$G$8:$N$12,3,FALSE)/'Conversion Tables'!$I$12*Max_Point,0)","v":0},{"$f":"CY67*'Weighting Scale'!$D$9*DS67*DT67","v":0},{"$f":"IFERROR(VLOOKUP(BB67,'Conversion Tables'!$B$8:$C$32,2,FALSE),0)","v":0},{"$f":"IFERROR(VLOOKUP(BC67,'Conversion Tables'!$B$8:$C$32,2,FALSE),0)","v":0},{"$f":"(DA67-DB67)/'Conversion Tables'!$C$32*Max_Point","v":0},{"$f":"DC67*'Weighting Scale'!$D$10*DS67*DT67","v":0},{"$f":"IFERROR(VLOOKUP(BE67,'Conversion Tables'!$G$8:$N$12,2, FALSE)/'Conversion Tables'!$H$12*Max_Point,0)","v":0},{"$f":"DE67*'Weighting Scale'!$D$11*DS67*DT67","v":0},{"$f":"IFERROR(VLOOKUP(BF67,'Conversion Tables'!$G$8:$N$12,6,FALSE)/'Conversion Tables'!$L$12*Max_Point,0)","v":0},{"$f":"DG67*'Weighting Scale'!$D$14*DS67*DT67","v":0},{"$f":"IFERROR(VLOOKUP(BG67,'Conversion Tables'!$G$8:$N$12,4,FALSE)/'Conversion Tables'!$J$12*Max_Point,0)","v":0},{"$f":"DI67*'Weighting Scale'!$D$12*DS67*DT67","v":0},{"$f":"IFERROR(VLOOKUP(BH67,'Conversion Tables'!$G$8:$N$12,5,FALSE)/'Conversion Tables'!$K$12*Max_Point,0)","v":0},{"$f":"DK67*'Weighting Scale'!$D$13*DS67*DT67","v":0},{"$f":"IFERROR(VLOOKUP(BI67,'Conversion Tables'!$G$8:$N$12,7,FALSE)/'Conversion Tables'!$M$12*Max_Point,0)","v":0},{"$f":"DM67*'Weighting Scale'!$D$15*DS67*DT67","v":0},{"$f":"IF(BJ67 = \"Yes\",('Conversion Tables'!$N$12)/'Conversion Tables'!$N$12*Max_Point,0)","v":0},{"$f":"DO67*'Weighting Scale'!$D$16*DS67*DT67","v":0},0,0,0,{"$f":"IF(I67=Dropdowns!$C$7,Dropdowns!$B$7,IF(I67=Dropdowns!$C$8,Dropdowns!$B$8,IF(I67=Dropdowns!$C$9,Dropdowns!$B$9,IF(I67=Dropdowns!$C$10,Dropdowns!$B$10,IF(I67=Dropdowns!$C$11,Dropdowns!$B$11,IF(I67=Dropdowns!$C$12,Dropdowns!$B$12,IF(I67=Dropdowns!$C$13,Dropdowns!$B$13,IF(I67=Dropdowns!$C$14,Dropdowns!$B$14,IF(I67=Dropdowns!$C$15,Dropdowns!$B$15,IF(I67=Dropdowns!$C$16,Dropdowns!$B$16,IF(I67=Dropdowns!$C$17,Dropdowns!$B$17,IF(I67=Dropdowns!$C$18,Dropdowns!$B$18,IF(I67=Dropdowns!$C$19,Dropdowns!$B$19,IF(I67=Dropdowns!$C$20,Dropdowns!$B$20,IF(I67=Dropdowns!$C$21,Dropdowns!$B$21,IF(I67=Dropdowns!$C$22,Dropdowns!$B$22,IF(I67=Dropdowns!$C$23,Dropdowns!$B$23,IF(I67=Dropdowns!$C$24,Dropdowns!$B$24,IF(I67=Dropdowns!$C$25,Dropdowns!$B$25,IF(I67=Dropdowns!$C$26,Dropdowns!$B$26,IF(I67=Dropdowns!$C$27,Dropdowns!$B$27,IF(I67=Dropdowns!$C$28,Dropdowns!$B$28,IF(I67=Dropdowns!$C$29,Dropdowns!$B$29,IF(I67=Dropdowns!$C$30,Dropdowns!$B$30,IF(I67=Dropdowns!$C$31,Dropdowns!$B$31,IF(I67=Dropdowns!$C$32,Dropdowns!$B$32,IF(I67=Dropdowns!$C$33,Dropdowns!$B$33,IF(I67=Dropdowns!$C$34,Dropdowns!$B$34,IF(I67=Dropdowns!$C$35,Dropdowns!$B$35,IF(I67=Dropdowns!$C$36,Dropdowns!$B$36,IF(I67=Dropdowns!$C$37,Dropdowns!$B$37,IF(I67=Dropdowns!$C$38,Dropdowns!$B$38,IF(I67=Dropdowns!$C$39,Dropdowns!$B$39,IF(I67=Dropdowns!$C$40,Dropdowns!$B$40,IF(I67=Dropdowns!$C$41,Dropdowns!$B$41,IF(I67=Dropdowns!$C$42,Dropdowns!$B$42,IF(I67=Dropdowns!$C$43,Dropdowns!$B$43,IF(I67=Dropdowns!$C$44,Dropdowns!$B$44,IF(I67=Dropdowns!$C$45,Dropdowns!$B$45,IF(I67=Dropdowns!$C$46,Dropdowns!$B$46,IF(I67=Dropdowns!$C$47,Dropdowns!$B$47, IF(I67=Dropdowns!$C$48,Dropdowns!$B$48,\"0\"))))))))))))))))))))))))))))))))))))))))))","v":0},{"$f":"IF(AX67=Dropdowns!$F$15,Dropdowns!$G$15,IF(AX67=Dropdowns!$F$16,Dropdowns!$G$16,IF(AX67=Dropdowns!$F$17,Dropdowns!$G$17,\"0\")))","v":"0"}]
[null,null,null,null,null,null,null,null,null,null,"-",null,null,null,null,null,null,null,null,null,null,0,null,null,null,null,null,0,null,null,null,null,null,null,0,null,null,null,null,0,0,null,0,0,0,0,"-",null,null,null,null,null,null,null,null,null,null,null,null,null,null,null,0,0,0,0,0,0,0,0,0,0,1,{"$f":"IFERROR(IF(L68=Dropdowns!$F$32,\"\",IF(J68=\"Project\",AR68/BT68,IF(J68=\"Program\",AP68/BT68,\"\"))),\"\")","v":""},"",null,null,null,null,null,null,null,null,null,{"$f":"IF($CA68=\"\",0,VLOOKUP($CA68,'Conversion Tables'!$B$37:$C$62,2,FALSE))+IF($CB68=\"\",0,VLOOKUP($CB68,'Conversion Tables'!$B$37:$C$62,2,FALSE))+IF($CC68=\"\",0,VLOOKUP($CC68,'Conversion Tables'!$B$37:$C$62,2,FALSE))+IF($CD68=\"\",0,VLOOKUP($CD68,'Conversion Tables'!$B$37:$C$62,2,FALSE))+IF($CE68=\"\",0,VLOOKUP($CE68,'Conversion Tables'!$B$37:$C$62,2,FALSE))+IF($CF68=\"\",0,VLOOKUP($CF68,'Conversion Tables'!$B$37:$C$62,2,FALSE))","v":0},null,null,null,null,null,null,{"$f":"IFERROR(VLOOKUP(CM68,Dropdowns!A$51:B$55,2,FALSE),\"\")","v":""},null,null,null,null,null,null,null,null,null,null,{"$f":"IFERROR(VLOOKUP(AZ68,'Conversion Tables'!$G$8:$N$12,3,FALSE)/'Conversion Tables'!$I$12*Max_Point,0)","v":0},{"$f":"CY68*'Weighting Scale'!$D$9*DS68*DT68","v":0},{"$f":"IFERROR(VLOOKUP(BB68,'Conversion Tables'!$B$8:$C$32,2,FALSE),0)","v":0},{"$f":"IFERROR(VLOOKUP(BC68,'Conversion Tables'!$B$8:$C$32,2,FALSE),0)","v":0},{"$f":"(DA68-DB68)/'Conversion Tables'!$C$32*Max_Point","v":0},{"$f":"DC68*'Weighting Scale'!$D$10*DS68*DT68","v":0},{"$f":"IFERROR(VLOOKUP(BE68,'Conversion Tables'!$G$8:$N$12,2, FALSE)/'Conversion Tables'!$H$12*Max_Point,0)","v":0},{"$f":"DE68*'Weighting Scale'!$D$11*DS68*DT68","v":0},{"$f":"IFERROR(VLOOKUP(BF68,'Conversion Tables'!$G$8:$N$12,6,FALSE)/'Conversion Tables'!$L$12*Max_Point,0)","v":0},{"$f":"DG68*'Weighting Scale'!$D$14*DS68*DT68","v":0},{"$f":"IFERROR(VLOOKUP(BG68,'Conversion Tables'!$G$8:$N$12,4,FALSE)/'Conversion Tables'!$J$12*Max_Point,0)","v":0},{"$f":"DI68*'Weighting Scale'!$D$12*DS68*DT68","v":0},{"$f":"IFERROR(VLOOKUP(BH68,'Conversion Tables'!$G$8:$N$12,5,FALSE)/'Conversion Tables'!$K$12*Max_Point,0)","v":0},{"$f":"DK68*'Weighting Scale'!$D$13*DS68*DT68","v":0},{"$f":"IFERROR(VLOOKUP(BI68,'Conversion Tables'!$G$8:$N$12,7,FALSE)/'Conversion Tables'!$M$12*Max_Point,0)","v":0},{"$f":"DM68*'Weighting Scale'!$D$15*DS68*DT68","v":0},{"$f":"IF(BJ68 = \"Yes\",('Conversion Tables'!$N$12)/'Conversion Tables'!$N$12*Max_Point,0)","v":0},{"$f":"DO68*'Weighting Scale'!$D$16*DS68*DT68","v":0},0,0,0,{"$f":"IF(I68=Dropdowns!$C$7,Dropdowns!$B$7,IF(I68=Dropdowns!$C$8,Dropdowns!$B$8,IF(I68=Dropdowns!$C$9,Dropdowns!$B$9,IF(I68=Dropdowns!$C$10,Dropdowns!$B$10,IF(I68=Dropdowns!$C$11,Dropdowns!$B$11,IF(I68=Dropdowns!$C$12,Dropdowns!$B$12,IF(I68=Dropdowns!$C$13,Dropdowns!$B$13,IF(I68=Dropdowns!$C$14,Dropdowns!$B$14,IF(I68=Dropdowns!$C$15,Dropdowns!$B$15,IF(I68=Dropdowns!$C$16,Dropdowns!$B$16,IF(I68=Dropdowns!$C$17,Dropdowns!$B$17,IF(I68=Dropdowns!$C$18,Dropdowns!$B$18,IF(I68=Dropdowns!$C$19,Dropdowns!$B$19,IF(I68=Dropdowns!$C$20,Dropdowns!$B$20,IF(I68=Dropdowns!$C$21,Dropdowns!$B$21,IF(I68=Dropdowns!$C$22,Dropdowns!$B$22,IF(I68=Dropdowns!$C$23,Dropdowns!$B$23,IF(I68=Dropdowns!$C$24,Dropdowns!$B$24,IF(I68=Dropdowns!$C$25,Dropdowns!$B$25,IF(I68=Dropdowns!$C$26,Dropdowns!$B$26,IF(I68=Dropdowns!$C$27,Dropdowns!$B$27,IF(I68=Dropdowns!$C$28,Dropdowns!$B$28,IF(I68=Dropdowns!$C$29,Dropdowns!$B$29,IF(I68=Dropdowns!$C$30,Dropdowns!$B$30,IF(I68=Dropdowns!$C$31,Dropdowns!$B$31,IF(I68=Dropdowns!$C$32,Dropdowns!$B$32,IF(I68=Dropdowns!$C$33,Dropdowns!$B$33,IF(I68=Dropdowns!$C$34,Dropdowns!$B$34,IF(I68=Dropdowns!$C$35,Dropdowns!$B$35,IF(I68=Dropdowns!$C$36,Dropdowns!$B$36,IF(I68=Dropdowns!$C$37,Dropdowns!$B$37,IF(I68=Dropdowns!$C$38,Dropdowns!$B$38,IF(I68=Dropdowns!$C$39,Dropdowns!$B$39,IF(I68=Dropdowns!$C$40,Dropdowns!$B$40,IF(I68=Dropdowns!$C$41,Dropdowns!$B$41,IF(I68=Dropdowns!$C$42,Dropdowns!$B$42,IF(I68=Dropdowns!$C$43,Dropdowns!$B$43,IF(I68=Dropdowns!$C$44,Dropdowns!$B$44,IF(I68=Dropdowns!$C$45,Dropdowns!$B$45,IF(I68=Dropdowns!$C$46,Dropdowns!$B$46,IF(I68=Dropdowns!$C$47,Dropdowns!$B$47, IF(I68=Dropdowns!$C$48,Dropdowns!$B$48,\"0\"))))))))))))))))))))))))))))))))))))))))))","v":0},{"$f":"IF(AX68=Dropdowns!$F$15,Dropdowns!$G$15,IF(AX68=Dropdowns!$F$16,Dropdowns!$G$16,IF(AX68=Dropdowns!$F$17,Dropdowns!$G$17,\"0\")))","v":"0"}]
[null,null,null,null,null,null,null,null,null,null,"-",null,null,null,null,null,null,null,null,null,null,0,null,null,null,null,null,0,null,null,null,null,null,null,0,null,null,null,null,0,0,null,0,0,0,0,"-",null,null,null,null,null,null,null,null,null,null,null,null,null,null,null,0,0,0,0,0,0,0,0,0,0,1,{"$f":"IFERROR(IF(L69=Dropdowns!$F$32,\"\",IF(J69=\"Project\",AR69/BT69,IF(J69=\"Program\",AP69/BT69,\"\"))),\"\")","v":""},"",null,null,null,null,null,null,null,null,null,{"$f":"IF($CA69=\"\",0,VLOOKUP($CA69,'Conversion Tables'!$B$37:$C$62,2,FALSE))+IF($CB69=\"\",0,VLOOKUP($CB69,'Conversion Tables'!$B$37:$C$62,2,FALSE))+IF($CC69=\"\",0,VLOOKUP($CC69,'Conversion Tables'!$B$37:$C$62,2,FALSE))+IF($CD69=\"\",0,VLOOKUP($CD69,'Conversion Tables'!$B$37:$C$62,2,FALSE))+IF($CE69=\"\",0,VLOOKUP($CE69,'Conversion Tables'!$B$37:$C$62,2,FALSE))+IF($CF69=\"\",0,VLOOKUP($CF69,'Conversion Tables'!$B$37:$C$62,2,FALSE))","v":0},null,null,null,null,null,null,{"$f":"IFERROR(VLOOKUP(CM69,Dropdowns!A$51:B$55,2,FALSE),\"\")","v":""},null,null,null,null,null,null,null,null,null,null,{"$f":"IFERROR(VLOOKUP(AZ69,'Conversion Tables'!$G$8:$N$12,3,FALSE)/'Conversion Tables'!$I$12*Max_Point,0)","v":0},{"$f":"CY69*'Weighting Scale'!$D$9*DS69*DT69","v":0},{"$f":"IFERROR(VLOOKUP(BB69,'Conversion Tables'!$B$8:$C$32,2,FALSE),0)","v":0},{"$f":"IFERROR(VLOOKUP(BC69,'Conversion Tables'!$B$8:$C$32,2,FALSE),0)","v":0},{"$f":"(DA69-DB69)/'Conversion Tables'!$C$32*Max_Point","v":0},{"$f":"DC69*'Weighting Scale'!$D$10*DS69*DT69","v":0},{"$f":"IFERROR(VLOOKUP(BE69,'Conversion Tables'!$G$8:$N$12,2, FALSE)/'Conversion Tables'!$H$12*Max_Point,0)","v":0},{"$f":"DE69*'Weighting Scale'!$D$11*DS69*DT69","v":0},{"$f":"IFERROR(VLOOKUP(BF69,'Conversion Tables'!$G$8:$N$12,6,FALSE)/'Conversion Tables'!$L$12*Max_Point,0)","v":0},{"$f":"DG69*'Weighting Scale'!$D$14*DS69*DT69","v":0},{"$f":"IFERROR(VLOOKUP(BG69,'Conversion Tables'!$G$8:$N$12,4,FALSE)/'Conversion Tables'!$J$12*Max_Point,0)","v":0},{"$f":"DI69*'Weighting Scale'!$D$12*DS69*DT69","v":0},{"$f":"IFERROR(VLOOKUP(BH69,'Conversion Tables'!$G$8:$N$12,5,FALSE)/'Conversion Tables'!$K$12*Max_Point,0)","v":0},{"$f":"DK69*'Weighting Scale'!$D$13*DS69*DT69","v":0},{"$f":"IFERROR(VLOOKUP(BI69,'Conversion Tables'!$G$8:$N$12,7,FALSE)/'Conversion Tables'!$M$12*Max_Point,0)","v":0},{"$f":"DM69*'Weighting Scale'!$D$15*DS69*DT69","v":0},{"$f":"IF(BJ69 = \"Yes\",('Conversion Tables'!$N$12)/'Conversion Tables'!$N$12*Max_Point,0)","v":0},{"$f":"DO69*'Weighting Scale'!$D$16*DS69*DT69","v":0},0,0,0,{"$f":"IF(I69=Dropdowns!$C$7,Dropdowns!$B$7,IF(I69=Dropdowns!$C$8,Dropdowns!$B$8,IF(I69=Dropdowns!$C$9,Dropdowns!$B$9,IF(I69=Dropdowns!$C$10,Dropdowns!$B$10,IF(I69=Dropdowns!$C$11,Dropdowns!$B$11,IF(I69=Dropdowns!$C$12,Dropdowns!$B$12,IF(I69=Dropdowns!$C$13,Dropdowns!$B$13,IF(I69=Dropdowns!$C$14,Dropdowns!$B$14,IF(I69=Dropdowns!$C$15,Dropdowns!$B$15,IF(I69=Dropdowns!$C$16,Dropdowns!$B$16,IF(I69=Dropdowns!$C$17,Dropdowns!$B$17,IF(I69=Dropdowns!$C$18,Dropdowns!$B$18,IF(I69=Dropdowns!$C$19,Dropdowns!$B$19,IF(I69=Dropdowns!$C$20,Dropdowns!$B$20,IF(I69=Dropdowns!$C$21,Dropdowns!$B$21,IF(I69=Dropdowns!$C$22,Dropdowns!$B$22,IF(I69=Dropdowns!$C$23,Dropdowns!$B$23,IF(I69=Dropdowns!$C$24,Dropdowns!$B$24,IF(I69=Dropdowns!$C$25,Dropdowns!$B$25,IF(I69=Dropdowns!$C$26,Dropdowns!$B$26,IF(I69=Dropdowns!$C$27,Dropdowns!$B$27,IF(I69=Dropdowns!$C$28,Dropdowns!$B$28,IF(I69=Dropdowns!$C$29,Dropdowns!$B$29,IF(I69=Dropdowns!$C$30,Dropdowns!$B$30,IF(I69=Dropdowns!$C$31,Dropdowns!$B$31,IF(I69=Dropdowns!$C$32,Dropdowns!$B$32,IF(I69=Dropdowns!$C$33,Dropdowns!$B$33,IF(I69=Dropdowns!$C$34,Dropdowns!$B$34,IF(I69=Dropdowns!$C$35,Dropdowns!$B$35,IF(I69=Dropdowns!$C$36,Dropdowns!$B$36,IF(I69=Dropdowns!$C$37,Dropdowns!$B$37,IF(I69=Dropdowns!$C$38,Dropdowns!$B$38,IF(I69=Dropdowns!$C$39,Dropdowns!$B$39,IF(I69=Dropdowns!$C$40,Dropdowns!$B$40,IF(I69=Dropdowns!$C$41,Dropdowns!$B$41,IF(I69=Dropdowns!$C$42,Dropdowns!$B$42,IF(I69=Dropdowns!$C$43,Dropdowns!$B$43,IF(I69=Dropdowns!$C$44,Dropdowns!$B$44,IF(I69=Dropdowns!$C$45,Dropdowns!$B$45,IF(I69=Dropdowns!$C$46,Dropdowns!$B$46,IF(I69=Dropdowns!$C$47,Dropdowns!$B$47, IF(I69=Dropdowns!$C$48,Dropdowns!$B$48,\"0\"))))))))))))))))))))))))))))))))))))))))))","v":0},{"$f":"IF(AX69=Dropdowns!$F$15,Dropdowns!$G$15,IF(AX69=Dropdowns!$F$16,Dropdowns!$G$16,IF(AX69=Dropdowns!$F$17,Dropdowns!$G$17,\"0\")))","v":"0"}]
[null,null,null,null,null,null,null,null,null,null,"-",null,null,null,null,null,null,null,null,null,null,0,null,null,null,null,null,0,null,null,null,null,null,null,0,null,null,null,null,0,0,null,0,0,0,0,"-",null,null,null,null,null,null,null,null,null,null,null,null,null,null,null,0,0,0,0,0,0,0,0,0,0,1,{"$f":"IFERROR(IF(L70=Dropdowns!$F$32,\"\",IF(J70=\"Project\",AR70/BT70,IF(J70=\"Program\",AP70/BT70,\"\"))),\"\")","v":""},"",null,null,null,null,null,null,null,null,null,{"$f":"IF($CA70=\"\",0,VLOOKUP($CA70,'Conversion Tables'!$B$37:$C$62,2,FALSE))+IF($CB70=\"\",0,VLOOKUP($CB70,'Conversion Tables'!$B$37:$C$62,2,FALSE))+IF($CC70=\"\",0,VLOOKUP($CC70,'Conversion Tables'!$B$37:$C$62,2,FALSE))+IF($CD70=\"\",0,VLOOKUP($CD70,'Conversion Tables'!$B$37:$C$62,2,FALSE))+IF($CE70=\"\",0,VLOOKUP($CE70,'Conversion Tables'!$B$37:$C$62,2,FALSE))+IF($CF70=\"\",0,VLOOKUP($CF70,'Conversion Tables'!$B$37:$C$62,2,FALSE))","v":0},null,null,null,null,null,null,{"$f":"IFERROR(VLOOKUP(CM70,Dropdowns!A$51:B$55,2,FALSE),\"\")","v":""},null,null,null,null,null,null,null,null,null,null,{"$f":"IFERROR(VLOOKUP(AZ70,'Conversion Tables'!$G$8:$N$12,3,FALSE)/'Conversion Tables'!$I$12*Max_Point,0)","v":0},{"$f":"CY70*'Weighting Scale'!$D$9*DS70*DT70","v":0},{"$f":"IFERROR(VLOOKUP(BB70,'Conversion Tables'!$B$8:$C$32,2,FALSE),0)","v":0},{"$f":"IFERROR(VLOOKUP(BC70,'Conversion Tables'!$B$8:$C$32,2,FALSE),0)","v":0},{"$f":"(DA70-DB70)/'Conversion Tables'!$C$32*Max_Point","v":0},{"$f":"DC70*'Weighting Scale'!$D$10*DS70*DT70","v":0},{"$f":"IFERROR(VLOOKUP(BE70,'Conversion Tables'!$G$8:$N$12,2, FALSE)/'Conversion Tables'!$H$12*Max_Point,0)","v":0},{"$f":"DE70*'Weighting Scale'!$D$11*DS70*DT70","v":0},{"$f":"IFERROR(VLOOKUP(BF70,'Conversion Tables'!$G$8:$N$12,6,FALSE)/'Conversion Tables'!$L$12*Max_Point,0)","v":0},{"$f":"DG70*'Weighting Scale'!$D$14*DS70*DT70","v":0},{"$f":"IFERROR(VLOOKUP(BG70,'Conversion Tables'!$G$8:$N$12,4,FALSE)/'Conversion Tables'!$J$12*Max_Point,0)","v":0},{"$f":"DI70*'Weighting Scale'!$D$12*DS70*DT70","v":0},{"$f":"IFERROR(VLOOKUP(BH70,'Conversion Tables'!$G$8:$N$12,5,FALSE)/'Conversion Tables'!$K$12*Max_Point,0)","v":0},{"$f":"DK70*'Weighting Scale'!$D$13*DS70*DT70","v":0},{"$f":"IFERROR(VLOOKUP(BI70,'Conversion Tables'!$G$8:$N$12,7,FALSE)/'Conversion Tables'!$M$12*Max_Point,0)","v":0},{"$f":"DM70*'Weighting Scale'!$D$15*DS70*DT70","v":0},{"$f":"IF(BJ70 = \"Yes\",('Conversion Tables'!$N$12)/'Conversion Tables'!$N$12*Max_Point,0)","v":0},{"$f":"DO70*'Weighting Scale'!$D$16*DS70*DT70","v":0},0,0,0,{"$f":"IF(I70=Dropdowns!$C$7,Dropdowns!$B$7,IF(I70=Dropdowns!$C$8,Dropdowns!$B$8,IF(I70=Dropdowns!$C$9,Dropdowns!$B$9,IF(I70=Dropdowns!$C$10,Dropdowns!$B$10,IF(I70=Dropdowns!$C$11,Dropdowns!$B$11,IF(I70=Dropdowns!$C$12,Dropdowns!$B$12,IF(I70=Dropdowns!$C$13,Dropdowns!$B$13,IF(I70=Dropdowns!$C$14,Dropdowns!$B$14,IF(I70=Dropdowns!$C$15,Dropdowns!$B$15,IF(I70=Dropdowns!$C$16,Dropdowns!$B$16,IF(I70=Dropdowns!$C$17,Dropdowns!$B$17,IF(I70=Dropdowns!$C$18,Dropdowns!$B$18,IF(I70=Dropdowns!$C$19,Dropdowns!$B$19,IF(I70=Dropdowns!$C$20,Dropdowns!$B$20,IF(I70=Dropdowns!$C$21,Dropdowns!$B$21,IF(I70=Dropdowns!$C$22,Dropdowns!$B$22,IF(I70=Dropdowns!$C$23,Dropdowns!$B$23,IF(I70=Dropdowns!$C$24,Dropdowns!$B$24,IF(I70=Dropdowns!$C$25,Dropdowns!$B$25,IF(I70=Dropdowns!$C$26,Dropdowns!$B$26,IF(I70=Dropdowns!$C$27,Dropdowns!$B$27,IF(I70=Dropdowns!$C$28,Dropdowns!$B$28,IF(I70=Dropdowns!$C$29,Dropdowns!$B$29,IF(I70=Dropdowns!$C$30,Dropdowns!$B$30,IF(I70=Dropdowns!$C$31,Dropdowns!$B$31,IF(I70=Dropdowns!$C$32,Dropdowns!$B$32,IF(I70=Dropdowns!$C$33,Dropdowns!$B$33,IF(I70=Dropdowns!$C$34,Dropdowns!$B$34,IF(I70=Dropdowns!$C$35,Dropdowns!$B$35,IF(I70=Dropdowns!$C$36,Dropdowns!$B$36,IF(I70=Dropdowns!$C$37,Dropdowns!$B$37,IF(I70=Dropdowns!$C$38,Dropdowns!$B$38,IF(I70=Dropdowns!$C$39,Dropdowns!$B$39,IF(I70=Dropdowns!$C$40,Dropdowns!$B$40,IF(I70=Dropdowns!$C$41,Dropdowns!$B$41,IF(I70=Dropdowns!$C$42,Dropdowns!$B$42,IF(I70=Dropdowns!$C$43,Dropdowns!$B$43,IF(I70=Dropdowns!$C$44,Dropdowns!$B$44,IF(I70=Dropdowns!$C$45,Dropdowns!$B$45,IF(I70=Dropdowns!$C$46,Dropdowns!$B$46,IF(I70=Dropdowns!$C$47,Dropdowns!$B$47, IF(I70=Dropdowns!$C$48,Dropdowns!$B$48,\"0\"))))))))))))))))))))))))))))))))))))))))))","v":0},{"$f":"IF(AX70=Dropdowns!$F$15,Dropdowns!$G$15,IF(AX70=Dropdowns!$F$16,Dropdowns!$G$16,IF(AX70=Dropdowns!$F$17,Dropdowns!$G$17,\"0\")))","v":"0"}]
[null,null,null,null,null,null,null,null,null,null,"-",null,null,null,null,null,null,null,null,null,null,0,null,null,null,null,null,0,null,null,null,null,null,null,0,null,null,null,null,0,0,null,0,0,0,0,"-",null,null,null,null,null,null,null,null,null,null,null,null,null,null,null,0,0,0,0,0,0,0,0,0,0,1,{"$f":"IFERROR(IF(L71=Dropdowns!$F$32,\"\",IF(J71=\"Project\",AR71/BT71,IF(J71=\"Program\",AP71/BT71,\"\"))),\"\")","v":""},"",null,null,null,null,null,null,null,null,null,{"$f":"IF($CA71=\"\",0,VLOOKUP($CA71,'Conversion Tables'!$B$37:$C$62,2,FALSE))+IF($CB71=\"\",0,VLOOKUP($CB71,'Conversion Tables'!$B$37:$C$62,2,FALSE))+IF($CC71=\"\",0,VLOOKUP($CC71,'Conversion Tables'!$B$37:$C$62,2,FALSE))+IF($CD71=\"\",0,VLOOKUP($CD71,'Conversion Tables'!$B$37:$C$62,2,FALSE))+IF($CE71=\"\",0,VLOOKUP($CE71,'Conversion Tables'!$B$37:$C$62,2,FALSE))+IF($CF71=\"\",0,VLOOKUP($CF71,'Conversion Tables'!$B$37:$C$62,2,FALSE))","v":0},null,null,null,null,null,null,{"$f":"IFERROR(VLOOKUP(CM71,Dropdowns!A$51:B$55,2,FALSE),\"\")","v":""},null,null,null,null,null,null,null,null,null,null,{"$f":"IFERROR(VLOOKUP(AZ71,'Conversion Tables'!$G$8:$N$12,3,FALSE)/'Conversion Tables'!$I$12*Max_Point,0)","v":0},{"$f":"CY71*'Weighting Scale'!$D$9*DS71*DT71","v":0},{"$f":"IFERROR(VLOOKUP(BB71,'Conversion Tables'!$B$8:$C$32,2,FALSE),0)","v":0},{"$f":"IFERROR(VLOOKUP(BC71,'Conversion Tables'!$B$8:$C$32,2,FALSE),0)","v":0},{"$f":"(DA71-DB71)/'Conversion Tables'!$C$32*Max_Point","v":0},{"$f":"DC71*'Weighting Scale'!$D$10*DS71*DT71","v":0},{"$f":"IFERROR(VLOOKUP(BE71,'Conversion Tables'!$G$8:$N$12,2, FALSE)/'Conversion Tables'!$H$12*Max_Point,0)","v":0},{"$f":"DE71*'Weighting Scale'!$D$11*DS71*DT71","v":0},{"$f":"IFERROR(VLOOKUP(BF71,'Conversion Tables'!$G$8:$N$12,6,FALSE)/'Conversion Tables'!$L$12*Max_Point,0)","v":0},{"$f":"DG71*'Weighting Scale'!$D$14*DS71*DT71","v":0},{"$f":"IFERROR(VLOOKUP(BG71,'Conversion Tables'!$G$8:$N$12,4,FALSE)/'Conversion Tables'!$J$12*Max_Point,0)","v":0},{"$f":"DI71*'Weighting Scale'!$D$12*DS71*DT71","v":0},{"$f":"IFERROR(VLOOKUP(BH71,'Conversion Tables'!$G$8:$N$12,5,FALSE)/'Conversion Tables'!$K$12*Max_Point,0)","v":0},{"$f":"DK71*'Weighting Scale'!$D$13*DS71*DT71","v":0},{"$f":"IFERROR(VLOOKUP(BI71,'Conversion Tables'!$G$8:$N$12,7,FALSE)/'Conversion Tables'!$M$12*Max_Point,0)","v":0},{"$f":"DM71*'Weighting Scale'!$D$15*DS71*DT71","v":0},{"$f":"IF(BJ71 = \"Yes\",('Conversion Tables'!$N$12)/'Conversion Tables'!$N$12*Max_Point,0)","v":0},{"$f":"DO71*'Weighting Scale'!$D$16*DS71*DT71","v":0},0,0,0,{"$f":"IF(I71=Dropdowns!$C$7,Dropdowns!$B$7,IF(I71=Dropdowns!$C$8,Dropdowns!$B$8,IF(I71=Dropdowns!$C$9,Dropdowns!$B$9,IF(I71=Dropdowns!$C$10,Dropdowns!$B$10,IF(I71=Dropdowns!$C$11,Dropdowns!$B$11,IF(I71=Dropdowns!$C$12,Dropdowns!$B$12,IF(I71=Dropdowns!$C$13,Dropdowns!$B$13,IF(I71=Dropdowns!$C$14,Dropdowns!$B$14,IF(I71=Dropdowns!$C$15,Dropdowns!$B$15,IF(I71=Dropdowns!$C$16,Dropdowns!$B$16,IF(I71=Dropdowns!$C$17,Dropdowns!$B$17,IF(I71=Dropdowns!$C$18,Dropdowns!$B$18,IF(I71=Dropdowns!$C$19,Dropdowns!$B$19,IF(I71=Dropdowns!$C$20,Dropdowns!$B$20,IF(I71=Dropdowns!$C$21,Dropdowns!$B$21,IF(I71=Dropdowns!$C$22,Dropdowns!$B$22,IF(I71=Dropdowns!$C$23,Dropdowns!$B$23,IF(I71=Dropdowns!$C$24,Dropdowns!$B$24,IF(I71=Dropdowns!$C$25,Dropdowns!$B$25,IF(I71=Dropdowns!$C$26,Dropdowns!$B$26,IF(I71=Dropdowns!$C$27,Dropdowns!$B$27,IF(I71=Dropdowns!$C$28,Dropdowns!$B$28,IF(I71=Dropdowns!$C$29,Dropdowns!$B$29,IF(I71=Dropdowns!$C$30,Dropdowns!$B$30,IF(I71=Dropdowns!$C$31,Dropdowns!$B$31,IF(I71=Dropdowns!$C$32,Dropdowns!$B$32,IF(I71=Dropdowns!$C$33,Dropdowns!$B$33,IF(I71=Dropdowns!$C$34,Dropdowns!$B$34,IF(I71=Dropdowns!$C$35,Dropdowns!$B$35,IF(I71=Dropdowns!$C$36,Dropdowns!$B$36,IF(I71=Dropdowns!$C$37,Dropdowns!$B$37,IF(I71=Dropdowns!$C$38,Dropdowns!$B$38,IF(I71=Dropdowns!$C$39,Dropdowns!$B$39,IF(I71=Dropdowns!$C$40,Dropdowns!$B$40,IF(I71=Dropdowns!$C$41,Dropdowns!$B$41,IF(I71=Dropdowns!$C$42,Dropdowns!$B$42,IF(I71=Dropdowns!$C$43,Dropdowns!$B$43,IF(I71=Dropdowns!$C$44,Dropdowns!$B$44,IF(I71=Dropdowns!$C$45,Dropdowns!$B$45,IF(I71=Dropdowns!$C$46,Dropdowns!$B$46,IF(I71=Dropdowns!$C$47,Dropdowns!$B$47, IF(I71=Dropdowns!$C$48,Dropdowns!$B$48,\"0\"))))))))))))))))))))))))))))))))))))))))))","v":0},{"$f":"IF(AX71=Dropdowns!$F$15,Dropdowns!$G$15,IF(AX71=Dropdowns!$F$16,Dropdowns!$G$16,IF(AX71=Dropdowns!$F$17,Dropdowns!$G$17,\"0\")))","v":"0"}]
[null,null,null,null,null,null,null,null,null,null,"-",null,null,null,null,null,null,null,null,null,null,0,null,null,null,null,null,0,null,null,null,null,null,null,0,null,null,null,null,0,0,null,0,0,0,0,"-",null,null,null,null,null,null,null,null,null,null,null,null,null,null,null,0,0,0,0,0,0,0,0,0,0,1,{"$f":"IFERROR(IF(L72=Dropdowns!$F$32,\"\",IF(J72=\"Project\",AR72/BT72,IF(J72=\"Program\",AP72/BT72,\"\"))),\"\")","v":""},"",null,null,null,null,null,null,null,null,null,{"$f":"IF($CA72=\"\",0,VLOOKUP($CA72,'Conversion Tables'!$B$37:$C$62,2,FALSE))+IF($CB72=\"\",0,VLOOKUP($CB72,'Conversion Tables'!$B$37:$C$62,2,FALSE))+IF($CC72=\"\",0,VLOOKUP($CC72,'Conversion Tables'!$B$37:$C$62,2,FALSE))+IF($CD72=\"\",0,VLOOKUP($CD72,'Conversion Tables'!$B$37:$C$62,2,FALSE))+IF($CE72=\"\",0,VLOOKUP($CE72,'Conversion Tables'!$B$37:$C$62,2,FALSE))+IF($CF72=\"\",0,VLOOKUP($CF72,'Conversion Tables'!$B$37:$C$62,2,FALSE))","v":0},null,null,null,null,null,null,{"$f":"IFERROR(VLOOKUP(CM72,Dropdowns!A$51:B$55,2,FALSE),\"\")","v":""},null,null,null,null,null,null,null,null,null,null,{"$f":"IFERROR(VLOOKUP(AZ72,'Conversion Tables'!$G$8:$N$12,3,FALSE)/'Conversion Tables'!$I$12*Max_Point,0)","v":0},{"$f":"CY72*'Weighting Scale'!$D$9*DS72*DT72","v":0},{"$f":"IFERROR(VLOOKUP(BB72,'Conversion Tables'!$B$8:$C$32,2,FALSE),0)","v":0},{"$f":"IFERROR(VLOOKUP(BC72,'Conversion Tables'!$B$8:$C$32,2,FALSE),0)","v":0},{"$f":"(DA72-DB72)/'Conversion Tables'!$C$32*Max_Point","v":0},{"$f":"DC72*'Weighting Scale'!$D$10*DS72*DT72","v":0},{"$f":"IFERROR(VLOOKUP(BE72,'Conversion Tables'!$G$8:$N$12,2, FALSE)/'Conversion Tables'!$H$12*Max_Point,0)","v":0},{"$f":"DE72*'Weighting Scale'!$D$11*DS72*DT72","v":0},{"$f":"IFERROR(VLOOKUP(BF72,'Conversion Tables'!$G$8:$N$12,6,FALSE)/'Conversion Tables'!$L$12*Max_Point,0)","v":0},{"$f":"DG72*'Weighting Scale'!$D$14*DS72*DT72","v":0},{"$f":"IFERROR(VLOOKUP(BG72,'Conversion Tables'!$G$8:$N$12,4,FALSE)/'Conversion Tables'!$J$12*Max_Point,0)","v":0},{"$f":"DI72*'Weighting Scale'!$D$12*DS72*DT72","v":0},{"$f":"IFERROR(VLOOKUP(BH72,'Conversion Tables'!$G$8:$N$12,5,FALSE)/'Conversion Tables'!$K$12*Max_Point,0)","v":0},{"$f":"DK72*'Weighting Scale'!$D$13*DS72*DT72","v":0},{"$f":"IFERROR(VLOOKUP(BI72,'Conversion Tables'!$G$8:$N$12,7,FALSE)/'Conversion Tables'!$M$12*Max_Point,0)","v":0},{"$f":"DM72*'Weighting Scale'!$D$15*DS72*DT72","v":0},{"$f":"IF(BJ72 = \"Yes\",('Conversion Tables'!$N$12)/'Conversion Tables'!$N$12*Max_Point,0)","v":0},{"$f":"DO72*'Weighting Scale'!$D$16*DS72*DT72","v":0},0,0,0,{"$f":"IF(I72=Dropdowns!$C$7,Dropdowns!$B$7,IF(I72=Dropdowns!$C$8,Dropdowns!$B$8,IF(I72=Dropdowns!$C$9,Dropdowns!$B$9,IF(I72=Dropdowns!$C$10,Dropdowns!$B$10,IF(I72=Dropdowns!$C$11,Dropdowns!$B$11,IF(I72=Dropdowns!$C$12,Dropdowns!$B$12,IF(I72=Dropdowns!$C$13,Dropdowns!$B$13,IF(I72=Dropdowns!$C$14,Dropdowns!$B$14,IF(I72=Dropdowns!$C$15,Dropdowns!$B$15,IF(I72=Dropdowns!$C$16,Dropdowns!$B$16,IF(I72=Dropdowns!$C$17,Dropdowns!$B$17,IF(I72=Dropdowns!$C$18,Dropdowns!$B$18,IF(I72=Dropdowns!$C$19,Dropdowns!$B$19,IF(I72=Dropdowns!$C$20,Dropdowns!$B$20,IF(I72=Dropdowns!$C$21,Dropdowns!$B$21,IF(I72=Dropdowns!$C$22,Dropdowns!$B$22,IF(I72=Dropdowns!$C$23,Dropdowns!$B$23,IF(I72=Dropdowns!$C$24,Dropdowns!$B$24,IF(I72=Dropdowns!$C$25,Dropdowns!$B$25,IF(I72=Dropdowns!$C$26,Dropdowns!$B$26,IF(I72=Dropdowns!$C$27,Dropdowns!$B$27,IF(I72=Dropdowns!$C$28,Dropdowns!$B$28,IF(I72=Dropdowns!$C$29,Dropdowns!$B$29,IF(I72=Dropdowns!$C$30,Dropdowns!$B$30,IF(I72=Dropdowns!$C$31,Dropdowns!$B$31,IF(I72=Dropdowns!$C$32,Dropdowns!$B$32,IF(I72=Dropdowns!$C$33,Dropdowns!$B$33,IF(I72=Dropdowns!$C$34,Dropdowns!$B$34,IF(I72=Dropdowns!$C$35,Dropdowns!$B$35,IF(I72=Dropdowns!$C$36,Dropdowns!$B$36,IF(I72=Dropdowns!$C$37,Dropdowns!$B$37,IF(I72=Dropdowns!$C$38,Dropdowns!$B$38,IF(I72=Dropdowns!$C$39,Dropdowns!$B$39,IF(I72=Dropdowns!$C$40,Dropdowns!$B$40,IF(I72=Dropdowns!$C$41,Dropdowns!$B$41,IF(I72=Dropdowns!$C$42,Dropdowns!$B$42,IF(I72=Dropdowns!$C$43,Dropdowns!$B$43,IF(I72=Dropdowns!$C$44,Dropdowns!$B$44,IF(I72=Dropdowns!$C$45,Dropdowns!$B$45,IF(I72=Dropdowns!$C$46,Dropdowns!$B$46,IF(I72=Dropdowns!$C$47,Dropdowns!$B$47, IF(I72=Dropdowns!$C$48,Dropdowns!$B$48,\"0\"))))))))))))))))))))))))))))))))))))))))))","v":0},{"$f":"IF(AX72=Dropdowns!$F$15,Dropdowns!$G$15,IF(AX72=Dropdowns!$F$16,Dropdowns!$G$16,IF(AX72=Dropdowns!$F$17,Dropdowns!$G$17,\"0\")))","v":"0"}]
[null,null,null,null,null,null,null,null,null,null,"-",null,null,null,null,null,null,null,null,null,null,0,null,null,null,null,null,0,null,null,null,null,null,null,0,null,null,null,null,0,0,null,0,0,0,0,"-",null,null,null,null,null,null,null,null,null,null,null,null,null,null,null,0,0,0,0,0,0,0,0,0,0,1,{"$f":"IFERROR(IF(L73=Dropdowns!$F$32,\"\",IF(J73=\"Project\",AR73/BT73,IF(J73=\"Program\",AP73/BT73,\"\"))),\"\")","v":""},"",null,null,null,null,null,null,null,null,null,{"$f":"IF($CA73=\"\",0,VLOOKUP($CA73,'Conversion Tables'!$B$37:$C$62,2,FALSE))+IF($CB73=\"\",0,VLOOKUP($CB73,'Conversion Tables'!$B$37:$C$62,2,FALSE))+IF($CC73=\"\",0,VLOOKUP($CC73,'Conversion Tables'!$B$37:$C$62,2,FALSE))+IF($CD73=\"\",0,VLOOKUP($CD73,'Conversion Tables'!$B$37:$C$62,2,FALSE))+IF($CE73=\"\",0,VLOOKUP($CE73,'Conversion Tables'!$B$37:$C$62,2,FALSE))+IF($CF73=\"\",0,VLOOKUP($CF73,'Conversion Tables'!$B$37:$C$62,2,FALSE))","v":0},null,null,null,null,null,null,{"$f":"IFERROR(VLOOKUP(CM73,Dropdowns!A$51:B$55,2,FALSE),\"\")","v":""},null,null,null,null,null,null,null,null,null,null,{"$f":"IFERROR(VLOOKUP(AZ73,'Conversion Tables'!$G$8:$N$12,3,FALSE)/'Conversion Tables'!$I$12*Max_Point,0)","v":0},{"$f":"CY73*'Weighting Scale'!$D$9*DS73*DT73","v":0},{"$f":"IFERROR(VLOOKUP(BB73,'Conversion Tables'!$B$8:$C$32,2,FALSE),0)","v":0},{"$f":"IFERROR(VLOOKUP(BC73,'Conversion Tables'!$B$8:$C$32,2,FALSE),0)","v":0},{"$f":"(DA73-DB73)/'Conversion Tables'!$C$32*Max_Point","v":0},{"$f":"DC73*'Weighting Scale'!$D$10*DS73*DT73","v":0},{"$f":"IFERROR(VLOOKUP(BE73,'Conversion Tables'!$G$8:$N$12,2, FALSE)/'Conversion Tables'!$H$12*Max_Point,0)","v":0},{"$f":"DE73*'Weighting Scale'!$D$11*DS73*DT73","v":0},{"$f":"IFERROR(VLOOKUP(BF73,'Conversion Tables'!$G$8:$N$12,6,FALSE)/'Conversion Tables'!$L$12*Max_Point,0)","v":0},{"$f":"DG73*'Weighting Scale'!$D$14*DS73*DT73","v":0},{"$f":"IFERROR(VLOOKUP(BG73,'Conversion Tables'!$G$8:$N$12,4,FALSE)/'Conversion Tables'!$J$12*Max_Point,0)","v":0},{"$f":"DI73*'Weighting Scale'!$D$12*DS73*DT73","v":0},{"$f":"IFERROR(VLOOKUP(BH73,'Conversion Tables'!$G$8:$N$12,5,FALSE)/'Conversion Tables'!$K$12*Max_Point,0)","v":0},{"$f":"DK73*'Weighting Scale'!$D$13*DS73*DT73","v":0},{"$f":"IFERROR(VLOOKUP(BI73,'Conversion Tables'!$G$8:$N$12,7,FALSE)/'Conversion Tables'!$M$12*Max_Point,0)","v":0},{"$f":"DM73*'Weighting Scale'!$D$15*DS73*DT73","v":0},{"$f":"IF(BJ73 = \"Yes\",('Conversion Tables'!$N$12)/'Conversion Tables'!$N$12*Max_Point,0)","v":0},{"$f":"DO73*'Weighting Scale'!$D$16*DS73*DT73","v":0},0,0,0,{"$f":"IF(I73=Dropdowns!$C$7,Dropdowns!$B$7,IF(I73=Dropdowns!$C$8,Dropdowns!$B$8,IF(I73=Dropdowns!$C$9,Dropdowns!$B$9,IF(I73=Dropdowns!$C$10,Dropdowns!$B$10,IF(I73=Dropdowns!$C$11,Dropdowns!$B$11,IF(I73=Dropdowns!$C$12,Dropdowns!$B$12,IF(I73=Dropdowns!$C$13,Dropdowns!$B$13,IF(I73=Dropdowns!$C$14,Dropdowns!$B$14,IF(I73=Dropdowns!$C$15,Dropdowns!$B$15,IF(I73=Dropdowns!$C$16,Dropdowns!$B$16,IF(I73=Dropdowns!$C$17,Dropdowns!$B$17,IF(I73=Dropdowns!$C$18,Dropdowns!$B$18,IF(I73=Dropdowns!$C$19,Dropdowns!$B$19,IF(I73=Dropdowns!$C$20,Dropdowns!$B$20,IF(I73=Dropdowns!$C$21,Dropdowns!$B$21,IF(I73=Dropdowns!$C$22,Dropdowns!$B$22,IF(I73=Dropdowns!$C$23,Dropdowns!$B$23,IF(I73=Dropdowns!$C$24,Dropdowns!$B$24,IF(I73=Dropdowns!$C$25,Dropdowns!$B$25,IF(I73=Dropdowns!$C$26,Dropdowns!$B$26,IF(I73=Dropdowns!$C$27,Dropdowns!$B$27,IF(I73=Dropdowns!$C$28,Dropdowns!$B$28,IF(I73=Dropdowns!$C$29,Dropdowns!$B$29,IF(I73=Dropdowns!$C$30,Dropdowns!$B$30,IF(I73=Dropdowns!$C$31,Dropdowns!$B$31,IF(I73=Dropdowns!$C$32,Dropdowns!$B$32,IF(I73=Dropdowns!$C$33,Dropdowns!$B$33,IF(I73=Dropdowns!$C$34,Dropdowns!$B$34,IF(I73=Dropdowns!$C$35,Dropdowns!$B$35,IF(I73=Dropdowns!$C$36,Dropdowns!$B$36,IF(I73=Dropdowns!$C$37,Dropdowns!$B$37,IF(I73=Dropdowns!$C$38,Dropdowns!$B$38,IF(I73=Dropdowns!$C$39,Dropdowns!$B$39,IF(I73=Dropdowns!$C$40,Dropdowns!$B$40,IF(I73=Dropdowns!$C$41,Dropdowns!$B$41,IF(I73=Dropdowns!$C$42,Dropdowns!$B$42,IF(I73=Dropdowns!$C$43,Dropdowns!$B$43,IF(I73=Dropdowns!$C$44,Dropdowns!$B$44,IF(I73=Dropdowns!$C$45,Dropdowns!$B$45,IF(I73=Dropdowns!$C$46,Dropdowns!$B$46,IF(I73=Dropdowns!$C$47,Dropdowns!$B$47, IF(I73=Dropdowns!$C$48,Dropdowns!$B$48,\"0\"))))))))))))))))))))))))))))))))))))))))))","v":0},{"$f":"IF(AX73=Dropdowns!$F$15,Dropdowns!$G$15,IF(AX73=Dropdowns!$F$16,Dropdowns!$G$16,IF(AX73=Dropdowns!$F$17,Dropdowns!$G$17,\"0\")))","v":"0"}]
[null,null,null,null,null,null,null,null,null,null,"-",null,null,null,null,null,null,null,null,null,null,0,null,null,null,null,null,0,null,null,null,null,null,null,0,null,null,null,null,0,0,null,0,0,0,0,"-",null,null,null,null,null,null,null,null,null,null,null,null,null,null,null,0,0,0,0,0,0,0,0,0,0,1,{"$f":"IFERROR(IF(L74=Dropdowns!$F$32,\"\",IF(J74=\"Project\",AR74/BT74,IF(J74=\"Program\",AP74/BT74,\"\"))),\"\")","v":""},"",null,null,null,null,null,null,null,null,null,{"$f":"IF($CA74=\"\",0,VLOOKUP($CA74,'Conversion Tables'!$B$37:$C$62,2,FALSE))+IF($CB74=\"\",0,VLOOKUP($CB74,'Conversion Tables'!$B$37:$C$62,2,FALSE))+IF($CC74=\"\",0,VLOOKUP($CC74,'Conversion Tables'!$B$37:$C$62,2,FALSE))+IF($CD74=\"\",0,VLOOKUP($CD74,'Conversion Tables'!$B$37:$C$62,2,FALSE))+IF($CE74=\"\",0,VLOOKUP($CE74,'Conversion Tables'!$B$37:$C$62,2,FALSE))+IF($CF74=\"\",0,VLOOKUP($CF74,'Conversion Tables'!$B$37:$C$62,2,FALSE))","v":0},null,null,null,null,null,null,{"$f":"IFERROR(VLOOKUP(CM74,Dropdowns!A$51:B$55,2,FALSE),\"\")","v":""},null,null,null,null,null,null,null,null,null,null,{"$f":"IFERROR(VLOOKUP(AZ74,'Conversion Tables'!$G$8:$N$12,3,FALSE)/'Conversion Tables'!$I$12*Max_Point,0)","v":0},{"$f":"CY74*'Weighting Scale'!$D$9*DS74*DT74","v":0},{"$f":"IFERROR(VLOOKUP(BB74,'Conversion Tables'!$B$8:$C$32,2,FALSE),0)","v":0},{"$f":"IFERROR(VLOOKUP(BC74,'Conversion Tables'!$B$8:$C$32,2,FALSE),0)","v":0},{"$f":"(DA74-DB74)/'Conversion Tables'!$C$32*Max_Point","v":0},{"$f":"DC74*'Weighting Scale'!$D$10*DS74*DT74","v":0},{"$f":"IFERROR(VLOOKUP(BE74,'Conversion Tables'!$G$8:$N$12,2, FALSE)/'Conversion Tables'!$H$12*Max_Point,0)","v":0},{"$f":"DE74*'Weighting Scale'!$D$11*DS74*DT74","v":0},{"$f":"IFERROR(VLOOKUP(BF74,'Conversion Tables'!$G$8:$N$12,6,FALSE)/'Conversion Tables'!$L$12*Max_Point,0)","v":0},{"$f":"DG74*'Weighting Scale'!$D$14*DS74*DT74","v":0},{"$f":"IFERROR(VLOOKUP(BG74,'Conversion Tables'!$G$8:$N$12,4,FALSE)/'Conversion Tables'!$J$12*Max_Point,0)","v":0},{"$f":"DI74*'Weighting Scale'!$D$12*DS74*DT74","v":0},{"$f":"IFERROR(VLOOKUP(BH74,'Conversion Tables'!$G$8:$N$12,5,FALSE)/'Conversion Tables'!$K$12*Max_Point,0)","v":0},{"$f":"DK74*'Weighting Scale'!$D$13*DS74*DT74","v":0},{"$f":"IFERROR(VLOOKUP(BI74,'Conversion Tables'!$G$8:$N$12,7,FALSE)/'Conversion Tables'!$M$12*Max_Point,0)","v":0},{"$f":"DM74*'Weighting Scale'!$D$15*DS74*DT74","v":0},{"$f":"IF(BJ74 = \"Yes\",('Conversion Tables'!$N$12)/'Conversion Tables'!$N$12*Max_Point,0)","v":0},{"$f":"DO74*'Weighting Scale'!$D$16*DS74*DT74","v":0},0,0,0,{"$f":"IF(I74=Dropdowns!$C$7,Dropdowns!$B$7,IF(I74=Dropdowns!$C$8,Dropdowns!$B$8,IF(I74=Dropdowns!$C$9,Dropdowns!$B$9,IF(I74=Dropdowns!$C$10,Dropdowns!$B$10,IF(I74=Dropdowns!$C$11,Dropdowns!$B$11,IF(I74=Dropdowns!$C$12,Dropdowns!$B$12,IF(I74=Dropdowns!$C$13,Dropdowns!$B$13,IF(I74=Dropdowns!$C$14,Dropdowns!$B$14,IF(I74=Dropdowns!$C$15,Dropdowns!$B$15,IF(I74=Dropdowns!$C$16,Dropdowns!$B$16,IF(I74=Dropdowns!$C$17,Dropdowns!$B$17,IF(I74=Dropdowns!$C$18,Dropdowns!$B$18,IF(I74=Dropdowns!$C$19,Dropdowns!$B$19,IF(I74=Dropdowns!$C$20,Dropdowns!$B$20,IF(I74=Dropdowns!$C$21,Dropdowns!$B$21,IF(I74=Dropdowns!$C$22,Dropdowns!$B$22,IF(I74=Dropdowns!$C$23,Dropdowns!$B$23,IF(I74=Dropdowns!$C$24,Dropdowns!$B$24,IF(I74=Dropdowns!$C$25,Dropdowns!$B$25,IF(I74=Dropdowns!$C$26,Dropdowns!$B$26,IF(I74=Dropdowns!$C$27,Dropdowns!$B$27,IF(I74=Dropdowns!$C$28,Dropdowns!$B$28,IF(I74=Dropdowns!$C$29,Dropdowns!$B$29,IF(I74=Dropdowns!$C$30,Dropdowns!$B$30,IF(I74=Dropdowns!$C$31,Dropdowns!$B$31,IF(I74=Dropdowns!$C$32,Dropdowns!$B$32,IF(I74=Dropdowns!$C$33,Dropdowns!$B$33,IF(I74=Dropdowns!$C$34,Dropdowns!$B$34,IF(I74=Dropdowns!$C$35,Dropdowns!$B$35,IF(I74=Dropdowns!$C$36,Dropdowns!$B$36,IF(I74=Dropdowns!$C$37,Dropdowns!$B$37,IF(I74=Dropdowns!$C$38,Dropdowns!$B$38,IF(I74=Dropdowns!$C$39,Dropdowns!$B$39,IF(I74=Dropdowns!$C$40,Dropdowns!$B$40,IF(I74=Dropdowns!$C$41,Dropdowns!$B$41,IF(I74=Dropdowns!$C$42,Dropdowns!$B$42,IF(I74=Dropdowns!$C$43,Dropdowns!$B$43,IF(I74=Dropdowns!$C$44,Dropdowns!$B$44,IF(I74=Dropdowns!$C$45,Dropdowns!$B$45,IF(I74=Dropdowns!$C$46,Dropdowns!$B$46,IF(I74=Dropdowns!$C$47,Dropdowns!$B$47, IF(I74=Dropdowns!$C$48,Dropdowns!$B$48,\"0\"))))))))))))))))))))))))))))))))))))))))))","v":0},{"$f":"IF(AX74=Dropdowns!$F$15,Dropdowns!$G$15,IF(AX74=Dropdowns!$F$16,Dropdowns!$G$16,IF(AX74=Dropdowns!$F$17,Dropdowns!$G$17,\"0\")))","v":"0"}]
[null,null,null,null,null,null,null,null,null,null,"-",null,null,null,null,null,null,null,null,null,null,0,null,null,null,null,null,0,null,null,null,null,null,null,0,null,null,null,null,0,0,null,0,0,0,0,"-",null,null,null,null,null,null,null,null,null,null,null,null,null,null,null,0,0,0,0,0,0,0,0,0,0,1,{"$f":"IFERROR(IF(L75=Dropdowns!$F$32,\"\",IF(J75=\"Project\",AR75/BT75,IF(J75=\"Program\",AP75/BT75,\"\"))),\"\")","v":""},"",null,null,null,null,null,null,null,null,null,{"$f":"IF($CA75=\"\",0,VLOOKUP($CA75,'Conversion Tables'!$B$37:$C$62,2,FALSE))+IF($CB75=\"\",0,VLOOKUP($CB75,'Conversion Tables'!$B$37:$C$62,2,FALSE))+IF($CC75=\"\",0,VLOOKUP($CC75,'Conversion Tables'!$B$37:$C$62,2,FALSE))+IF($CD75=\"\",0,VLOOKUP($CD75,'Conversion Tables'!$B$37:$C$62,2,FALSE))+IF($CE75=\"\",0,VLOOKUP($CE75,'Conversion Tables'!$B$37:$C$62,2,FALSE))+IF($CF75=\"\",0,VLOOKUP($CF75,'Conversion Tables'!$B$37:$C$62,2,FALSE))","v":0},null,null,null,null,null,null,{"$f":"IFERROR(VLOOKUP(CM75,Dropdowns!A$51:B$55,2,FALSE),\"\")","v":""},null,null,null,null,null,null,null,null,null,null,{"$f":"IFERROR(VLOOKUP(AZ75,'Conversion Tables'!$G$8:$N$12,3,FALSE)/'Conversion Tables'!$I$12*Max_Point,0)","v":0},{"$f":"CY75*'Weighting Scale'!$D$9*DS75*DT75","v":0},{"$f":"IFERROR(VLOOKUP(BB75,'Conversion Tables'!$B$8:$C$32,2,FALSE),0)","v":0},{"$f":"IFERROR(VLOOKUP(BC75,'Conversion Tables'!$B$8:$C$32,2,FALSE),0)","v":0},{"$f":"(DA75-DB75)/'Conversion Tables'!$C$32*Max_Point","v":0},{"$f":"DC75*'Weighting Scale'!$D$10*DS75*DT75","v":0},{"$f":"IFERROR(VLOOKUP(BE75,'Conversion Tables'!$G$8:$N$12,2, FALSE)/'Conversion Tables'!$H$12*Max_Point,0)","v":0},{"$f":"DE75*'Weighting Scale'!$D$11*DS75*DT75","v":0},{"$f":"IFERROR(VLOOKUP(BF75,'Conversion Tables'!$G$8:$N$12,6,FALSE)/'Conversion Tables'!$L$12*Max_Point,0)","v":0},{"$f":"DG75*'Weighting Scale'!$D$14*DS75*DT75","v":0},{"$f":"IFERROR(VLOOKUP(BG75,'Conversion Tables'!$G$8:$N$12,4,FALSE)/'Conversion Tables'!$J$12*Max_Point,0)","v":0},{"$f":"DI75*'Weighting Scale'!$D$12*DS75*DT75","v":0},{"$f":"IFERROR(VLOOKUP(BH75,'Conversion Tables'!$G$8:$N$12,5,FALSE)/'Conversion Tables'!$K$12*Max_Point,0)","v":0},{"$f":"DK75*'Weighting Scale'!$D$13*DS75*DT75","v":0},{"$f":"IFERROR(VLOOKUP(BI75,'Conversion Tables'!$G$8:$N$12,7,FALSE)/'Conversion Tables'!$M$12*Max_Point,0)","v":0},{"$f":"DM75*'Weighting Scale'!$D$15*DS75*DT75","v":0},{"$f":"IF(BJ75 = \"Yes\",('Conversion Tables'!$N$12)/'Conversion Tables'!$N$12*Max_Point,0)","v":0},{"$f":"DO75*'Weighting Scale'!$D$16*DS75*DT75","v":0},0,0,0,{"$f":"IF(I75=Dropdowns!$C$7,Dropdowns!$B$7,IF(I75=Dropdowns!$C$8,Dropdowns!$B$8,IF(I75=Dropdowns!$C$9,Dropdowns!$B$9,IF(I75=Dropdowns!$C$10,Dropdowns!$B$10,IF(I75=Dropdowns!$C$11,Dropdowns!$B$11,IF(I75=Dropdowns!$C$12,Dropdowns!$B$12,IF(I75=Dropdowns!$C$13,Dropdowns!$B$13,IF(I75=Dropdowns!$C$14,Dropdowns!$B$14,IF(I75=Dropdowns!$C$15,Dropdowns!$B$15,IF(I75=Dropdowns!$C$16,Dropdowns!$B$16,IF(I75=Dropdowns!$C$17,Dropdowns!$B$17,IF(I75=Dropdowns!$C$18,Dropdowns!$B$18,IF(I75=Dropdowns!$C$19,Dropdowns!$B$19,IF(I75=Dropdowns!$C$20,Dropdowns!$B$20,IF(I75=Dropdowns!$C$21,Dropdowns!$B$21,IF(I75=Dropdowns!$C$22,Dropdowns!$B$22,IF(I75=Dropdowns!$C$23,Dropdowns!$B$23,IF(I75=Dropdowns!$C$24,Dropdowns!$B$24,IF(I75=Dropdowns!$C$25,Dropdowns!$B$25,IF(I75=Dropdowns!$C$26,Dropdowns!$B$26,IF(I75=Dropdowns!$C$27,Dropdowns!$B$27,IF(I75=Dropdowns!$C$28,Dropdowns!$B$28,IF(I75=Dropdowns!$C$29,Dropdowns!$B$29,IF(I75=Dropdowns!$C$30,Dropdowns!$B$30,IF(I75=Dropdowns!$C$31,Dropdowns!$B$31,IF(I75=Dropdowns!$C$32,Dropdowns!$B$32,IF(I75=Dropdowns!$C$33,Dropdowns!$B$33,IF(I75=Dropdowns!$C$34,Dropdowns!$B$34,IF(I75=Dropdowns!$C$35,Dropdowns!$B$35,IF(I75=Dropdowns!$C$36,Dropdowns!$B$36,IF(I75=Dropdowns!$C$37,Dropdowns!$B$37,IF(I75=Dropdowns!$C$38,Dropdowns!$B$38,IF(I75=Dropdowns!$C$39,Dropdowns!$B$39,IF(I75=Dropdowns!$C$40,Dropdowns!$B$40,IF(I75=Dropdowns!$C$41,Dropdowns!$B$41,IF(I75=Dropdowns!$C$42,Dropdowns!$B$42,IF(I75=Dropdowns!$C$43,Dropdowns!$B$43,IF(I75=Dropdowns!$C$44,Dropdowns!$B$44,IF(I75=Dropdowns!$C$45,Dropdowns!$B$45,IF(I75=Dropdowns!$C$46,Dropdowns!$B$46,IF(I75=Dropdowns!$C$47,Dropdowns!$B$47, IF(I75=Dropdowns!$C$48,Dropdowns!$B$48,\"0\"))))))))))))))))))))))))))))))))))))))))))","v":0},{"$f":"IF(AX75=Dropdowns!$F$15,Dropdowns!$G$15,IF(AX75=Dropdowns!$F$16,Dropdowns!$G$16,IF(AX75=Dropdowns!$F$17,Dropdowns!$G$17,\"0\")))","v":"0"}]
[null,null,null,null,null,null,null,null,null,null,"-",null,null,null,null,null,null,null,null,null,null,0,null,null,null,null,null,0,null,null,null,null,null,null,0,null,null,null,null,0,0,null,0,0,0,0,"-",null,null,null,null,null,null,null,null,null,null,null,null,null,null,null,0,0,0,0,0,0,0,0,0,0,1,{"$f":"IFERROR(IF(L76=Dropdowns!$F$32,\"\",IF(J76=\"Project\",AR76/BT76,IF(J76=\"Program\",AP76/BT76,\"\"))),\"\")","v":""},"",null,null,null,null,null,null,null,null,null,{"$f":"IF($CA76=\"\",0,VLOOKUP($CA76,'Conversion Tables'!$B$37:$C$62,2,FALSE))+IF($CB76=\"\",0,VLOOKUP($CB76,'Conversion Tables'!$B$37:$C$62,2,FALSE))+IF($CC76=\"\",0,VLOOKUP($CC76,'Conversion Tables'!$B$37:$C$62,2,FALSE))+IF($CD76=\"\",0,VLOOKUP($CD76,'Conversion Tables'!$B$37:$C$62,2,FALSE))+IF($CE76=\"\",0,VLOOKUP($CE76,'Conversion Tables'!$B$37:$C$62,2,FALSE))+IF($CF76=\"\",0,VLOOKUP($CF76,'Conversion Tables'!$B$37:$C$62,2,FALSE))","v":0},null,null,null,null,null,null,{"$f":"IFERROR(VLOOKUP(CM76,Dropdowns!A$51:B$55,2,FALSE),\"\")","v":""},null,null,null,null,null,null,null,null,null,null,{"$f":"IFERROR(VLOOKUP(AZ76,'Conversion Tables'!$G$8:$N$12,3,FALSE)/'Conversion Tables'!$I$12*Max_Point,0)","v":0},{"$f":"CY76*'Weighting Scale'!$D$9*DS76*DT76","v":0},{"$f":"IFERROR(VLOOKUP(BB76,'Conversion Tables'!$B$8:$C$32,2,FALSE),0)","v":0},{"$f":"IFERROR(VLOOKUP(BC76,'Conversion Tables'!$B$8:$C$32,2,FALSE),0)","v":0},{"$f":"(DA76-DB76)/'Conversion Tables'!$C$32*Max_Point","v":0},{"$f":"DC76*'Weighting Scale'!$D$10*DS76*DT76","v":0},{"$f":"IFERROR(VLOOKUP(BE76,'Conversion Tables'!$G$8:$N$12,2, FALSE)/'Conversion Tables'!$H$12*Max_Point,0)","v":0},{"$f":"DE76*'Weighting Scale'!$D$11*DS76*DT76","v":0},{"$f":"IFERROR(VLOOKUP(BF76,'Conversion Tables'!$G$8:$N$12,6,FALSE)/'Conversion Tables'!$L$12*Max_Point,0)","v":0},{"$f":"DG76*'Weighting Scale'!$D$14*DS76*DT76","v":0},{"$f":"IFERROR(VLOOKUP(BG76,'Conversion Tables'!$G$8:$N$12,4,FALSE)/'Conversion Tables'!$J$12*Max_Point,0)","v":0},{"$f":"DI76*'Weighting Scale'!$D$12*DS76*DT76","v":0},{"$f":"IFERROR(VLOOKUP(BH76,'Conversion Tables'!$G$8:$N$12,5,FALSE)/'Conversion Tables'!$K$12*Max_Point,0)","v":0},{"$f":"DK76*'Weighting Scale'!$D$13*DS76*DT76","v":0},{"$f":"IFERROR(VLOOKUP(BI76,'Conversion Tables'!$G$8:$N$12,7,FALSE)/'Conversion Tables'!$M$12*Max_Point,0)","v":0},{"$f":"DM76*'Weighting Scale'!$D$15*DS76*DT76","v":0},{"$f":"IF(BJ76 = \"Yes\",('Conversion Tables'!$N$12)/'Conversion Tables'!$N$12*Max_Point,0)","v":0},{"$f":"DO76*'Weighting Scale'!$D$16*DS76*DT76","v":0},0,0,0,{"$f":"IF(I76=Dropdowns!$C$7,Dropdowns!$B$7,IF(I76=Dropdowns!$C$8,Dropdowns!$B$8,IF(I76=Dropdowns!$C$9,Dropdowns!$B$9,IF(I76=Dropdowns!$C$10,Dropdowns!$B$10,IF(I76=Dropdowns!$C$11,Dropdowns!$B$11,IF(I76=Dropdowns!$C$12,Dropdowns!$B$12,IF(I76=Dropdowns!$C$13,Dropdowns!$B$13,IF(I76=Dropdowns!$C$14,Dropdowns!$B$14,IF(I76=Dropdowns!$C$15,Dropdowns!$B$15,IF(I76=Dropdowns!$C$16,Dropdowns!$B$16,IF(I76=Dropdowns!$C$17,Dropdowns!$B$17,IF(I76=Dropdowns!$C$18,Dropdowns!$B$18,IF(I76=Dropdowns!$C$19,Dropdowns!$B$19,IF(I76=Dropdowns!$C$20,Dropdowns!$B$20,IF(I76=Dropdowns!$C$21,Dropdowns!$B$21,IF(I76=Dropdowns!$C$22,Dropdowns!$B$22,IF(I76=Dropdowns!$C$23,Dropdowns!$B$23,IF(I76=Dropdowns!$C$24,Dropdowns!$B$24,IF(I76=Dropdowns!$C$25,Dropdowns!$B$25,IF(I76=Dropdowns!$C$26,Dropdowns!$B$26,IF(I76=Dropdowns!$C$27,Dropdowns!$B$27,IF(I76=Dropdowns!$C$28,Dropdowns!$B$28,IF(I76=Dropdowns!$C$29,Dropdowns!$B$29,IF(I76=Dropdowns!$C$30,Dropdowns!$B$30,IF(I76=Dropdowns!$C$31,Dropdowns!$B$31,IF(I76=Dropdowns!$C$32,Dropdowns!$B$32,IF(I76=Dropdowns!$C$33,Dropdowns!$B$33,IF(I76=Dropdowns!$C$34,Dropdowns!$B$34,IF(I76=Dropdowns!$C$35,Dropdowns!$B$35,IF(I76=Dropdowns!$C$36,Dropdowns!$B$36,IF(I76=Dropdowns!$C$37,Dropdowns!$B$37,IF(I76=Dropdowns!$C$38,Dropdowns!$B$38,IF(I76=Dropdowns!$C$39,Dropdowns!$B$39,IF(I76=Dropdowns!$C$40,Dropdowns!$B$40,IF(I76=Dropdowns!$C$41,Dropdowns!$B$41,IF(I76=Dropdowns!$C$42,Dropdowns!$B$42,IF(I76=Dropdowns!$C$43,Dropdowns!$B$43,IF(I76=Dropdowns!$C$44,Dropdowns!$B$44,IF(I76=Dropdowns!$C$45,Dropdowns!$B$45,IF(I76=Dropdowns!$C$46,Dropdowns!$B$46,IF(I76=Dropdowns!$C$47,Dropdowns!$B$47, IF(I76=Dropdowns!$C$48,Dropdowns!$B$48,\"0\"))))))))))))))))))))))))))))))))))))))))))","v":0},{"$f":"IF(AX76=Dropdowns!$F$15,Dropdowns!$G$15,IF(AX76=Dropdowns!$F$16,Dropdowns!$G$16,IF(AX76=Dropdowns!$F$17,Dropdowns!$G$17,\"0\")))","v":"0"}]
[null,null,null,null,null,null,null,null,null,null,{"$f":"IF(AND(J77=\"Project\", AO77>24999),\"Yes\",\"-\")","v":"-"},null,null,null,null,null,null,null,null,null,null,{"$f":"SUM(O77:U77)","v":0},null,null,null,null,null,{"$f":"SUM(W77:AA77)","v":0},null,null,null,null,null,null,{"$f":"SUM(AC77:AH77)","v":0},null,null,null,null,{"$f":"SUM(AJ77:AM77)","v":0},{"$f":"(V77+AB77+AI77+AN77)","v":0},null,{"$f":"U77+AA77","v":0},{"$f":"(AO77-AQ77)","v":0},{"$f":"SUM(V77+AB77)","v":0},{"$f":"AO77-AS77","v":0},{"$f":"IF(ISERROR((AS77)/AO77),\"-\", (AS77)/AO77)","v":"-"},null,null,null,null,null,null,null,null,null,null,null,null,null,null,null,{"$f":"AY77/158475797","v":0},{"$f":"CZ77","v":0},{"$f":"DD77","v":0},{"$f":"DF77","v":0},{"$f":"DH77","v":0},{"$f":"DJ77","v":0},{"$f":"DL77","v":0},{"$f":"DN77","v":0},{"$f":"DP77","v":0},{"$f":"DR77","v":0},{"$f":"IFERROR(RANK(BT77,$BT$13:$BT$143,0),\"\")","v":1},{"$f":"IFERROR(IF(L77=Dropdowns!$F$32,\"\",IF(J77=\"Project\",AR77/BT77,IF(J77=\"Program\",AP77/BT77,\"\"))),\"\")","v":""},{"$f":"IFERROR(RANK(BV77,$BV$13:$BV$143,1),\"\")","v":""},null,null,null,null,null,null,null,null,null,{"$f":"IF($CA77=\"\",0,VLOOKUP($CA77,'Conversion Tables'!$B$37:$C$62,2,FALSE))+IF($CB77=\"\",0,VLOOKUP($CB77,'Conversion Tables'!$B$37:$C$62,2,FALSE))+IF($CC77=\"\",0,VLOOKUP($CC77,'Conversion Tables'!$B$37:$C$62,2,FALSE))+IF($CD77=\"\",0,VLOOKUP($CD77,'Conversion Tables'!$B$37:$C$62,2,FALSE))+IF($CE77=\"\",0,VLOOKUP($CE77,'Conversion Tables'!$B$37:$C$62,2,FALSE))+IF($CF77=\"\",0,VLOOKUP($CF77,'Conversion Tables'!$B$37:$C$62,2,FALSE))","v":0},null,null,null,null,null,null,{"$f":"IFERROR(VLOOKUP(CM77,Dropdowns!A$51:B$55,2,FALSE),\"\")","v":""},null,null,null,null,null,null,null,null,null,null,{"$f":"IFERROR(VLOOKUP(AZ77,'Conversion Tables'!$G$8:$N$12,3,FALSE)/'Conversion Tables'!$I$12*Max_Point,0)","v":0},{"$f":"CY77*'Weighting Scale'!$D$9*DS77*DT77","v":0},{"$f":"IFERROR(VLOOKUP(BB77,'Conversion Tables'!$B$8:$C$32,2,FALSE),0)","v":0},{"$f":"IFERROR(VLOOKUP(BC77,'Conversion Tables'!$B$8:$C$32,2,FALSE),0)","v":0},{"$f":"(DA77-DB77)/'Conversion Tables'!$C$32*Max_Point","v":0},{"$f":"DC77*'Weighting Scale'!$D$10*DS77*DT77","v":0},{"$f":"IFERROR(VLOOKUP(BE77,'Conversion Tables'!$G$8:$N$12,2, FALSE)/'Conversion Tables'!$H$12*Max_Point,0)","v":0},{"$f":"DE77*'Weighting Scale'!$D$11*DS77*DT77","v":0},{"$f":"IFERROR(VLOOKUP(BF77,'Conversion Tables'!$G$8:$N$12,6,FALSE)/'Conversion Tables'!$L$12*Max_Point,0)","v":0},{"$f":"DG77*'Weighting Scale'!$D$14*DS77*DT77","v":0},{"$f":"IFERROR(VLOOKUP(BG77,'Conversion Tables'!$G$8:$N$12,4,FALSE)/'Conversion Tables'!$J$12*Max_Point,0)","v":0},{"$f":"DI77*'Weighting Scale'!$D$12*DS77*DT77","v":0},{"$f":"IFERROR(VLOOKUP(BH77,'Conversion Tables'!$G$8:$N$12,5,FALSE)/'Conversion Tables'!$K$12*Max_Point,0)","v":0},{"$f":"DK77*'Weighting Scale'!$D$13*DS77*DT77","v":0},{"$f":"IFERROR(VLOOKUP(BI77,'Conversion Tables'!$G$8:$N$12,7,FALSE)/'Conversion Tables'!$M$12*Max_Point,0)","v":0},{"$f":"DM77*'Weighting Scale'!$D$15*DS77*DT77","v":0},{"$f":"IF(BJ77 = \"Yes\",('Conversion Tables'!$N$12)/'Conversion Tables'!$N$12*Max_Point,0)","v":0},{"$f":"DO77*'Weighting Scale'!$D$16*DS77*DT77","v":0},{"$f":"CZ77+DD77+DF77+DH77+DJ77+DL77+DN77+DP77","v":0},{"$f":"DQ77*DU77","v":0},{"$f":"BK77","v":0},{"$f":"IF(I77=Dropdowns!$C$7,Dropdowns!$B$7,IF(I77=Dropdowns!$C$8,Dropdowns!$B$8,IF(I77=Dropdowns!$C$9,Dropdowns!$B$9,IF(I77=Dropdowns!$C$10,Dropdowns!$B$10,IF(I77=Dropdowns!$C$11,Dropdowns!$B$11,IF(I77=Dropdowns!$C$12,Dropdowns!$B$12,IF(I77=Dropdowns!$C$13,Dropdowns!$B$13,IF(I77=Dropdowns!$C$14,Dropdowns!$B$14,IF(I77=Dropdowns!$C$15,Dropdowns!$B$15,IF(I77=Dropdowns!$C$16,Dropdowns!$B$16,IF(I77=Dropdowns!$C$17,Dropdowns!$B$17,IF(I77=Dropdowns!$C$18,Dropdowns!$B$18,IF(I77=Dropdowns!$C$19,Dropdowns!$B$19,IF(I77=Dropdowns!$C$20,Dropdowns!$B$20,IF(I77=Dropdowns!$C$21,Dropdowns!$B$21,IF(I77=Dropdowns!$C$22,Dropdowns!$B$22,IF(I77=Dropdowns!$C$23,Dropdowns!$B$23,IF(I77=Dropdowns!$C$24,Dropdowns!$B$24,IF(I77=Dropdowns!$C$25,Dropdowns!$B$25,IF(I77=Dropdowns!$C$26,Dropdowns!$B$26,IF(I77=Dropdowns!$C$27,Dropdowns!$B$27,IF(I77=Dropdowns!$C$28,Dropdowns!$B$28,IF(I77=Dropdowns!$C$29,Dropdowns!$B$29,IF(I77=Dropdowns!$C$30,Dropdowns!$B$30,IF(I77=Dropdowns!$C$31,Dropdowns!$B$31,IF(I77=Dropdowns!$C$32,Dropdowns!$B$32,IF(I77=Dropdowns!$C$33,Dropdowns!$B$33,IF(I77=Dropdowns!$C$34,Dropdowns!$B$34,IF(I77=Dropdowns!$C$35,Dropdowns!$B$35,IF(I77=Dropdowns!$C$36,Dropdowns!$B$36,IF(I77=Dropdowns!$C$37,Dropdowns!$B$37,IF(I77=Dropdowns!$C$38,Dropdowns!$B$38,IF(I77=Dropdowns!$C$39,Dropdowns!$B$39,IF(I77=Dropdowns!$C$40,Dropdowns!$B$40,IF(I77=Dropdowns!$C$41,Dropdowns!$B$41,IF(I77=Dropdowns!$C$42,Dropdowns!$B$42,IF(I77=Dropdowns!$C$43,Dropdowns!$B$43,IF(I77=Dropdowns!$C$44,Dropdowns!$B$44,IF(I77=Dropdowns!$C$45,Dropdowns!$B$45,IF(I77=Dropdowns!$C$46,Dropdowns!$B$46,IF(I77=Dropdowns!$C$47,Dropdowns!$B$47, IF(I77=Dropdowns!$C$48,Dropdowns!$B$48,\"0\"))))))))))))))))))))))))))))))))))))))))))","v":0},{"$f":"IF(AX77=Dropdowns!$F$15,Dropdowns!$G$15,IF(AX77=Dropdowns!$F$16,Dropdowns!$G$16,IF(AX77=Dropdowns!$F$17,Dropdowns!$G$17,\"0\")))","v":"0"}]
[null,null,null,null,null,null,null,null,null,null,"-",null,null,null,null,null,null,null,null,null,null,0,null,null,null,null,null,0,null,null,null,null,null,null,0,null,null,null,null,0,0,null,0,0,0,0,"-",null,null,null,null,null,null,null,null,null,null,null,null,null,null,null,0,0,0,0,0,0,0,0,0,0,1,{"$f":"IFERROR(IF(L78=Dropdowns!$F$32,\"\",IF(J78=\"Project\",AR78/BT78,IF(J78=\"Program\",AP78/BT78,\"\"))),\"\")","v":""},"",null,null,null,null,null,null,null,null,null,{"$f":"IF($CA78=\"\",0,VLOOKUP($CA78,'Conversion Tables'!$B$37:$C$62,2,FALSE))+IF($CB78=\"\",0,VLOOKUP($CB78,'Conversion Tables'!$B$37:$C$62,2,FALSE))+IF($CC78=\"\",0,VLOOKUP($CC78,'Conversion Tables'!$B$37:$C$62,2,FALSE))+IF($CD78=\"\",0,VLOOKUP($CD78,'Conversion Tables'!$B$37:$C$62,2,FALSE))+IF($CE78=\"\",0,VLOOKUP($CE78,'Conversion Tables'!$B$37:$C$62,2,FALSE))+IF($CF78=\"\",0,VLOOKUP($CF78,'Conversion Tables'!$B$37:$C$62,2,FALSE))","v":0},null,null,null,null,null,null,{"$f":"IFERROR(VLOOKUP(CM78,Dropdowns!A$51:B$55,2,FALSE),\"\")","v":""},null,null,null,null,null,null,null,null,null,null,{"$f":"IFERROR(VLOOKUP(AZ78,'Conversion Tables'!$G$8:$N$12,3,FALSE)/'Conversion Tables'!$I$12*Max_Point,0)","v":0},{"$f":"CY78*'Weighting Scale'!$D$9*DS78*DT78","v":0},{"$f":"IFERROR(VLOOKUP(BB78,'Conversion Tables'!$B$8:$C$32,2,FALSE),0)","v":0},{"$f":"IFERROR(VLOOKUP(BC78,'Conversion Tables'!$B$8:$C$32,2,FALSE),0)","v":0},{"$f":"(DA78-DB78)/'Conversion Tables'!$C$32*Max_Point","v":0},{"$f":"DC78*'Weighting Scale'!$D$10*DS78*DT78","v":0},{"$f":"IFERROR(VLOOKUP(BE78,'Conversion Tables'!$G$8:$N$12,2, FALSE)/'Conversion Tables'!$H$12*Max_Point,0)","v":0},{"$f":"DE78*'Weighting Scale'!$D$11*DS78*DT78","v":0},{"$f":"IFERROR(VLOOKUP(BF78,'Conversion Tables'!$G$8:$N$12,6,FALSE)/'Conversion Tables'!$L$12*Max_Point,0)","v":0},{"$f":"DG78*'Weighting Scale'!$D$14*DS78*DT78","v":0},{"$f":"IFERROR(VLOOKUP(BG78,'Conversion Tables'!$G$8:$N$12,4,FALSE)/'Conversion Tables'!$J$12*Max_Point,0)","v":0},{"$f":"DI78*'Weighting Scale'!$D$12*DS78*DT78","v":0},{"$f":"IFERROR(VLOOKUP(BH78,'Conversion Tables'!$G$8:$N$12,5,FALSE)/'Conversion Tables'!$K$12*Max_Point,0)","v":0},{"$f":"DK78*'Weighting Scale'!$D$13*DS78*DT78","v":0},{"$f":"IFERROR(VLOOKUP(BI78,'Conversion Tables'!$G$8:$N$12,7,FALSE)/'Conversion Tables'!$M$12*Max_Point,0)","v":0},{"$f":"DM78*'Weighting Scale'!$D$15*DS78*DT78","v":0},{"$f":"IF(BJ78 = \"Yes\",('Conversion Tables'!$N$12)/'Conversion Tables'!$N$12*Max_Point,0)","v":0},{"$f":"DO78*'Weighting Scale'!$D$16*DS78*DT78","v":0},0,0,0,{"$f":"IF(I78=Dropdowns!$C$7,Dropdowns!$B$7,IF(I78=Dropdowns!$C$8,Dropdowns!$B$8,IF(I78=Dropdowns!$C$9,Dropdowns!$B$9,IF(I78=Dropdowns!$C$10,Dropdowns!$B$10,IF(I78=Dropdowns!$C$11,Dropdowns!$B$11,IF(I78=Dropdowns!$C$12,Dropdowns!$B$12,IF(I78=Dropdowns!$C$13,Dropdowns!$B$13,IF(I78=Dropdowns!$C$14,Dropdowns!$B$14,IF(I78=Dropdowns!$C$15,Dropdowns!$B$15,IF(I78=Dropdowns!$C$16,Dropdowns!$B$16,IF(I78=Dropdowns!$C$17,Dropdowns!$B$17,IF(I78=Dropdowns!$C$18,Dropdowns!$B$18,IF(I78=Dropdowns!$C$19,Dropdowns!$B$19,IF(I78=Dropdowns!$C$20,Dropdowns!$B$20,IF(I78=Dropdowns!$C$21,Dropdowns!$B$21,IF(I78=Dropdowns!$C$22,Dropdowns!$B$22,IF(I78=Dropdowns!$C$23,Dropdowns!$B$23,IF(I78=Dropdowns!$C$24,Dropdowns!$B$24,IF(I78=Dropdowns!$C$25,Dropdowns!$B$25,IF(I78=Dropdowns!$C$26,Dropdowns!$B$26,IF(I78=Dropdowns!$C$27,Dropdowns!$B$27,IF(I78=Dropdowns!$C$28,Dropdowns!$B$28,IF(I78=Dropdowns!$C$29,Dropdowns!$B$29,IF(I78=Dropdowns!$C$30,Dropdowns!$B$30,IF(I78=Dropdowns!$C$31,Dropdowns!$B$31,IF(I78=Dropdowns!$C$32,Dropdowns!$B$32,IF(I78=Dropdowns!$C$33,Dropdowns!$B$33,IF(I78=Dropdowns!$C$34,Dropdowns!$B$34,IF(I78=Dropdowns!$C$35,Dropdowns!$B$35,IF(I78=Dropdowns!$C$36,Dropdowns!$B$36,IF(I78=Dropdowns!$C$37,Dropdowns!$B$37,IF(I78=Dropdowns!$C$38,Dropdowns!$B$38,IF(I78=Dropdowns!$C$39,Dropdowns!$B$39,IF(I78=Dropdowns!$C$40,Dropdowns!$B$40,IF(I78=Dropdowns!$C$41,Dropdowns!$B$41,IF(I78=Dropdowns!$C$42,Dropdowns!$B$42,IF(I78=Dropdowns!$C$43,Dropdowns!$B$43,IF(I78=Dropdowns!$C$44,Dropdowns!$B$44,IF(I78=Dropdowns!$C$45,Dropdowns!$B$45,IF(I78=Dropdowns!$C$46,Dropdowns!$B$46,IF(I78=Dropdowns!$C$47,Dropdowns!$B$47, IF(I78=Dropdowns!$C$48,Dropdowns!$B$48,\"0\"))))))))))))))))))))))))))))))))))))))))))","v":0},{"$f":"IF(AX78=Dropdowns!$F$15,Dropdowns!$G$15,IF(AX78=Dropdowns!$F$16,Dropdowns!$G$16,IF(AX78=Dropdowns!$F$17,Dropdowns!$G$17,\"0\")))","v":"0"}]
[null,null,null,null,null,null,null,null,null,null,"-",null,null,null,null,null,null,null,null,null,null,0,null,null,null,null,null,0,null,null,null,null,null,null,0,null,null,null,null,0,0,null,0,0,0,0,"-",null,null,null,null,null,null,null,null,null,null,null,null,null,null,null,0,0,0,0,0,0,0,0,0,0,1,{"$f":"IFERROR(IF(L79=Dropdowns!$F$32,\"\",IF(J79=\"Project\",AR79/BT79,IF(J79=\"Program\",AP79/BT79,\"\"))),\"\")","v":""},"",null,null,null,null,null,null,null,null,null,{"$f":"IF($CA79=\"\",0,VLOOKUP($CA79,'Conversion Tables'!$B$37:$C$62,2,FALSE))+IF($CB79=\"\",0,VLOOKUP($CB79,'Conversion Tables'!$B$37:$C$62,2,FALSE))+IF($CC79=\"\",0,VLOOKUP($CC79,'Conversion Tables'!$B$37:$C$62,2,FALSE))+IF($CD79=\"\",0,VLOOKUP($CD79,'Conversion Tables'!$B$37:$C$62,2,FALSE))+IF($CE79=\"\",0,VLOOKUP($CE79,'Conversion Tables'!$B$37:$C$62,2,FALSE))+IF($CF79=\"\",0,VLOOKUP($CF79,'Conversion Tables'!$B$37:$C$62,2,FALSE))","v":0},null,null,null,null,null,null,{"$f":"IFERROR(VLOOKUP(CM79,Dropdowns!A$51:B$55,2,FALSE),\"\")","v":""},null,null,null,null,null,null,null,null,null,null,{"$f":"IFERROR(VLOOKUP(AZ79,'Conversion Tables'!$G$8:$N$12,3,FALSE)/'Conversion Tables'!$I$12*Max_Point,0)","v":0},{"$f":"CY79*'Weighting Scale'!$D$9*DS79*DT79","v":0},{"$f":"IFERROR(VLOOKUP(BB79,'Conversion Tables'!$B$8:$C$32,2,FALSE),0)","v":0},{"$f":"IFERROR(VLOOKUP(BC79,'Conversion Tables'!$B$8:$C$32,2,FALSE),0)","v":0},{"$f":"(DA79-DB79)/'Conversion Tables'!$C$32*Max_Point","v":0},{"$f":"DC79*'Weighting Scale'!$D$10*DS79*DT79","v":0},{"$f":"IFERROR(VLOOKUP(BE79,'Conversion Tables'!$G$8:$N$12,2, FALSE)/'Conversion Tables'!$H$12*Max_Point,0)","v":0},{"$f":"DE79*'Weighting Scale'!$D$11*DS79*DT79","v":0},{"$f":"IFERROR(VLOOKUP(BF79,'Conversion Tables'!$G$8:$N$12,6,FALSE)/'Conversion Tables'!$L$12*Max_Point,0)","v":0},{"$f":"DG79*'Weighting Scale'!$D$14*DS79*DT79","v":0},{"$f":"IFERROR(VLOOKUP(BG79,'Conversion Tables'!$G$8:$N$12,4,FALSE)/'Conversion Tables'!$J$12*Max_Point,0)","v":0},{"$f":"DI79*'Weighting Scale'!$D$12*DS79*DT79","v":0},{"$f":"IFERROR(VLOOKUP(BH79,'Conversion Tables'!$G$8:$N$12,5,FALSE)/'Conversion Tables'!$K$12*Max_Point,0)","v":0},{"$f":"DK79*'Weighting Scale'!$D$13*DS79*DT79","v":0},{"$f":"IFERROR(VLOOKUP(BI79,'Conversion Tables'!$G$8:$N$12,7,FALSE)/'Conversion Tables'!$M$12*Max_Point,0)","v":0},{"$f":"DM79*'Weighting Scale'!$D$15*DS79*DT79","v":0},{"$f":"IF(BJ79 = \"Yes\",('Conversion Tables'!$N$12)/'Conversion Tables'!$N$12*Max_Point,0)","v":0},{"$f":"DO79*'Weighting Scale'!$D$16*DS79*DT79","v":0},0,0,0,{"$f":"IF(I79=Dropdowns!$C$7,Dropdowns!$B$7,IF(I79=Dropdowns!$C$8,Dropdowns!$B$8,IF(I79=Dropdowns!$C$9,Dropdowns!$B$9,IF(I79=Dropdowns!$C$10,Dropdowns!$B$10,IF(I79=Dropdowns!$C$11,Dropdowns!$B$11,IF(I79=Dropdowns!$C$12,Dropdowns!$B$12,IF(I79=Dropdowns!$C$13,Dropdowns!$B$13,IF(I79=Dropdowns!$C$14,Dropdowns!$B$14,IF(I79=Dropdowns!$C$15,Dropdowns!$B$15,IF(I79=Dropdowns!$C$16,Dropdowns!$B$16,IF(I79=Dropdowns!$C$17,Dropdowns!$B$17,IF(I79=Dropdowns!$C$18,Dropdowns!$B$18,IF(I79=Dropdowns!$C$19,Dropdowns!$B$19,IF(I79=Dropdowns!$C$20,Dropdowns!$B$20,IF(I79=Dropdowns!$C$21,Dropdowns!$B$21,IF(I79=Dropdowns!$C$22,Dropdowns!$B$22,IF(I79=Dropdowns!$C$23,Dropdowns!$B$23,IF(I79=Dropdowns!$C$24,Dropdowns!$B$24,IF(I79=Dropdowns!$C$25,Dropdowns!$B$25,IF(I79=Dropdowns!$C$26,Dropdowns!$B$26,IF(I79=Dropdowns!$C$27,Dropdowns!$B$27,IF(I79=Dropdowns!$C$28,Dropdowns!$B$28,IF(I79=Dropdowns!$C$29,Dropdowns!$B$29,IF(I79=Dropdowns!$C$30,Dropdowns!$B$30,IF(I79=Dropdowns!$C$31,Dropdowns!$B$31,IF(I79=Dropdowns!$C$32,Dropdowns!$B$32,IF(I79=Dropdowns!$C$33,Dropdowns!$B$33,IF(I79=Dropdowns!$C$34,Dropdowns!$B$34,IF(I79=Dropdowns!$C$35,Dropdowns!$B$35,IF(I79=Dropdowns!$C$36,Dropdowns!$B$36,IF(I79=Dropdowns!$C$37,Dropdowns!$B$37,IF(I79=Dropdowns!$C$38,Dropdowns!$B$38,IF(I79=Dropdowns!$C$39,Dropdowns!$B$39,IF(I79=Dropdowns!$C$40,Dropdowns!$B$40,IF(I79=Dropdowns!$C$41,Dropdowns!$B$41,IF(I79=Dropdowns!$C$42,Dropdowns!$B$42,IF(I79=Dropdowns!$C$43,Dropdowns!$B$43,IF(I79=Dropdowns!$C$44,Dropdowns!$B$44,IF(I79=Dropdowns!$C$45,Dropdowns!$B$45,IF(I79=Dropdowns!$C$46,Dropdowns!$B$46,IF(I79=Dropdowns!$C$47,Dropdowns!$B$47, IF(I79=Dropdowns!$C$48,Dropdowns!$B$48,\"0\"))))))))))))))))))))))))))))))))))))))))))","v":0},{"$f":"IF(AX79=Dropdowns!$F$15,Dropdowns!$G$15,IF(AX79=Dropdowns!$F$16,Dropdowns!$G$16,IF(AX79=Dropdowns!$F$17,Dropdowns!$G$17,\"0\")))","v":"0"}]
[null,null,null,null,null,null,null,null,null,null,"-",null,null,null,null,null,null,null,null,null,null,0,null,null,null,null,null,0,null,null,null,null,null,null,0,null,null,null,null,0,0,null,0,0,0,0,"-",null,null,null,null,null,null,null,null,null,null,null,null,null,null,null,0,0,0,0,0,0,0,0,0,0,1,{"$f":"IFERROR(IF(L80=Dropdowns!$F$32,\"\",IF(J80=\"Project\",AR80/BT80,IF(J80=\"Program\",AP80/BT80,\"\"))),\"\")","v":""},"",null,null,null,null,null,null,null,null,null,{"$f":"IF($CA80=\"\",0,VLOOKUP($CA80,'Conversion Tables'!$B$37:$C$62,2,FALSE))+IF($CB80=\"\",0,VLOOKUP($CB80,'Conversion Tables'!$B$37:$C$62,2,FALSE))+IF($CC80=\"\",0,VLOOKUP($CC80,'Conversion Tables'!$B$37:$C$62,2,FALSE))+IF($CD80=\"\",0,VLOOKUP($CD80,'Conversion Tables'!$B$37:$C$62,2,FALSE))+IF($CE80=\"\",0,VLOOKUP($CE80,'Conversion Tables'!$B$37:$C$62,2,FALSE))+IF($CF80=\"\",0,VLOOKUP($CF80,'Conversion Tables'!$B$37:$C$62,2,FALSE))","v":0},null,null,null,null,null,null,{"$f":"IFERROR(VLOOKUP(CM80,Dropdowns!A$51:B$55,2,FALSE),\"\")","v":""},null,null,null,null,null,null,null,null,null,null,{"$f":"IFERROR(VLOOKUP(AZ80,'Conversion Tables'!$G$8:$N$12,3,FALSE)/'Conversion Tables'!$I$12*Max_Point,0)","v":0},{"$f":"CY80*'Weighting Scale'!$D$9*DS80*DT80","v":0},{"$f":"IFERROR(VLOOKUP(BB80,'Conversion Tables'!$B$8:$C$32,2,FALSE),0)","v":0},{"$f":"IFERROR(VLOOKUP(BC80,'Conversion Tables'!$B$8:$C$32,2,FALSE),0)","v":0},{"$f":"(DA80-DB80)/'Conversion Tables'!$C$32*Max_Point","v":0},{"$f":"DC80*'Weighting Scale'!$D$10*DS80*DT80","v":0},{"$f":"IFERROR(VLOOKUP(BE80,'Conversion Tables'!$G$8:$N$12,2, FALSE)/'Conversion Tables'!$H$12*Max_Point,0)","v":0},{"$f":"DE80*'Weighting Scale'!$D$11*DS80*DT80","v":0},{"$f":"IFERROR(VLOOKUP(BF80,'Conversion Tables'!$G$8:$N$12,6,FALSE)/'Conversion Tables'!$L$12*Max_Point,0)","v":0},{"$f":"DG80*'Weighting Scale'!$D$14*DS80*DT80","v":0},{"$f":"IFERROR(VLOOKUP(BG80,'Conversion Tables'!$G$8:$N$12,4,FALSE)/'Conversion Tables'!$J$12*Max_Point,0)","v":0},{"$f":"DI80*'Weighting Scale'!$D$12*DS80*DT80","v":0},{"$f":"IFERROR(VLOOKUP(BH80,'Conversion Tables'!$G$8:$N$12,5,FALSE)/'Conversion Tables'!$K$12*Max_Point,0)","v":0},{"$f":"DK80*'Weighting Scale'!$D$13*DS80*DT80","v":0},{"$f":"IFERROR(VLOOKUP(BI80,'Conversion Tables'!$G$8:$N$12,7,FALSE)/'Conversion Tables'!$M$12*Max_Point,0)","v":0},{"$f":"DM80*'Weighting Scale'!$D$15*DS80*DT80","v":0},{"$f":"IF(BJ80 = \"Yes\",('Conversion Tables'!$N$12)/'Conversion Tables'!$N$12*Max_Point,0)","v":0},{"$f":"DO80*'Weighting Scale'!$D$16*DS80*DT80","v":0},0,0,0,{"$f":"IF(I80=Dropdowns!$C$7,Dropdowns!$B$7,IF(I80=Dropdowns!$C$8,Dropdowns!$B$8,IF(I80=Dropdowns!$C$9,Dropdowns!$B$9,IF(I80=Dropdowns!$C$10,Dropdowns!$B$10,IF(I80=Dropdowns!$C$11,Dropdowns!$B$11,IF(I80=Dropdowns!$C$12,Dropdowns!$B$12,IF(I80=Dropdowns!$C$13,Dropdowns!$B$13,IF(I80=Dropdowns!$C$14,Dropdowns!$B$14,IF(I80=Dropdowns!$C$15,Dropdowns!$B$15,IF(I80=Dropdowns!$C$16,Dropdowns!$B$16,IF(I80=Dropdowns!$C$17,Dropdowns!$B$17,IF(I80=Dropdowns!$C$18,Dropdowns!$B$18,IF(I80=Dropdowns!$C$19,Dropdowns!$B$19,IF(I80=Dropdowns!$C$20,Dropdowns!$B$20,IF(I80=Dropdowns!$C$21,Dropdowns!$B$21,IF(I80=Dropdowns!$C$22,Dropdowns!$B$22,IF(I80=Dropdowns!$C$23,Dropdowns!$B$23,IF(I80=Dropdowns!$C$24,Dropdowns!$B$24,IF(I80=Dropdowns!$C$25,Dropdowns!$B$25,IF(I80=Dropdowns!$C$26,Dropdowns!$B$26,IF(I80=Dropdowns!$C$27,Dropdowns!$B$27,IF(I80=Dropdowns!$C$28,Dropdowns!$B$28,IF(I80=Dropdowns!$C$29,Dropdowns!$B$29,IF(I80=Dropdowns!$C$30,Dropdowns!$B$30,IF(I80=Dropdowns!$C$31,Dropdowns!$B$31,IF(I80=Dropdowns!$C$32,Dropdowns!$B$32,IF(I80=Dropdowns!$C$33,Dropdowns!$B$33,IF(I80=Dropdowns!$C$34,Dropdowns!$B$34,IF(I80=Dropdowns!$C$35,Dropdowns!$B$35,IF(I80=Dropdowns!$C$36,Dropdowns!$B$36,IF(I80=Dropdowns!$C$37,Dropdowns!$B$37,IF(I80=Dropdowns!$C$38,Dropdowns!$B$38,IF(I80=Dropdowns!$C$39,Dropdowns!$B$39,IF(I80=Dropdowns!$C$40,Dropdowns!$B$40,IF(I80=Dropdowns!$C$41,Dropdowns!$B$41,IF(I80=Dropdowns!$C$42,Dropdowns!$B$42,IF(I80=Dropdowns!$C$43,Dropdowns!$B$43,IF(I80=Dropdowns!$C$44,Dropdowns!$B$44,IF(I80=Dropdowns!$C$45,Dropdowns!$B$45,IF(I80=Dropdowns!$C$46,Dropdowns!$B$46,IF(I80=Dropdowns!$C$47,Dropdowns!$B$47, IF(I80=Dropdowns!$C$48,Dropdowns!$B$48,\"0\"))))))))))))))))))))))))))))))))))))))))))","v":0},{"$f":"IF(AX80=Dropdowns!$F$15,Dropdowns!$G$15,IF(AX80=Dropdowns!$F$16,Dropdowns!$G$16,IF(AX80=Dropdowns!$F$17,Dropdowns!$G$17,\"0\")))","v":"0"}]
[null,null,null,null,null,null,null,null,null,null,"-",null,null,null,null,null,null,null,null,null,null,0,null,null,null,null,null,0,null,null,null,null,null,null,0,null,null,null,null,0,0,null,0,0,0,0,"-",null,null,null,null,null,null,null,null,null,null,null,null,null,null,null,0,0,0,0,0,0,0,0,0,0,1,{"$f":"IFERROR(IF(L81=Dropdowns!$F$32,\"\",IF(J81=\"Project\",AR81/BT81,IF(J81=\"Program\",AP81/BT81,\"\"))),\"\")","v":""},"",null,null,null,null,null,null,null,null,null,{"$f":"IF($CA81=\"\",0,VLOOKUP($CA81,'Conversion Tables'!$B$37:$C$62,2,FALSE))+IF($CB81=\"\",0,VLOOKUP($CB81,'Conversion Tables'!$B$37:$C$62,2,FALSE))+IF($CC81=\"\",0,VLOOKUP($CC81,'Conversion Tables'!$B$37:$C$62,2,FALSE))+IF($CD81=\"\",0,VLOOKUP($CD81,'Conversion Tables'!$B$37:$C$62,2,FALSE))+IF($CE81=\"\",0,VLOOKUP($CE81,'Conversion Tables'!$B$37:$C$62,2,FALSE))+IF($CF81=\"\",0,VLOOKUP($CF81,'Conversion Tables'!$B$37:$C$62,2,FALSE))","v":0},null,null,null,null,null,null,{"$f":"IFERROR(VLOOKUP(CM81,Dropdowns!A$51:B$55,2,FALSE),\"\")","v":""},null,null,null,null,null,null,null,null,null,null,{"$f":"IFERROR(VLOOKUP(AZ81,'Conversion Tables'!$G$8:$N$12,3,FALSE)/'Conversion Tables'!$I$12*Max_Point,0)","v":0},{"$f":"CY81*'Weighting Scale'!$D$9*DS81*DT81","v":0},{"$f":"IFERROR(VLOOKUP(BB81,'Conversion Tables'!$B$8:$C$32,2,FALSE),0)","v":0},{"$f":"IFERROR(VLOOKUP(BC81,'Conversion Tables'!$B$8:$C$32,2,FALSE),0)","v":0},{"$f":"(DA81-DB81)/'Conversion Tables'!$C$32*Max_Point","v":0},{"$f":"DC81*'Weighting Scale'!$D$10*DS81*DT81","v":0},{"$f":"IFERROR(VLOOKUP(BE81,'Conversion Tables'!$G$8:$N$12,2, FALSE)/'Conversion Tables'!$H$12*Max_Point,0)","v":0},{"$f":"DE81*'Weighting Scale'!$D$11*DS81*DT81","v":0},{"$f":"IFERROR(VLOOKUP(BF81,'Conversion Tables'!$G$8:$N$12,6,FALSE)/'Conversion Tables'!$L$12*Max_Point,0)","v":0},{"$f":"DG81*'Weighting Scale'!$D$14*DS81*DT81","v":0},{"$f":"IFERROR(VLOOKUP(BG81,'Conversion Tables'!$G$8:$N$12,4,FALSE)/'Conversion Tables'!$J$12*Max_Point,0)","v":0},{"$f":"DI81*'Weighting Scale'!$D$12*DS81*DT81","v":0},{"$f":"IFERROR(VLOOKUP(BH81,'Conversion Tables'!$G$8:$N$12,5,FALSE)/'Conversion Tables'!$K$12*Max_Point,0)","v":0},{"$f":"DK81*'Weighting Scale'!$D$13*DS81*DT81","v":0},{"$f":"IFERROR(VLOOKUP(BI81,'Conversion Tables'!$G$8:$N$12,7,FALSE)/'Conversion Tables'!$M$12*Max_Point,0)","v":0},{"$f":"DM81*'Weighting Scale'!$D$15*DS81*DT81","v":0},{"$f":"IF(BJ81 = \"Yes\",('Conversion Tables'!$N$12)/'Conversion Tables'!$N$12*Max_Point,0)","v":0},{"$f":"DO81*'Weighting Scale'!$D$16*DS81*DT81","v":0},0,0,0,{"$f":"IF(I81=Dropdowns!$C$7,Dropdowns!$B$7,IF(I81=Dropdowns!$C$8,Dropdowns!$B$8,IF(I81=Dropdowns!$C$9,Dropdowns!$B$9,IF(I81=Dropdowns!$C$10,Dropdowns!$B$10,IF(I81=Dropdowns!$C$11,Dropdowns!$B$11,IF(I81=Dropdowns!$C$12,Dropdowns!$B$12,IF(I81=Dropdowns!$C$13,Dropdowns!$B$13,IF(I81=Dropdowns!$C$14,Dropdowns!$B$14,IF(I81=Dropdowns!$C$15,Dropdowns!$B$15,IF(I81=Dropdowns!$C$16,Dropdowns!$B$16,IF(I81=Dropdowns!$C$17,Dropdowns!$B$17,IF(I81=Dropdowns!$C$18,Dropdowns!$B$18,IF(I81=Dropdowns!$C$19,Dropdowns!$B$19,IF(I81=Dropdowns!$C$20,Dropdowns!$B$20,IF(I81=Dropdowns!$C$21,Dropdowns!$B$21,IF(I81=Dropdowns!$C$22,Dropdowns!$B$22,IF(I81=Dropdowns!$C$23,Dropdowns!$B$23,IF(I81=Dropdowns!$C$24,Dropdowns!$B$24,IF(I81=Dropdowns!$C$25,Dropdowns!$B$25,IF(I81=Dropdowns!$C$26,Dropdowns!$B$26,IF(I81=Dropdowns!$C$27,Dropdowns!$B$27,IF(I81=Dropdowns!$C$28,Dropdowns!$B$28,IF(I81=Dropdowns!$C$29,Dropdowns!$B$29,IF(I81=Dropdowns!$C$30,Dropdowns!$B$30,IF(I81=Dropdowns!$C$31,Dropdowns!$B$31,IF(I81=Dropdowns!$C$32,Dropdowns!$B$32,IF(I81=Dropdowns!$C$33,Dropdowns!$B$33,IF(I81=Dropdowns!$C$34,Dropdowns!$B$34,IF(I81=Dropdowns!$C$35,Dropdowns!$B$35,IF(I81=Dropdowns!$C$36,Dropdowns!$B$36,IF(I81=Dropdowns!$C$37,Dropdowns!$B$37,IF(I81=Dropdowns!$C$38,Dropdowns!$B$38,IF(I81=Dropdowns!$C$39,Dropdowns!$B$39,IF(I81=Dropdowns!$C$40,Dropdowns!$B$40,IF(I81=Dropdowns!$C$41,Dropdowns!$B$41,IF(I81=Dropdowns!$C$42,Dropdowns!$B$42,IF(I81=Dropdowns!$C$43,Dropdowns!$B$43,IF(I81=Dropdowns!$C$44,Dropdowns!$B$44,IF(I81=Dropdowns!$C$45,Dropdowns!$B$45,IF(I81=Dropdowns!$C$46,Dropdowns!$B$46,IF(I81=Dropdowns!$C$47,Dropdowns!$B$47, IF(I81=Dropdowns!$C$48,Dropdowns!$B$48,\"0\"))))))))))))))))))))))))))))))))))))))))))","v":0},{"$f":"IF(AX81=Dropdowns!$F$15,Dropdowns!$G$15,IF(AX81=Dropdowns!$F$16,Dropdowns!$G$16,IF(AX81=Dropdowns!$F$17,Dropdowns!$G$17,\"0\")))","v":"0"}]
[null,null,null,null,null,null,null,null,null,null,"-",null,null,null,null,null,null,null,null,null,null,0,null,null,null,null,null,0,null,null,null,null,null,null,0,null,null,null,null,0,0,null,0,0,0,0,"-",null,null,null,null,null,null,null,null,null,null,null,null,null,null,null,0,0,0,0,0,0,0,0,0,0,1,{"$f":"IFERROR(IF(L82=Dropdowns!$F$32,\"\",IF(J82=\"Project\",AR82/BT82,IF(J82=\"Program\",AP82/BT82,\"\"))),\"\")","v":""},"",null,null,null,null,null,null,null,null,null,{"$f":"IF($CA82=\"\",0,VLOOKUP($CA82,'Conversion Tables'!$B$37:$C$62,2,FALSE))+IF($CB82=\"\",0,VLOOKUP($CB82,'Conversion Tables'!$B$37:$C$62,2,FALSE))+IF($CC82=\"\",0,VLOOKUP($CC82,'Conversion Tables'!$B$37:$C$62,2,FALSE))+IF($CD82=\"\",0,VLOOKUP($CD82,'Conversion Tables'!$B$37:$C$62,2,FALSE))+IF($CE82=\"\",0,VLOOKUP($CE82,'Conversion Tables'!$B$37:$C$62,2,FALSE))+IF($CF82=\"\",0,VLOOKUP($CF82,'Conversion Tables'!$B$37:$C$62,2,FALSE))","v":0},null,null,null,null,null,null,{"$f":"IFERROR(VLOOKUP(CM82,Dropdowns!A$51:B$55,2,FALSE),\"\")","v":""},null,null,null,null,null,null,null,null,null,null,{"$f":"IFERROR(VLOOKUP(AZ82,'Conversion Tables'!$G$8:$N$12,3,FALSE)/'Conversion Tables'!$I$12*Max_Point,0)","v":0},{"$f":"CY82*'Weighting Scale'!$D$9*DS82*DT82","v":0},{"$f":"IFERROR(VLOOKUP(BB82,'Conversion Tables'!$B$8:$C$32,2,FALSE),0)","v":0},{"$f":"IFERROR(VLOOKUP(BC82,'Conversion Tables'!$B$8:$C$32,2,FALSE),0)","v":0},{"$f":"(DA82-DB82)/'Conversion Tables'!$C$32*Max_Point","v":0},{"$f":"DC82*'Weighting Scale'!$D$10*DS82*DT82","v":0},{"$f":"IFERROR(VLOOKUP(BE82,'Conversion Tables'!$G$8:$N$12,2, FALSE)/'Conversion Tables'!$H$12*Max_Point,0)","v":0},{"$f":"DE82*'Weighting Scale'!$D$11*DS82*DT82","v":0},{"$f":"IFERROR(VLOOKUP(BF82,'Conversion Tables'!$G$8:$N$12,6,FALSE)/'Conversion Tables'!$L$12*Max_Point,0)","v":0},{"$f":"DG82*'Weighting Scale'!$D$14*DS82*DT82","v":0},{"$f":"IFERROR(VLOOKUP(BG82,'Conversion Tables'!$G$8:$N$12,4,FALSE)/'Conversion Tables'!$J$12*Max_Point,0)","v":0},{"$f":"DI82*'Weighting Scale'!$D$12*DS82*DT82","v":0},{"$f":"IFERROR(VLOOKUP(BH82,'Conversion Tables'!$G$8:$N$12,5,FALSE)/'Conversion Tables'!$K$12*Max_Point,0)","v":0},{"$f":"DK82*'Weighting Scale'!$D$13*DS82*DT82","v":0},{"$f":"IFERROR(VLOOKUP(BI82,'Conversion Tables'!$G$8:$N$12,7,FALSE)/'Conversion Tables'!$M$12*Max_Point,0)","v":0},{"$f":"DM82*'Weighting Scale'!$D$15*DS82*DT82","v":0},{"$f":"IF(BJ82 = \"Yes\",('Conversion Tables'!$N$12)/'Conversion Tables'!$N$12*Max_Point,0)","v":0},{"$f":"DO82*'Weighting Scale'!$D$16*DS82*DT82","v":0},0,0,0,{"$f":"IF(I82=Dropdowns!$C$7,Dropdowns!$B$7,IF(I82=Dropdowns!$C$8,Dropdowns!$B$8,IF(I82=Dropdowns!$C$9,Dropdowns!$B$9,IF(I82=Dropdowns!$C$10,Dropdowns!$B$10,IF(I82=Dropdowns!$C$11,Dropdowns!$B$11,IF(I82=Dropdowns!$C$12,Dropdowns!$B$12,IF(I82=Dropdowns!$C$13,Dropdowns!$B$13,IF(I82=Dropdowns!$C$14,Dropdowns!$B$14,IF(I82=Dropdowns!$C$15,Dropdowns!$B$15,IF(I82=Dropdowns!$C$16,Dropdowns!$B$16,IF(I82=Dropdowns!$C$17,Dropdowns!$B$17,IF(I82=Dropdowns!$C$18,Dropdowns!$B$18,IF(I82=Dropdowns!$C$19,Dropdowns!$B$19,IF(I82=Dropdowns!$C$20,Dropdowns!$B$20,IF(I82=Dropdowns!$C$21,Dropdowns!$B$21,IF(I82=Dropdowns!$C$22,Dropdowns!$B$22,IF(I82=Dropdowns!$C$23,Dropdowns!$B$23,IF(I82=Dropdowns!$C$24,Dropdowns!$B$24,IF(I82=Dropdowns!$C$25,Dropdowns!$B$25,IF(I82=Dropdowns!$C$26,Dropdowns!$B$26,IF(I82=Dropdowns!$C$27,Dropdowns!$B$27,IF(I82=Dropdowns!$C$28,Dropdowns!$B$28,IF(I82=Dropdowns!$C$29,Dropdowns!$B$29,IF(I82=Dropdowns!$C$30,Dropdowns!$B$30,IF(I82=Dropdowns!$C$31,Dropdowns!$B$31,IF(I82=Dropdowns!$C$32,Dropdowns!$B$32,IF(I82=Dropdowns!$C$33,Dropdowns!$B$33,IF(I82=Dropdowns!$C$34,Dropdowns!$B$34,IF(I82=Dropdowns!$C$35,Dropdowns!$B$35,IF(I82=Dropdowns!$C$36,Dropdowns!$B$36,IF(I82=Dropdowns!$C$37,Dropdowns!$B$37,IF(I82=Dropdowns!$C$38,Dropdowns!$B$38,IF(I82=Dropdowns!$C$39,Dropdowns!$B$39,IF(I82=Dropdowns!$C$40,Dropdowns!$B$40,IF(I82=Dropdowns!$C$41,Dropdowns!$B$41,IF(I82=Dropdowns!$C$42,Dropdowns!$B$42,IF(I82=Dropdowns!$C$43,Dropdowns!$B$43,IF(I82=Dropdowns!$C$44,Dropdowns!$B$44,IF(I82=Dropdowns!$C$45,Dropdowns!$B$45,IF(I82=Dropdowns!$C$46,Dropdowns!$B$46,IF(I82=Dropdowns!$C$47,Dropdowns!$B$47, IF(I82=Dropdowns!$C$48,Dropdowns!$B$48,\"0\"))))))))))))))))))))))))))))))))))))))))))","v":0},{"$f":"IF(AX82=Dropdowns!$F$15,Dropdowns!$G$15,IF(AX82=Dropdowns!$F$16,Dropdowns!$G$16,IF(AX82=Dropdowns!$F$17,Dropdowns!$G$17,\"0\")))","v":"0"}]
[null,null,null,null,null,null,null,null,null,null,"-",null,null,null,null,null,null,null,null,null,null,0,null,null,null,null,null,0,null,null,null,null,null,null,0,null,null,null,null,0,0,null,0,0,0,0,"-",null,null,null,null,null,null,null,null,null,null,null,null,null,null,null,0,0,0,0,0,0,0,0,0,0,1,{"$f":"IFERROR(IF(L83=Dropdowns!$F$32,\"\",IF(J83=\"Project\",AR83/BT83,IF(J83=\"Program\",AP83/BT83,\"\"))),\"\")","v":""},"",null,null,null,null,null,null,null,null,null,{"$f":"IF($CA83=\"\",0,VLOOKUP($CA83,'Conversion Tables'!$B$37:$C$62,2,FALSE))+IF($CB83=\"\",0,VLOOKUP($CB83,'Conversion Tables'!$B$37:$C$62,2,FALSE))+IF($CC83=\"\",0,VLOOKUP($CC83,'Conversion Tables'!$B$37:$C$62,2,FALSE))+IF($CD83=\"\",0,VLOOKUP($CD83,'Conversion Tables'!$B$37:$C$62,2,FALSE))+IF($CE83=\"\",0,VLOOKUP($CE83,'Conversion Tables'!$B$37:$C$62,2,FALSE))+IF($CF83=\"\",0,VLOOKUP($CF83,'Conversion Tables'!$B$37:$C$62,2,FALSE))","v":0},null,null,null,null,null,null,{"$f":"IFERROR(VLOOKUP(CM83,Dropdowns!A$51:B$55,2,FALSE),\"\")","v":""},null,null,null,null,null,null,null,null,null,null,{"$f":"IFERROR(VLOOKUP(AZ83,'Conversion Tables'!$G$8:$N$12,3,FALSE)/'Conversion Tables'!$I$12*Max_Point,0)","v":0},{"$f":"CY83*'Weighting Scale'!$D$9*DS83*DT83","v":0},{"$f":"IFERROR(VLOOKUP(BB83,'Conversion Tables'!$B$8:$C$32,2,FALSE),0)","v":0},{"$f":"IFERROR(VLOOKUP(BC83,'Conversion Tables'!$B$8:$C$32,2,FALSE),0)","v":0},{"$f":"(DA83-DB83)/'Conversion Tables'!$C$32*Max_Point","v":0},{"$f":"DC83*'Weighting Scale'!$D$10*DS83*DT83","v":0},{"$f":"IFERROR(VLOOKUP(BE83,'Conversion Tables'!$G$8:$N$12,2, FALSE)/'Conversion Tables'!$H$12*Max_Point,0)","v":0},{"$f":"DE83*'Weighting Scale'!$D$11*DS83*DT83","v":0},{"$f":"IFERROR(VLOOKUP(BF83,'Conversion Tables'!$G$8:$N$12,6,FALSE)/'Conversion Tables'!$L$12*Max_Point,0)","v":0},{"$f":"DG83*'Weighting Scale'!$D$14*DS83*DT83","v":0},{"$f":"IFERROR(VLOOKUP(BG83,'Conversion Tables'!$G$8:$N$12,4,FALSE)/'Conversion Tables'!$J$12*Max_Point,0)","v":0},{"$f":"DI83*'Weighting Scale'!$D$12*DS83*DT83","v":0},{"$f":"IFERROR(VLOOKUP(BH83,'Conversion Tables'!$G$8:$N$12,5,FALSE)/'Conversion Tables'!$K$12*Max_Point,0)","v":0},{"$f":"DK83*'Weighting Scale'!$D$13*DS83*DT83","v":0},{"$f":"IFERROR(VLOOKUP(BI83,'Conversion Tables'!$G$8:$N$12,7,FALSE)/'Conversion Tables'!$M$12*Max_Point,0)","v":0},{"$f":"DM83*'Weighting Scale'!$D$15*DS83*DT83","v":0},{"$f":"IF(BJ83 = \"Yes\",('Conversion Tables'!$N$12)/'Conversion Tables'!$N$12*Max_Point,0)","v":0},{"$f":"DO83*'Weighting Scale'!$D$16*DS83*DT83","v":0},0,0,0,{"$f":"IF(I83=Dropdowns!$C$7,Dropdowns!$B$7,IF(I83=Dropdowns!$C$8,Dropdowns!$B$8,IF(I83=Dropdowns!$C$9,Dropdowns!$B$9,IF(I83=Dropdowns!$C$10,Dropdowns!$B$10,IF(I83=Dropdowns!$C$11,Dropdowns!$B$11,IF(I83=Dropdowns!$C$12,Dropdowns!$B$12,IF(I83=Dropdowns!$C$13,Dropdowns!$B$13,IF(I83=Dropdowns!$C$14,Dropdowns!$B$14,IF(I83=Dropdowns!$C$15,Dropdowns!$B$15,IF(I83=Dropdowns!$C$16,Dropdowns!$B$16,IF(I83=Dropdowns!$C$17,Dropdowns!$B$17,IF(I83=Dropdowns!$C$18,Dropdowns!$B$18,IF(I83=Dropdowns!$C$19,Dropdowns!$B$19,IF(I83=Dropdowns!$C$20,Dropdowns!$B$20,IF(I83=Dropdowns!$C$21,Dropdowns!$B$21,IF(I83=Dropdowns!$C$22,Dropdowns!$B$22,IF(I83=Dropdowns!$C$23,Dropdowns!$B$23,IF(I83=Dropdowns!$C$24,Dropdowns!$B$24,IF(I83=Dropdowns!$C$25,Dropdowns!$B$25,IF(I83=Dropdowns!$C$26,Dropdowns!$B$26,IF(I83=Dropdowns!$C$27,Dropdowns!$B$27,IF(I83=Dropdowns!$C$28,Dropdowns!$B$28,IF(I83=Dropdowns!$C$29,Dropdowns!$B$29,IF(I83=Dropdowns!$C$30,Dropdowns!$B$30,IF(I83=Dropdowns!$C$31,Dropdowns!$B$31,IF(I83=Dropdowns!$C$32,Dropdowns!$B$32,IF(I83=Dropdowns!$C$33,Dropdowns!$B$33,IF(I83=Dropdowns!$C$34,Dropdowns!$B$34,IF(I83=Dropdowns!$C$35,Dropdowns!$B$35,IF(I83=Dropdowns!$C$36,Dropdowns!$B$36,IF(I83=Dropdowns!$C$37,Dropdowns!$B$37,IF(I83=Dropdowns!$C$38,Dropdowns!$B$38,IF(I83=Dropdowns!$C$39,Dropdowns!$B$39,IF(I83=Dropdowns!$C$40,Dropdowns!$B$40,IF(I83=Dropdowns!$C$41,Dropdowns!$B$41,IF(I83=Dropdowns!$C$42,Dropdowns!$B$42,IF(I83=Dropdowns!$C$43,Dropdowns!$B$43,IF(I83=Dropdowns!$C$44,Dropdowns!$B$44,IF(I83=Dropdowns!$C$45,Dropdowns!$B$45,IF(I83=Dropdowns!$C$46,Dropdowns!$B$46,IF(I83=Dropdowns!$C$47,Dropdowns!$B$47, IF(I83=Dropdowns!$C$48,Dropdowns!$B$48,\"0\"))))))))))))))))))))))))))))))))))))))))))","v":0},{"$f":"IF(AX83=Dropdowns!$F$15,Dropdowns!$G$15,IF(AX83=Dropdowns!$F$16,Dropdowns!$G$16,IF(AX83=Dropdowns!$F$17,Dropdowns!$G$17,\"0\")))","v":"0"}]
[null,null,null,null,null,null,null,null,null,null,"-",null,null,null,null,null,null,null,null,null,null,0,null,null,null,null,null,0,null,null,null,null,null,null,0,null,null,null,null,0,0,null,0,0,0,0,"-",null,null,null,null,null,null,null,null,null,null,null,null,null,null,null,0,0,0,0,0,0,0,0,0,0,1,{"$f":"IFERROR(IF(L84=Dropdowns!$F$32,\"\",IF(J84=\"Project\",AR84/BT84,IF(J84=\"Program\",AP84/BT84,\"\"))),\"\")","v":""},"",null,null,null,null,null,null,null,null,null,{"$f":"IF($CA84=\"\",0,VLOOKUP($CA84,'Conversion Tables'!$B$37:$C$62,2,FALSE))+IF($CB84=\"\",0,VLOOKUP($CB84,'Conversion Tables'!$B$37:$C$62,2,FALSE))+IF($CC84=\"\",0,VLOOKUP($CC84,'Conversion Tables'!$B$37:$C$62,2,FALSE))+IF($CD84=\"\",0,VLOOKUP($CD84,'Conversion Tables'!$B$37:$C$62,2,FALSE))+IF($CE84=\"\",0,VLOOKUP($CE84,'Conversion Tables'!$B$37:$C$62,2,FALSE))+IF($CF84=\"\",0,VLOOKUP($CF84,'Conversion Tables'!$B$37:$C$62,2,FALSE))","v":0},null,null,null,null,null,null,{"$f":"IFERROR(VLOOKUP(CM84,Dropdowns!A$51:B$55,2,FALSE),\"\")","v":""},null,null,null,null,null,null,null,null,null,null,{"$f":"IFERROR(VLOOKUP(AZ84,'Conversion Tables'!$G$8:$N$12,3,FALSE)/'Conversion Tables'!$I$12*Max_Point,0)","v":0},{"$f":"CY84*'Weighting Scale'!$D$9*DS84*DT84","v":0},{"$f":"IFERROR(VLOOKUP(BB84,'Conversion Tables'!$B$8:$C$32,2,FALSE),0)","v":0},{"$f":"IFERROR(VLOOKUP(BC84,'Conversion Tables'!$B$8:$C$32,2,FALSE),0)","v":0},{"$f":"(DA84-DB84)/'Conversion Tables'!$C$32*Max_Point","v":0},{"$f":"DC84*'Weighting Scale'!$D$10*DS84*DT84","v":0},{"$f":"IFERROR(VLOOKUP(BE84,'Conversion Tables'!$G$8:$N$12,2, FALSE)/'Conversion Tables'!$H$12*Max_Point,0)","v":0},{"$f":"DE84*'Weighting Scale'!$D$11*DS84*DT84","v":0},{"$f":"IFERROR(VLOOKUP(BF84,'Conversion Tables'!$G$8:$N$12,6,FALSE)/'Conversion Tables'!$L$12*Max_Point,0)","v":0},{"$f":"DG84*'Weighting Scale'!$D$14*DS84*DT84","v":0},{"$f":"IFERROR(VLOOKUP(BG84,'Conversion Tables'!$G$8:$N$12,4,FALSE)/'Conversion Tables'!$J$12*Max_Point,0)","v":0},{"$f":"DI84*'Weighting Scale'!$D$12*DS84*DT84","v":0},{"$f":"IFERROR(VLOOKUP(BH84,'Conversion Tables'!$G$8:$N$12,5,FALSE)/'Conversion Tables'!$K$12*Max_Point,0)","v":0},{"$f":"DK84*'Weighting Scale'!$D$13*DS84*DT84","v":0},{"$f":"IFERROR(VLOOKUP(BI84,'Conversion Tables'!$G$8:$N$12,7,FALSE)/'Conversion Tables'!$M$12*Max_Point,0)","v":0},{"$f":"DM84*'Weighting Scale'!$D$15*DS84*DT84","v":0},{"$f":"IF(BJ84 = \"Yes\",('Conversion Tables'!$N$12)/'Conversion Tables'!$N$12*Max_Point,0)","v":0},{"$f":"DO84*'Weighting Scale'!$D$16*DS84*DT84","v":0},0,0,0,{"$f":"IF(I84=Dropdowns!$C$7,Dropdowns!$B$7,IF(I84=Dropdowns!$C$8,Dropdowns!$B$8,IF(I84=Dropdowns!$C$9,Dropdowns!$B$9,IF(I84=Dropdowns!$C$10,Dropdowns!$B$10,IF(I84=Dropdowns!$C$11,Dropdowns!$B$11,IF(I84=Dropdowns!$C$12,Dropdowns!$B$12,IF(I84=Dropdowns!$C$13,Dropdowns!$B$13,IF(I84=Dropdowns!$C$14,Dropdowns!$B$14,IF(I84=Dropdowns!$C$15,Dropdowns!$B$15,IF(I84=Dropdowns!$C$16,Dropdowns!$B$16,IF(I84=Dropdowns!$C$17,Dropdowns!$B$17,IF(I84=Dropdowns!$C$18,Dropdowns!$B$18,IF(I84=Dropdowns!$C$19,Dropdowns!$B$19,IF(I84=Dropdowns!$C$20,Dropdowns!$B$20,IF(I84=Dropdowns!$C$21,Dropdowns!$B$21,IF(I84=Dropdowns!$C$22,Dropdowns!$B$22,IF(I84=Dropdowns!$C$23,Dropdowns!$B$23,IF(I84=Dropdowns!$C$24,Dropdowns!$B$24,IF(I84=Dropdowns!$C$25,Dropdowns!$B$25,IF(I84=Dropdowns!$C$26,Dropdowns!$B$26,IF(I84=Dropdowns!$C$27,Dropdowns!$B$27,IF(I84=Dropdowns!$C$28,Dropdowns!$B$28,IF(I84=Dropdowns!$C$29,Dropdowns!$B$29,IF(I84=Dropdowns!$C$30,Dropdowns!$B$30,IF(I84=Dropdowns!$C$31,Dropdowns!$B$31,IF(I84=Dropdowns!$C$32,Dropdowns!$B$32,IF(I84=Dropdowns!$C$33,Dropdowns!$B$33,IF(I84=Dropdowns!$C$34,Dropdowns!$B$34,IF(I84=Dropdowns!$C$35,Dropdowns!$B$35,IF(I84=Dropdowns!$C$36,Dropdowns!$B$36,IF(I84=Dropdowns!$C$37,Dropdowns!$B$37,IF(I84=Dropdowns!$C$38,Dropdowns!$B$38,IF(I84=Dropdowns!$C$39,Dropdowns!$B$39,IF(I84=Dropdowns!$C$40,Dropdowns!$B$40,IF(I84=Dropdowns!$C$41,Dropdowns!$B$41,IF(I84=Dropdowns!$C$42,Dropdowns!$B$42,IF(I84=Dropdowns!$C$43,Dropdowns!$B$43,IF(I84=Dropdowns!$C$44,Dropdowns!$B$44,IF(I84=Dropdowns!$C$45,Dropdowns!$B$45,IF(I84=Dropdowns!$C$46,Dropdowns!$B$46,IF(I84=Dropdowns!$C$47,Dropdowns!$B$47, IF(I84=Dropdowns!$C$48,Dropdowns!$B$48,\"0\"))))))))))))))))))))))))))))))))))))))))))","v":0},{"$f":"IF(AX84=Dropdowns!$F$15,Dropdowns!$G$15,IF(AX84=Dropdowns!$F$16,Dropdowns!$G$16,IF(AX84=Dropdowns!$F$17,Dropdowns!$G$17,\"0\")))","v":"0"}]
[null,null,null,null,null,null,null,null,null,null,"-",null,null,null,null,null,null,null,null,null,null,0,null,null,null,null,null,0,null,null,null,null,null,null,0,null,null,null,null,0,0,null,0,0,0,0,"-",null,null,null,null,null,null,null,null,null,null,null,null,null,null,null,0,0,0,0,0,0,0,0,0,0,1,{"$f":"IFERROR(IF(L85=Dropdowns!$F$32,\"\",IF(J85=\"Project\",AR85/BT85,IF(J85=\"Program\",AP85/BT85,\"\"))),\"\")","v":""},"",null,null,null,null,null,null,null,null,null,{"$f":"IF($CA85=\"\",0,VLOOKUP($CA85,'Conversion Tables'!$B$37:$C$62,2,FALSE))+IF($CB85=\"\",0,VLOOKUP($CB85,'Conversion Tables'!$B$37:$C$62,2,FALSE))+IF($CC85=\"\",0,VLOOKUP($CC85,'Conversion Tables'!$B$37:$C$62,2,FALSE))+IF($CD85=\"\",0,VLOOKUP($CD85,'Conversion Tables'!$B$37:$C$62,2,FALSE))+IF($CE85=\"\",0,VLOOKUP($CE85,'Conversion Tables'!$B$37:$C$62,2,FALSE))+IF($CF85=\"\",0,VLOOKUP($CF85,'Conversion Tables'!$B$37:$C$62,2,FALSE))","v":0},null,null,null,null,null,null,{"$f":"IFERROR(VLOOKUP(CM85,Dropdowns!A$51:B$55,2,FALSE),\"\")","v":""},null,null,null,null,null,null,null,null,null,null,{"$f":"IFERROR(VLOOKUP(AZ85,'Conversion Tables'!$G$8:$N$12,3,FALSE)/'Conversion Tables'!$I$12*Max_Point,0)","v":0},{"$f":"CY85*'Weighting Scale'!$D$9*DS85*DT85","v":0},{"$f":"IFERROR(VLOOKUP(BB85,'Conversion Tables'!$B$8:$C$32,2,FALSE),0)","v":0},{"$f":"IFERROR(VLOOKUP(BC85,'Conversion Tables'!$B$8:$C$32,2,FALSE),0)","v":0},{"$f":"(DA85-DB85)/'Conversion Tables'!$C$32*Max_Point","v":0},{"$f":"DC85*'Weighting Scale'!$D$10*DS85*DT85","v":0},{"$f":"IFERROR(VLOOKUP(BE85,'Conversion Tables'!$G$8:$N$12,2, FALSE)/'Conversion Tables'!$H$12*Max_Point,0)","v":0},{"$f":"DE85*'Weighting Scale'!$D$11*DS85*DT85","v":0},{"$f":"IFERROR(VLOOKUP(BF85,'Conversion Tables'!$G$8:$N$12,6,FALSE)/'Conversion Tables'!$L$12*Max_Point,0)","v":0},{"$f":"DG85*'Weighting Scale'!$D$14*DS85*DT85","v":0},{"$f":"IFERROR(VLOOKUP(BG85,'Conversion Tables'!$G$8:$N$12,4,FALSE)/'Conversion Tables'!$J$12*Max_Point,0)","v":0},{"$f":"DI85*'Weighting Scale'!$D$12*DS85*DT85","v":0},{"$f":"IFERROR(VLOOKUP(BH85,'Conversion Tables'!$G$8:$N$12,5,FALSE)/'Conversion Tables'!$K$12*Max_Point,0)","v":0},{"$f":"DK85*'Weighting Scale'!$D$13*DS85*DT85","v":0},{"$f":"IFERROR(VLOOKUP(BI85,'Conversion Tables'!$G$8:$N$12,7,FALSE)/'Conversion Tables'!$M$12*Max_Point,0)","v":0},{"$f":"DM85*'Weighting Scale'!$D$15*DS85*DT85","v":0},{"$f":"IF(BJ85 = \"Yes\",('Conversion Tables'!$N$12)/'Conversion Tables'!$N$12*Max_Point,0)","v":0},{"$f":"DO85*'Weighting Scale'!$D$16*DS85*DT85","v":0},0,0,0,{"$f":"IF(I85=Dropdowns!$C$7,Dropdowns!$B$7,IF(I85=Dropdowns!$C$8,Dropdowns!$B$8,IF(I85=Dropdowns!$C$9,Dropdowns!$B$9,IF(I85=Dropdowns!$C$10,Dropdowns!$B$10,IF(I85=Dropdowns!$C$11,Dropdowns!$B$11,IF(I85=Dropdowns!$C$12,Dropdowns!$B$12,IF(I85=Dropdowns!$C$13,Dropdowns!$B$13,IF(I85=Dropdowns!$C$14,Dropdowns!$B$14,IF(I85=Dropdowns!$C$15,Dropdowns!$B$15,IF(I85=Dropdowns!$C$16,Dropdowns!$B$16,IF(I85=Dropdowns!$C$17,Dropdowns!$B$17,IF(I85=Dropdowns!$C$18,Dropdowns!$B$18,IF(I85=Dropdowns!$C$19,Dropdowns!$B$19,IF(I85=Dropdowns!$C$20,Dropdowns!$B$20,IF(I85=Dropdowns!$C$21,Dropdowns!$B$21,IF(I85=Dropdowns!$C$22,Dropdowns!$B$22,IF(I85=Dropdowns!$C$23,Dropdowns!$B$23,IF(I85=Dropdowns!$C$24,Dropdowns!$B$24,IF(I85=Dropdowns!$C$25,Dropdowns!$B$25,IF(I85=Dropdowns!$C$26,Dropdowns!$B$26,IF(I85=Dropdowns!$C$27,Dropdowns!$B$27,IF(I85=Dropdowns!$C$28,Dropdowns!$B$28,IF(I85=Dropdowns!$C$29,Dropdowns!$B$29,IF(I85=Dropdowns!$C$30,Dropdowns!$B$30,IF(I85=Dropdowns!$C$31,Dropdowns!$B$31,IF(I85=Dropdowns!$C$32,Dropdowns!$B$32,IF(I85=Dropdowns!$C$33,Dropdowns!$B$33,IF(I85=Dropdowns!$C$34,Dropdowns!$B$34,IF(I85=Dropdowns!$C$35,Dropdowns!$B$35,IF(I85=Dropdowns!$C$36,Dropdowns!$B$36,IF(I85=Dropdowns!$C$37,Dropdowns!$B$37,IF(I85=Dropdowns!$C$38,Dropdowns!$B$38,IF(I85=Dropdowns!$C$39,Dropdowns!$B$39,IF(I85=Dropdowns!$C$40,Dropdowns!$B$40,IF(I85=Dropdowns!$C$41,Dropdowns!$B$41,IF(I85=Dropdowns!$C$42,Dropdowns!$B$42,IF(I85=Dropdowns!$C$43,Dropdowns!$B$43,IF(I85=Dropdowns!$C$44,Dropdowns!$B$44,IF(I85=Dropdowns!$C$45,Dropdowns!$B$45,IF(I85=Dropdowns!$C$46,Dropdowns!$B$46,IF(I85=Dropdowns!$C$47,Dropdowns!$B$47, IF(I85=Dropdowns!$C$48,Dropdowns!$B$48,\"0\"))))))))))))))))))))))))))))))))))))))))))","v":0},{"$f":"IF(AX85=Dropdowns!$F$15,Dropdowns!$G$15,IF(AX85=Dropdowns!$F$16,Dropdowns!$G$16,IF(AX85=Dropdowns!$F$17,Dropdowns!$G$17,\"0\")))","v":"0"}]
[null,null,null,null,null,null,null,null,null,null,"-",null,null,null,null,null,null,null,null,null,null,0,null,null,null,null,null,0,null,null,null,null,null,null,0,null,null,null,null,0,0,null,0,0,0,0,"-",null,null,null,null,null,null,null,null,null,null,null,null,null,null,null,0,0,0,0,0,0,0,0,0,0,1,{"$f":"IFERROR(IF(L86=Dropdowns!$F$32,\"\",IF(J86=\"Project\",AR86/BT86,IF(J86=\"Program\",AP86/BT86,\"\"))),\"\")","v":""},"",null,null,null,null,null,null,null,null,null,{"$f":"IF($CA86=\"\",0,VLOOKUP($CA86,'Conversion Tables'!$B$37:$C$62,2,FALSE))+IF($CB86=\"\",0,VLOOKUP($CB86,'Conversion Tables'!$B$37:$C$62,2,FALSE))+IF($CC86=\"\",0,VLOOKUP($CC86,'Conversion Tables'!$B$37:$C$62,2,FALSE))+IF($CD86=\"\",0,VLOOKUP($CD86,'Conversion Tables'!$B$37:$C$62,2,FALSE))+IF($CE86=\"\",0,VLOOKUP($CE86,'Conversion Tables'!$B$37:$C$62,2,FALSE))+IF($CF86=\"\",0,VLOOKUP($CF86,'Conversion Tables'!$B$37:$C$62,2,FALSE))","v":0},null,null,null,null,null,null,{"$f":"IFERROR(VLOOKUP(CM86,Dropdowns!A$51:B$55,2,FALSE),\"\")","v":""},null,null,null,null,null,null,null,null,null,null,{"$f":"IFERROR(VLOOKUP(AZ86,'Conversion Tables'!$G$8:$N$12,3,FALSE)/'Conversion Tables'!$I$12*Max_Point,0)","v":0},{"$f":"CY86*'Weighting Scale'!$D$9*DS86*DT86","v":0},{"$f":"IFERROR(VLOOKUP(BB86,'Conversion Tables'!$B$8:$C$32,2,FALSE),0)","v":0},{"$f":"IFERROR(VLOOKUP(BC86,'Conversion Tables'!$B$8:$C$32,2,FALSE),0)","v":0},{"$f":"(DA86-DB86)/'Conversion Tables'!$C$32*Max_Point","v":0},{"$f":"DC86*'Weighting Scale'!$D$10*DS86*DT86","v":0},{"$f":"IFERROR(VLOOKUP(BE86,'Conversion Tables'!$G$8:$N$12,2, FALSE)/'Conversion Tables'!$H$12*Max_Point,0)","v":0},{"$f":"DE86*'Weighting Scale'!$D$11*DS86*DT86","v":0},{"$f":"IFERROR(VLOOKUP(BF86,'Conversion Tables'!$G$8:$N$12,6,FALSE)/'Conversion Tables'!$L$12*Max_Point,0)","v":0},{"$f":"DG86*'Weighting Scale'!$D$14*DS86*DT86","v":0},{"$f":"IFERROR(VLOOKUP(BG86,'Conversion Tables'!$G$8:$N$12,4,FALSE)/'Conversion Tables'!$J$12*Max_Point,0)","v":0},{"$f":"DI86*'Weighting Scale'!$D$12*DS86*DT86","v":0},{"$f":"IFERROR(VLOOKUP(BH86,'Conversion Tables'!$G$8:$N$12,5,FALSE)/'Conversion Tables'!$K$12*Max_Point,0)","v":0},{"$f":"DK86*'Weighting Scale'!$D$13*DS86*DT86","v":0},{"$f":"IFERROR(VLOOKUP(BI86,'Conversion Tables'!$G$8:$N$12,7,FALSE)/'Conversion Tables'!$M$12*Max_Point,0)","v":0},{"$f":"DM86*'Weighting Scale'!$D$15*DS86*DT86","v":0},{"$f":"IF(BJ86 = \"Yes\",('Conversion Tables'!$N$12)/'Conversion Tables'!$N$12*Max_Point,0)","v":0},{"$f":"DO86*'Weighting Scale'!$D$16*DS86*DT86","v":0},0,0,0,{"$f":"IF(I86=Dropdowns!$C$7,Dropdowns!$B$7,IF(I86=Dropdowns!$C$8,Dropdowns!$B$8,IF(I86=Dropdowns!$C$9,Dropdowns!$B$9,IF(I86=Dropdowns!$C$10,Dropdowns!$B$10,IF(I86=Dropdowns!$C$11,Dropdowns!$B$11,IF(I86=Dropdowns!$C$12,Dropdowns!$B$12,IF(I86=Dropdowns!$C$13,Dropdowns!$B$13,IF(I86=Dropdowns!$C$14,Dropdowns!$B$14,IF(I86=Dropdowns!$C$15,Dropdowns!$B$15,IF(I86=Dropdowns!$C$16,Dropdowns!$B$16,IF(I86=Dropdowns!$C$17,Dropdowns!$B$17,IF(I86=Dropdowns!$C$18,Dropdowns!$B$18,IF(I86=Dropdowns!$C$19,Dropdowns!$B$19,IF(I86=Dropdowns!$C$20,Dropdowns!$B$20,IF(I86=Dropdowns!$C$21,Dropdowns!$B$21,IF(I86=Dropdowns!$C$22,Dropdowns!$B$22,IF(I86=Dropdowns!$C$23,Dropdowns!$B$23,IF(I86=Dropdowns!$C$24,Dropdowns!$B$24,IF(I86=Dropdowns!$C$25,Dropdowns!$B$25,IF(I86=Dropdowns!$C$26,Dropdowns!$B$26,IF(I86=Dropdowns!$C$27,Dropdowns!$B$27,IF(I86=Dropdowns!$C$28,Dropdowns!$B$28,IF(I86=Dropdowns!$C$29,Dropdowns!$B$29,IF(I86=Dropdowns!$C$30,Dropdowns!$B$30,IF(I86=Dropdowns!$C$31,Dropdowns!$B$31,IF(I86=Dropdowns!$C$32,Dropdowns!$B$32,IF(I86=Dropdowns!$C$33,Dropdowns!$B$33,IF(I86=Dropdowns!$C$34,Dropdowns!$B$34,IF(I86=Dropdowns!$C$35,Dropdowns!$B$35,IF(I86=Dropdowns!$C$36,Dropdowns!$B$36,IF(I86=Dropdowns!$C$37,Dropdowns!$B$37,IF(I86=Dropdowns!$C$38,Dropdowns!$B$38,IF(I86=Dropdowns!$C$39,Dropdowns!$B$39,IF(I86=Dropdowns!$C$40,Dropdowns!$B$40,IF(I86=Dropdowns!$C$41,Dropdowns!$B$41,IF(I86=Dropdowns!$C$42,Dropdowns!$B$42,IF(I86=Dropdowns!$C$43,Dropdowns!$B$43,IF(I86=Dropdowns!$C$44,Dropdowns!$B$44,IF(I86=Dropdowns!$C$45,Dropdowns!$B$45,IF(I86=Dropdowns!$C$46,Dropdowns!$B$46,IF(I86=Dropdowns!$C$47,Dropdowns!$B$47, IF(I86=Dropdowns!$C$48,Dropdowns!$B$48,\"0\"))))))))))))))))))))))))))))))))))))))))))","v":0},{"$f":"IF(AX86=Dropdowns!$F$15,Dropdowns!$G$15,IF(AX86=Dropdowns!$F$16,Dropdowns!$G$16,IF(AX86=Dropdowns!$F$17,Dropdowns!$G$17,\"0\")))","v":"0"}]
[null,null,null,null,null,null,null,null,null,null,"-",null,null,null,null,null,null,null,null,null,null,0,null,null,null,null,null,0,null,null,null,null,null,null,0,null,null,null,null,0,0,null,0,0,0,0,"-",null,null,null,null,null,null,null,null,null,null,null,null,null,null,null,0,0,0,0,0,0,0,0,0,0,1,{"$f":"IFERROR(IF(L87=Dropdowns!$F$32,\"\",IF(J87=\"Project\",AR87/BT87,IF(J87=\"Program\",AP87/BT87,\"\"))),\"\")","v":""},"",null,null,null,null,null,null,null,null,null,{"$f":"IF($CA87=\"\",0,VLOOKUP($CA87,'Conversion Tables'!$B$37:$C$62,2,FALSE))+IF($CB87=\"\",0,VLOOKUP($CB87,'Conversion Tables'!$B$37:$C$62,2,FALSE))+IF($CC87=\"\",0,VLOOKUP($CC87,'Conversion Tables'!$B$37:$C$62,2,FALSE))+IF($CD87=\"\",0,VLOOKUP($CD87,'Conversion Tables'!$B$37:$C$62,2,FALSE))+IF($CE87=\"\",0,VLOOKUP($CE87,'Conversion Tables'!$B$37:$C$62,2,FALSE))+IF($CF87=\"\",0,VLOOKUP($CF87,'Conversion Tables'!$B$37:$C$62,2,FALSE))","v":0},null,null,null,null,null,null,{"$f":"IFERROR(VLOOKUP(CM87,Dropdowns!A$51:B$55,2,FALSE),\"\")","v":""},null,null,null,null,null,null,null,null,null,null,{"$f":"IFERROR(VLOOKUP(AZ87,'Conversion Tables'!$G$8:$N$12,3,FALSE)/'Conversion Tables'!$I$12*Max_Point,0)","v":0},{"$f":"CY87*'Weighting Scale'!$D$9*DS87*DT87","v":0},{"$f":"IFERROR(VLOOKUP(BB87,'Conversion Tables'!$B$8:$C$32,2,FALSE),0)","v":0},{"$f":"IFERROR(VLOOKUP(BC87,'Conversion Tables'!$B$8:$C$32,2,FALSE),0)","v":0},{"$f":"(DA87-DB87)/'Conversion Tables'!$C$32*Max_Point","v":0},{"$f":"DC87*'Weighting Scale'!$D$10*DS87*DT87","v":0},{"$f":"IFERROR(VLOOKUP(BE87,'Conversion Tables'!$G$8:$N$12,2, FALSE)/'Conversion Tables'!$H$12*Max_Point,0)","v":0},{"$f":"DE87*'Weighting Scale'!$D$11*DS87*DT87","v":0},{"$f":"IFERROR(VLOOKUP(BF87,'Conversion Tables'!$G$8:$N$12,6,FALSE)/'Conversion Tables'!$L$12*Max_Point,0)","v":0},{"$f":"DG87*'Weighting Scale'!$D$14*DS87*DT87","v":0},{"$f":"IFERROR(VLOOKUP(BG87,'Conversion Tables'!$G$8:$N$12,4,FALSE)/'Conversion Tables'!$J$12*Max_Point,0)","v":0},{"$f":"DI87*'Weighting Scale'!$D$12*DS87*DT87","v":0},{"$f":"IFERROR(VLOOKUP(BH87,'Conversion Tables'!$G$8:$N$12,5,FALSE)/'Conversion Tables'!$K$12*Max_Point,0)","v":0},{"$f":"DK87*'Weighting Scale'!$D$13*DS87*DT87","v":0},{"$f":"IFERROR(VLOOKUP(BI87,'Conversion Tables'!$G$8:$N$12,7,FALSE)/'Conversion Tables'!$M$12*Max_Point,0)","v":0},{"$f":"DM87*'Weighting Scale'!$D$15*DS87*DT87","v":0},{"$f":"IF(BJ87 = \"Yes\",('Conversion Tables'!$N$12)/'Conversion Tables'!$N$12*Max_Point,0)","v":0},{"$f":"DO87*'Weighting Scale'!$D$16*DS87*DT87","v":0},0,0,0,{"$f":"IF(I87=Dropdowns!$C$7,Dropdowns!$B$7,IF(I87=Dropdowns!$C$8,Dropdowns!$B$8,IF(I87=Dropdowns!$C$9,Dropdowns!$B$9,IF(I87=Dropdowns!$C$10,Dropdowns!$B$10,IF(I87=Dropdowns!$C$11,Dropdowns!$B$11,IF(I87=Dropdowns!$C$12,Dropdowns!$B$12,IF(I87=Dropdowns!$C$13,Dropdowns!$B$13,IF(I87=Dropdowns!$C$14,Dropdowns!$B$14,IF(I87=Dropdowns!$C$15,Dropdowns!$B$15,IF(I87=Dropdowns!$C$16,Dropdowns!$B$16,IF(I87=Dropdowns!$C$17,Dropdowns!$B$17,IF(I87=Dropdowns!$C$18,Dropdowns!$B$18,IF(I87=Dropdowns!$C$19,Dropdowns!$B$19,IF(I87=Dropdowns!$C$20,Dropdowns!$B$20,IF(I87=Dropdowns!$C$21,Dropdowns!$B$21,IF(I87=Dropdowns!$C$22,Dropdowns!$B$22,IF(I87=Dropdowns!$C$23,Dropdowns!$B$23,IF(I87=Dropdowns!$C$24,Dropdowns!$B$24,IF(I87=Dropdowns!$C$25,Dropdowns!$B$25,IF(I87=Dropdowns!$C$26,Dropdowns!$B$26,IF(I87=Dropdowns!$C$27,Dropdowns!$B$27,IF(I87=Dropdowns!$C$28,Dropdowns!$B$28,IF(I87=Dropdowns!$C$29,Dropdowns!$B$29,IF(I87=Dropdowns!$C$30,Dropdowns!$B$30,IF(I87=Dropdowns!$C$31,Dropdowns!$B$31,IF(I87=Dropdowns!$C$32,Dropdowns!$B$32,IF(I87=Dropdowns!$C$33,Dropdowns!$B$33,IF(I87=Dropdowns!$C$34,Dropdowns!$B$34,IF(I87=Dropdowns!$C$35,Dropdowns!$B$35,IF(I87=Dropdowns!$C$36,Dropdowns!$B$36,IF(I87=Dropdowns!$C$37,Dropdowns!$B$37,IF(I87=Dropdowns!$C$38,Dropdowns!$B$38,IF(I87=Dropdowns!$C$39,Dropdowns!$B$39,IF(I87=Dropdowns!$C$40,Dropdowns!$B$40,IF(I87=Dropdowns!$C$41,Dropdowns!$B$41,IF(I87=Dropdowns!$C$42,Dropdowns!$B$42,IF(I87=Dropdowns!$C$43,Dropdowns!$B$43,IF(I87=Dropdowns!$C$44,Dropdowns!$B$44,IF(I87=Dropdowns!$C$45,Dropdowns!$B$45,IF(I87=Dropdowns!$C$46,Dropdowns!$B$46,IF(I87=Dropdowns!$C$47,Dropdowns!$B$47, IF(I87=Dropdowns!$C$48,Dropdowns!$B$48,\"0\"))))))))))))))))))))))))))))))))))))))))))","v":0},{"$f":"IF(AX87=Dropdowns!$F$15,Dropdowns!$G$15,IF(AX87=Dropdowns!$F$16,Dropdowns!$G$16,IF(AX87=Dropdowns!$F$17,Dropdowns!$G$17,\"0\")))","v":"0"}]
[null,null,null,null,null,null,null,null,null,null,"-",null,null,null,null,null,null,null,null,null,null,0,null,null,null,null,null,0,null,null,null,null,null,null,0,null,null,null,null,0,0,null,0,0,0,0,"-",null,null,null,null,null,null,null,null,null,null,null,null,null,null,null,0,0,0,0,0,0,0,0,0,0,1,{"$f":"IFERROR(IF(L88=Dropdowns!$F$32,\"\",IF(J88=\"Project\",AR88/BT88,IF(J88=\"Program\",AP88/BT88,\"\"))),\"\")","v":""},"",null,null,null,null,null,null,null,null,null,{"$f":"IF($CA88=\"\",0,VLOOKUP($CA88,'Conversion Tables'!$B$37:$C$62,2,FALSE))+IF($CB88=\"\",0,VLOOKUP($CB88,'Conversion Tables'!$B$37:$C$62,2,FALSE))+IF($CC88=\"\",0,VLOOKUP($CC88,'Conversion Tables'!$B$37:$C$62,2,FALSE))+IF($CD88=\"\",0,VLOOKUP($CD88,'Conversion Tables'!$B$37:$C$62,2,FALSE))+IF($CE88=\"\",0,VLOOKUP($CE88,'Conversion Tables'!$B$37:$C$62,2,FALSE))+IF($CF88=\"\",0,VLOOKUP($CF88,'Conversion Tables'!$B$37:$C$62,2,FALSE))","v":0},null,null,null,null,null,null,{"$f":"IFERROR(VLOOKUP(CM88,Dropdowns!A$51:B$55,2,FALSE),\"\")","v":""},null,null,null,null,null,null,null,null,null,null,{"$f":"IFERROR(VLOOKUP(AZ88,'Conversion Tables'!$G$8:$N$12,3,FALSE)/'Conversion Tables'!$I$12*Max_Point,0)","v":0},{"$f":"CY88*'Weighting Scale'!$D$9*DS88*DT88","v":0},{"$f":"IFERROR(VLOOKUP(BB88,'Conversion Tables'!$B$8:$C$32,2,FALSE),0)","v":0},{"$f":"IFERROR(VLOOKUP(BC88,'Conversion Tables'!$B$8:$C$32,2,FALSE),0)","v":0},{"$f":"(DA88-DB88)/'Conversion Tables'!$C$32*Max_Point","v":0},{"$f":"DC88*'Weighting Scale'!$D$10*DS88*DT88","v":0},{"$f":"IFERROR(VLOOKUP(BE88,'Conversion Tables'!$G$8:$N$12,2, FALSE)/'Conversion Tables'!$H$12*Max_Point,0)","v":0},{"$f":"DE88*'Weighting Scale'!$D$11*DS88*DT88","v":0},{"$f":"IFERROR(VLOOKUP(BF88,'Conversion Tables'!$G$8:$N$12,6,FALSE)/'Conversion Tables'!$L$12*Max_Point,0)","v":0},{"$f":"DG88*'Weighting Scale'!$D$14*DS88*DT88","v":0},{"$f":"IFERROR(VLOOKUP(BG88,'Conversion Tables'!$G$8:$N$12,4,FALSE)/'Conversion Tables'!$J$12*Max_Point,0)","v":0},{"$f":"DI88*'Weighting Scale'!$D$12*DS88*DT88","v":0},{"$f":"IFERROR(VLOOKUP(BH88,'Conversion Tables'!$G$8:$N$12,5,FALSE)/'Conversion Tables'!$K$12*Max_Point,0)","v":0},{"$f":"DK88*'Weighting Scale'!$D$13*DS88*DT88","v":0},{"$f":"IFERROR(VLOOKUP(BI88,'Conversion Tables'!$G$8:$N$12,7,FALSE)/'Conversion Tables'!$M$12*Max_Point,0)","v":0},{"$f":"DM88*'Weighting Scale'!$D$15*DS88*DT88","v":0},{"$f":"IF(BJ88 = \"Yes\",('Conversion Tables'!$N$12)/'Conversion Tables'!$N$12*Max_Point,0)","v":0},{"$f":"DO88*'Weighting Scale'!$D$16*DS88*DT88","v":0},0,0,0,{"$f":"IF(I88=Dropdowns!$C$7,Dropdowns!$B$7,IF(I88=Dropdowns!$C$8,Dropdowns!$B$8,IF(I88=Dropdowns!$C$9,Dropdowns!$B$9,IF(I88=Dropdowns!$C$10,Dropdowns!$B$10,IF(I88=Dropdowns!$C$11,Dropdowns!$B$11,IF(I88=Dropdowns!$C$12,Dropdowns!$B$12,IF(I88=Dropdowns!$C$13,Dropdowns!$B$13,IF(I88=Dropdowns!$C$14,Dropdowns!$B$14,IF(I88=Dropdowns!$C$15,Dropdowns!$B$15,IF(I88=Dropdowns!$C$16,Dropdowns!$B$16,IF(I88=Dropdowns!$C$17,Dropdowns!$B$17,IF(I88=Dropdowns!$C$18,Dropdowns!$B$18,IF(I88=Dropdowns!$C$19,Dropdowns!$B$19,IF(I88=Dropdowns!$C$20,Dropdowns!$B$20,IF(I88=Dropdowns!$C$21,Dropdowns!$B$21,IF(I88=Dropdowns!$C$22,Dropdowns!$B$22,IF(I88=Dropdowns!$C$23,Dropdowns!$B$23,IF(I88=Dropdowns!$C$24,Dropdowns!$B$24,IF(I88=Dropdowns!$C$25,Dropdowns!$B$25,IF(I88=Dropdowns!$C$26,Dropdowns!$B$26,IF(I88=Dropdowns!$C$27,Dropdowns!$B$27,IF(I88=Dropdowns!$C$28,Dropdowns!$B$28,IF(I88=Dropdowns!$C$29,Dropdowns!$B$29,IF(I88=Dropdowns!$C$30,Dropdowns!$B$30,IF(I88=Dropdowns!$C$31,Dropdowns!$B$31,IF(I88=Dropdowns!$C$32,Dropdowns!$B$32,IF(I88=Dropdowns!$C$33,Dropdowns!$B$33,IF(I88=Dropdowns!$C$34,Dropdowns!$B$34,IF(I88=Dropdowns!$C$35,Dropdowns!$B$35,IF(I88=Dropdowns!$C$36,Dropdowns!$B$36,IF(I88=Dropdowns!$C$37,Dropdowns!$B$37,IF(I88=Dropdowns!$C$38,Dropdowns!$B$38,IF(I88=Dropdowns!$C$39,Dropdowns!$B$39,IF(I88=Dropdowns!$C$40,Dropdowns!$B$40,IF(I88=Dropdowns!$C$41,Dropdowns!$B$41,IF(I88=Dropdowns!$C$42,Dropdowns!$B$42,IF(I88=Dropdowns!$C$43,Dropdowns!$B$43,IF(I88=Dropdowns!$C$44,Dropdowns!$B$44,IF(I88=Dropdowns!$C$45,Dropdowns!$B$45,IF(I88=Dropdowns!$C$46,Dropdowns!$B$46,IF(I88=Dropdowns!$C$47,Dropdowns!$B$47, IF(I88=Dropdowns!$C$48,Dropdowns!$B$48,\"0\"))))))))))))))))))))))))))))))))))))))))))","v":0},{"$f":"IF(AX88=Dropdowns!$F$15,Dropdowns!$G$15,IF(AX88=Dropdowns!$F$16,Dropdowns!$G$16,IF(AX88=Dropdowns!$F$17,Dropdowns!$G$17,\"0\")))","v":"0"}]
[null,null,null,null,null,null,null,null,null,null,"-",null,null,null,null,null,null,null,null,null,null,0,null,null,null,null,null,0,null,null,null,null,null,null,0,null,null,null,null,0,0,null,0,0,0,0,"-",null,null,null,null,null,null,null,null,null,null,null,null,null,null,null,0,0,0,0,0,0,0,0,0,0,1,{"$f":"IFERROR(IF(L89=Dropdowns!$F$32,\"\",IF(J89=\"Project\",AR89/BT89,IF(J89=\"Program\",AP89/BT89,\"\"))),\"\")","v":""},"",null,null,null,null,null,null,null,null,null,{"$f":"IF($CA89=\"\",0,VLOOKUP($CA89,'Conversion Tables'!$B$37:$C$62,2,FALSE))+IF($CB89=\"\",0,VLOOKUP($CB89,'Conversion Tables'!$B$37:$C$62,2,FALSE))+IF($CC89=\"\",0,VLOOKUP($CC89,'Conversion Tables'!$B$37:$C$62,2,FALSE))+IF($CD89=\"\",0,VLOOKUP($CD89,'Conversion Tables'!$B$37:$C$62,2,FALSE))+IF($CE89=\"\",0,VLOOKUP($CE89,'Conversion Tables'!$B$37:$C$62,2,FALSE))+IF($CF89=\"\",0,VLOOKUP($CF89,'Conversion Tables'!$B$37:$C$62,2,FALSE))","v":0},null,null,null,null,null,null,{"$f":"IFERROR(VLOOKUP(CM89,Dropdowns!A$51:B$55,2,FALSE),\"\")","v":""},null,null,null,null,null,null,null,null,null,null,{"$f":"IFERROR(VLOOKUP(AZ89,'Conversion Tables'!$G$8:$N$12,3,FALSE)/'Conversion Tables'!$I$12*Max_Point,0)","v":0},{"$f":"CY89*'Weighting Scale'!$D$9*DS89*DT89","v":0},{"$f":"IFERROR(VLOOKUP(BB89,'Conversion Tables'!$B$8:$C$32,2,FALSE),0)","v":0},{"$f":"IFERROR(VLOOKUP(BC89,'Conversion Tables'!$B$8:$C$32,2,FALSE),0)","v":0},{"$f":"(DA89-DB89)/'Conversion Tables'!$C$32*Max_Point","v":0},{"$f":"DC89*'Weighting Scale'!$D$10*DS89*DT89","v":0},{"$f":"IFERROR(VLOOKUP(BE89,'Conversion Tables'!$G$8:$N$12,2, FALSE)/'Conversion Tables'!$H$12*Max_Point,0)","v":0},{"$f":"DE89*'Weighting Scale'!$D$11*DS89*DT89","v":0},{"$f":"IFERROR(VLOOKUP(BF89,'Conversion Tables'!$G$8:$N$12,6,FALSE)/'Conversion Tables'!$L$12*Max_Point,0)","v":0},{"$f":"DG89*'Weighting Scale'!$D$14*DS89*DT89","v":0},{"$f":"IFERROR(VLOOKUP(BG89,'Conversion Tables'!$G$8:$N$12,4,FALSE)/'Conversion Tables'!$J$12*Max_Point,0)","v":0},{"$f":"DI89*'Weighting Scale'!$D$12*DS89*DT89","v":0},{"$f":"IFERROR(VLOOKUP(BH89,'Conversion Tables'!$G$8:$N$12,5,FALSE)/'Conversion Tables'!$K$12*Max_Point,0)","v":0},{"$f":"DK89*'Weighting Scale'!$D$13*DS89*DT89","v":0},{"$f":"IFERROR(VLOOKUP(BI89,'Conversion Tables'!$G$8:$N$12,7,FALSE)/'Conversion Tables'!$M$12*Max_Point,0)","v":0},{"$f":"DM89*'Weighting Scale'!$D$15*DS89*DT89","v":0},{"$f":"IF(BJ89 = \"Yes\",('Conversion Tables'!$N$12)/'Conversion Tables'!$N$12*Max_Point,0)","v":0},{"$f":"DO89*'Weighting Scale'!$D$16*DS89*DT89","v":0},0,0,0,{"$f":"IF(I89=Dropdowns!$C$7,Dropdowns!$B$7,IF(I89=Dropdowns!$C$8,Dropdowns!$B$8,IF(I89=Dropdowns!$C$9,Dropdowns!$B$9,IF(I89=Dropdowns!$C$10,Dropdowns!$B$10,IF(I89=Dropdowns!$C$11,Dropdowns!$B$11,IF(I89=Dropdowns!$C$12,Dropdowns!$B$12,IF(I89=Dropdowns!$C$13,Dropdowns!$B$13,IF(I89=Dropdowns!$C$14,Dropdowns!$B$14,IF(I89=Dropdowns!$C$15,Dropdowns!$B$15,IF(I89=Dropdowns!$C$16,Dropdowns!$B$16,IF(I89=Dropdowns!$C$17,Dropdowns!$B$17,IF(I89=Dropdowns!$C$18,Dropdowns!$B$18,IF(I89=Dropdowns!$C$19,Dropdowns!$B$19,IF(I89=Dropdowns!$C$20,Dropdowns!$B$20,IF(I89=Dropdowns!$C$21,Dropdowns!$B$21,IF(I89=Dropdowns!$C$22,Dropdowns!$B$22,IF(I89=Dropdowns!$C$23,Dropdowns!$B$23,IF(I89=Dropdowns!$C$24,Dropdowns!$B$24,IF(I89=Dropdowns!$C$25,Dropdowns!$B$25,IF(I89=Dropdowns!$C$26,Dropdowns!$B$26,IF(I89=Dropdowns!$C$27,Dropdowns!$B$27,IF(I89=Dropdowns!$C$28,Dropdowns!$B$28,IF(I89=Dropdowns!$C$29,Dropdowns!$B$29,IF(I89=Dropdowns!$C$30,Dropdowns!$B$30,IF(I89=Dropdowns!$C$31,Dropdowns!$B$31,IF(I89=Dropdowns!$C$32,Dropdowns!$B$32,IF(I89=Dropdowns!$C$33,Dropdowns!$B$33,IF(I89=Dropdowns!$C$34,Dropdowns!$B$34,IF(I89=Dropdowns!$C$35,Dropdowns!$B$35,IF(I89=Dropdowns!$C$36,Dropdowns!$B$36,IF(I89=Dropdowns!$C$37,Dropdowns!$B$37,IF(I89=Dropdowns!$C$38,Dropdowns!$B$38,IF(I89=Dropdowns!$C$39,Dropdowns!$B$39,IF(I89=Dropdowns!$C$40,Dropdowns!$B$40,IF(I89=Dropdowns!$C$41,Dropdowns!$B$41,IF(I89=Dropdowns!$C$42,Dropdowns!$B$42,IF(I89=Dropdowns!$C$43,Dropdowns!$B$43,IF(I89=Dropdowns!$C$44,Dropdowns!$B$44,IF(I89=Dropdowns!$C$45,Dropdowns!$B$45,IF(I89=Dropdowns!$C$46,Dropdowns!$B$46,IF(I89=Dropdowns!$C$47,Dropdowns!$B$47, IF(I89=Dropdowns!$C$48,Dropdowns!$B$48,\"0\"))))))))))))))))))))))))))))))))))))))))))","v":0},{"$f":"IF(AX89=Dropdowns!$F$15,Dropdowns!$G$15,IF(AX89=Dropdowns!$F$16,Dropdowns!$G$16,IF(AX89=Dropdowns!$F$17,Dropdowns!$G$17,\"0\")))","v":"0"}]
[null,null,null,null,null,null,null,null,null,null,"-",null,null,null,null,null,null,null,null,null,null,0,null,null,null,null,null,0,null,null,null,null,null,null,0,null,null,null,null,0,0,null,0,0,0,0,"-",null,null,null,null,null,null,null,null,null,null,null,null,null,null,null,0,0,0,0,0,0,0,0,0,0,1,{"$f":"IFERROR(IF(L90=Dropdowns!$F$32,\"\",IF(J90=\"Project\",AR90/BT90,IF(J90=\"Program\",AP90/BT90,\"\"))),\"\")","v":""},"",null,null,null,null,null,null,null,null,null,{"$f":"IF($CA90=\"\",0,VLOOKUP($CA90,'Conversion Tables'!$B$37:$C$62,2,FALSE))+IF($CB90=\"\",0,VLOOKUP($CB90,'Conversion Tables'!$B$37:$C$62,2,FALSE))+IF($CC90=\"\",0,VLOOKUP($CC90,'Conversion Tables'!$B$37:$C$62,2,FALSE))+IF($CD90=\"\",0,VLOOKUP($CD90,'Conversion Tables'!$B$37:$C$62,2,FALSE))+IF($CE90=\"\",0,VLOOKUP($CE90,'Conversion Tables'!$B$37:$C$62,2,FALSE))+IF($CF90=\"\",0,VLOOKUP($CF90,'Conversion Tables'!$B$37:$C$62,2,FALSE))","v":0},null,null,null,null,null,null,{"$f":"IFERROR(VLOOKUP(CM90,Dropdowns!A$51:B$55,2,FALSE),\"\")","v":""},null,null,null,null,null,null,null,null,null,null,{"$f":"IFERROR(VLOOKUP(AZ90,'Conversion Tables'!$G$8:$N$12,3,FALSE)/'Conversion Tables'!$I$12*Max_Point,0)","v":0},{"$f":"CY90*'Weighting Scale'!$D$9*DS90*DT90","v":0},{"$f":"IFERROR(VLOOKUP(BB90,'Conversion Tables'!$B$8:$C$32,2,FALSE),0)","v":0},{"$f":"IFERROR(VLOOKUP(BC90,'Conversion Tables'!$B$8:$C$32,2,FALSE),0)","v":0},{"$f":"(DA90-DB90)/'Conversion Tables'!$C$32*Max_Point","v":0},{"$f":"DC90*'Weighting Scale'!$D$10*DS90*DT90","v":0},{"$f":"IFERROR(VLOOKUP(BE90,'Conversion Tables'!$G$8:$N$12,2, FALSE)/'Conversion Tables'!$H$12*Max_Point,0)","v":0},{"$f":"DE90*'Weighting Scale'!$D$11*DS90*DT90","v":0},{"$f":"IFERROR(VLOOKUP(BF90,'Conversion Tables'!$G$8:$N$12,6,FALSE)/'Conversion Tables'!$L$12*Max_Point,0)","v":0},{"$f":"DG90*'Weighting Scale'!$D$14*DS90*DT90","v":0},{"$f":"IFERROR(VLOOKUP(BG90,'Conversion Tables'!$G$8:$N$12,4,FALSE)/'Conversion Tables'!$J$12*Max_Point,0)","v":0},{"$f":"DI90*'Weighting Scale'!$D$12*DS90*DT90","v":0},{"$f":"IFERROR(VLOOKUP(BH90,'Conversion Tables'!$G$8:$N$12,5,FALSE)/'Conversion Tables'!$K$12*Max_Point,0)","v":0},{"$f":"DK90*'Weighting Scale'!$D$13*DS90*DT90","v":0},{"$f":"IFERROR(VLOOKUP(BI90,'Conversion Tables'!$G$8:$N$12,7,FALSE)/'Conversion Tables'!$M$12*Max_Point,0)","v":0},{"$f":"DM90*'Weighting Scale'!$D$15*DS90*DT90","v":0},{"$f":"IF(BJ90 = \"Yes\",('Conversion Tables'!$N$12)/'Conversion Tables'!$N$12*Max_Point,0)","v":0},{"$f":"DO90*'Weighting Scale'!$D$16*DS90*DT90","v":0},0,0,0,{"$f":"IF(I90=Dropdowns!$C$7,Dropdowns!$B$7,IF(I90=Dropdowns!$C$8,Dropdowns!$B$8,IF(I90=Dropdowns!$C$9,Dropdowns!$B$9,IF(I90=Dropdowns!$C$10,Dropdowns!$B$10,IF(I90=Dropdowns!$C$11,Dropdowns!$B$11,IF(I90=Dropdowns!$C$12,Dropdowns!$B$12,IF(I90=Dropdowns!$C$13,Dropdowns!$B$13,IF(I90=Dropdowns!$C$14,Dropdowns!$B$14,IF(I90=Dropdowns!$C$15,Dropdowns!$B$15,IF(I90=Dropdowns!$C$16,Dropdowns!$B$16,IF(I90=Dropdowns!$C$17,Dropdowns!$B$17,IF(I90=Dropdowns!$C$18,Dropdowns!$B$18,IF(I90=Dropdowns!$C$19,Dropdowns!$B$19,IF(I90=Dropdowns!$C$20,Dropdowns!$B$20,IF(I90=Dropdowns!$C$21,Dropdowns!$B$21,IF(I90=Dropdowns!$C$22,Dropdowns!$B$22,IF(I90=Dropdowns!$C$23,Dropdowns!$B$23,IF(I90=Dropdowns!$C$24,Dropdowns!$B$24,IF(I90=Dropdowns!$C$25,Dropdowns!$B$25,IF(I90=Dropdowns!$C$26,Dropdowns!$B$26,IF(I90=Dropdowns!$C$27,Dropdowns!$B$27,IF(I90=Dropdowns!$C$28,Dropdowns!$B$28,IF(I90=Dropdowns!$C$29,Dropdowns!$B$29,IF(I90=Dropdowns!$C$30,Dropdowns!$B$30,IF(I90=Dropdowns!$C$31,Dropdowns!$B$31,IF(I90=Dropdowns!$C$32,Dropdowns!$B$32,IF(I90=Dropdowns!$C$33,Dropdowns!$B$33,IF(I90=Dropdowns!$C$34,Dropdowns!$B$34,IF(I90=Dropdowns!$C$35,Dropdowns!$B$35,IF(I90=Dropdowns!$C$36,Dropdowns!$B$36,IF(I90=Dropdowns!$C$37,Dropdowns!$B$37,IF(I90=Dropdowns!$C$38,Dropdowns!$B$38,IF(I90=Dropdowns!$C$39,Dropdowns!$B$39,IF(I90=Dropdowns!$C$40,Dropdowns!$B$40,IF(I90=Dropdowns!$C$41,Dropdowns!$B$41,IF(I90=Dropdowns!$C$42,Dropdowns!$B$42,IF(I90=Dropdowns!$C$43,Dropdowns!$B$43,IF(I90=Dropdowns!$C$44,Dropdowns!$B$44,IF(I90=Dropdowns!$C$45,Dropdowns!$B$45,IF(I90=Dropdowns!$C$46,Dropdowns!$B$46,IF(I90=Dropdowns!$C$47,Dropdowns!$B$47, IF(I90=Dropdowns!$C$48,Dropdowns!$B$48,\"0\"))))))))))))))))))))))))))))))))))))))))))","v":0},{"$f":"IF(AX90=Dropdowns!$F$15,Dropdowns!$G$15,IF(AX90=Dropdowns!$F$16,Dropdowns!$G$16,IF(AX90=Dropdowns!$F$17,Dropdowns!$G$17,\"0\")))","v":"0"}]
[null,null,null,null,null,null,null,null,null,null,"-",null,null,null,null,null,null,null,null,null,null,0,null,null,null,null,null,0,null,null,null,null,null,null,0,null,null,null,null,0,0,null,0,0,0,0,"-",null,null,null,null,null,null,null,null,null,null,null,null,null,null,null,0,0,0,0,0,0,0,0,0,0,1,{"$f":"IFERROR(IF(L91=Dropdowns!$F$32,\"\",IF(J91=\"Project\",AR91/BT91,IF(J91=\"Program\",AP91/BT91,\"\"))),\"\")","v":""},"",null,null,null,null,null,null,null,null,null,{"$f":"IF($CA91=\"\",0,VLOOKUP($CA91,'Conversion Tables'!$B$37:$C$62,2,FALSE))+IF($CB91=\"\",0,VLOOKUP($CB91,'Conversion Tables'!$B$37:$C$62,2,FALSE))+IF($CC91=\"\",0,VLOOKUP($CC91,'Conversion Tables'!$B$37:$C$62,2,FALSE))+IF($CD91=\"\",0,VLOOKUP($CD91,'Conversion Tables'!$B$37:$C$62,2,FALSE))+IF($CE91=\"\",0,VLOOKUP($CE91,'Conversion Tables'!$B$37:$C$62,2,FALSE))+IF($CF91=\"\",0,VLOOKUP($CF91,'Conversion Tables'!$B$37:$C$62,2,FALSE))","v":0},null,null,null,null,null,null,{"$f":"IFERROR(VLOOKUP(CM91,Dropdowns!A$51:B$55,2,FALSE),\"\")","v":""},null,null,null,null,null,null,null,null,null,null,{"$f":"IFERROR(VLOOKUP(AZ91,'Conversion Tables'!$G$8:$N$12,3,FALSE)/'Conversion Tables'!$I$12*Max_Point,0)","v":0},{"$f":"CY91*'Weighting Scale'!$D$9*DS91*DT91","v":0},{"$f":"IFERROR(VLOOKUP(BB91,'Conversion Tables'!$B$8:$C$32,2,FALSE),0)","v":0},{"$f":"IFERROR(VLOOKUP(BC91,'Conversion Tables'!$B$8:$C$32,2,FALSE),0)","v":0},{"$f":"(DA91-DB91)/'Conversion Tables'!$C$32*Max_Point","v":0},{"$f":"DC91*'Weighting Scale'!$D$10*DS91*DT91","v":0},{"$f":"IFERROR(VLOOKUP(BE91,'Conversion Tables'!$G$8:$N$12,2, FALSE)/'Conversion Tables'!$H$12*Max_Point,0)","v":0},{"$f":"DE91*'Weighting Scale'!$D$11*DS91*DT91","v":0},{"$f":"IFERROR(VLOOKUP(BF91,'Conversion Tables'!$G$8:$N$12,6,FALSE)/'Conversion Tables'!$L$12*Max_Point,0)","v":0},{"$f":"DG91*'Weighting Scale'!$D$14*DS91*DT91","v":0},{"$f":"IFERROR(VLOOKUP(BG91,'Conversion Tables'!$G$8:$N$12,4,FALSE)/'Conversion Tables'!$J$12*Max_Point,0)","v":0},{"$f":"DI91*'Weighting Scale'!$D$12*DS91*DT91","v":0},{"$f":"IFERROR(VLOOKUP(BH91,'Conversion Tables'!$G$8:$N$12,5,FALSE)/'Conversion Tables'!$K$12*Max_Point,0)","v":0},{"$f":"DK91*'Weighting Scale'!$D$13*DS91*DT91","v":0},{"$f":"IFERROR(VLOOKUP(BI91,'Conversion Tables'!$G$8:$N$12,7,FALSE)/'Conversion Tables'!$M$12*Max_Point,0)","v":0},{"$f":"DM91*'Weighting Scale'!$D$15*DS91*DT91","v":0},{"$f":"IF(BJ91 = \"Yes\",('Conversion Tables'!$N$12)/'Conversion Tables'!$N$12*Max_Point,0)","v":0},{"$f":"DO91*'Weighting Scale'!$D$16*DS91*DT91","v":0},0,0,0,{"$f":"IF(I91=Dropdowns!$C$7,Dropdowns!$B$7,IF(I91=Dropdowns!$C$8,Dropdowns!$B$8,IF(I91=Dropdowns!$C$9,Dropdowns!$B$9,IF(I91=Dropdowns!$C$10,Dropdowns!$B$10,IF(I91=Dropdowns!$C$11,Dropdowns!$B$11,IF(I91=Dropdowns!$C$12,Dropdowns!$B$12,IF(I91=Dropdowns!$C$13,Dropdowns!$B$13,IF(I91=Dropdowns!$C$14,Dropdowns!$B$14,IF(I91=Dropdowns!$C$15,Dropdowns!$B$15,IF(I91=Dropdowns!$C$16,Dropdowns!$B$16,IF(I91=Dropdowns!$C$17,Dropdowns!$B$17,IF(I91=Dropdowns!$C$18,Dropdowns!$B$18,IF(I91=Dropdowns!$C$19,Dropdowns!$B$19,IF(I91=Dropdowns!$C$20,Dropdowns!$B$20,IF(I91=Dropdowns!$C$21,Dropdowns!$B$21,IF(I91=Dropdowns!$C$22,Dropdowns!$B$22,IF(I91=Dropdowns!$C$23,Dropdowns!$B$23,IF(I91=Dropdowns!$C$24,Dropdowns!$B$24,IF(I91=Dropdowns!$C$25,Dropdowns!$B$25,IF(I91=Dropdowns!$C$26,Dropdowns!$B$26,IF(I91=Dropdowns!$C$27,Dropdowns!$B$27,IF(I91=Dropdowns!$C$28,Dropdowns!$B$28,IF(I91=Dropdowns!$C$29,Dropdowns!$B$29,IF(I91=Dropdowns!$C$30,Dropdowns!$B$30,IF(I91=Dropdowns!$C$31,Dropdowns!$B$31,IF(I91=Dropdowns!$C$32,Dropdowns!$B$32,IF(I91=Dropdowns!$C$33,Dropdowns!$B$33,IF(I91=Dropdowns!$C$34,Dropdowns!$B$34,IF(I91=Dropdowns!$C$35,Dropdowns!$B$35,IF(I91=Dropdowns!$C$36,Dropdowns!$B$36,IF(I91=Dropdowns!$C$37,Dropdowns!$B$37,IF(I91=Dropdowns!$C$38,Dropdowns!$B$38,IF(I91=Dropdowns!$C$39,Dropdowns!$B$39,IF(I91=Dropdowns!$C$40,Dropdowns!$B$40,IF(I91=Dropdowns!$C$41,Dropdowns!$B$41,IF(I91=Dropdowns!$C$42,Dropdowns!$B$42,IF(I91=Dropdowns!$C$43,Dropdowns!$B$43,IF(I91=Dropdowns!$C$44,Dropdowns!$B$44,IF(I91=Dropdowns!$C$45,Dropdowns!$B$45,IF(I91=Dropdowns!$C$46,Dropdowns!$B$46,IF(I91=Dropdowns!$C$47,Dropdowns!$B$47, IF(I91=Dropdowns!$C$48,Dropdowns!$B$48,\"0\"))))))))))))))))))))))))))))))))))))))))))","v":0},{"$f":"IF(AX91=Dropdowns!$F$15,Dropdowns!$G$15,IF(AX91=Dropdowns!$F$16,Dropdowns!$G$16,IF(AX91=Dropdowns!$F$17,Dropdowns!$G$17,\"0\")))","v":"0"}]
[null,null,null,null,null,null,null,null,null,null,"-",null,null,null,null,null,null,null,null,null,null,0,null,null,null,null,null,0,null,null,null,null,null,null,0,null,null,null,null,0,0,null,0,0,0,0,"-",null,null,null,null,null,null,null,null,null,null,null,null,null,null,null,0,0,0,0,0,0,0,0,0,0,1,{"$f":"IFERROR(IF(L92=Dropdowns!$F$32,\"\",IF(J92=\"Project\",AR92/BT92,IF(J92=\"Program\",AP92/BT92,\"\"))),\"\")","v":""},"",null,null,null,null,null,null,null,null,null,{"$f":"IF($CA92=\"\",0,VLOOKUP($CA92,'Conversion Tables'!$B$37:$C$62,2,FALSE))+IF($CB92=\"\",0,VLOOKUP($CB92,'Conversion Tables'!$B$37:$C$62,2,FALSE))+IF($CC92=\"\",0,VLOOKUP($CC92,'Conversion Tables'!$B$37:$C$62,2,FALSE))+IF($CD92=\"\",0,VLOOKUP($CD92,'Conversion Tables'!$B$37:$C$62,2,FALSE))+IF($CE92=\"\",0,VLOOKUP($CE92,'Conversion Tables'!$B$37:$C$62,2,FALSE))+IF($CF92=\"\",0,VLOOKUP($CF92,'Conversion Tables'!$B$37:$C$62,2,FALSE))","v":0},null,null,null,null,null,null,{"$f":"IFERROR(VLOOKUP(CM92,Dropdowns!A$51:B$55,2,FALSE),\"\")","v":""},null,null,null,null,null,null,null,null,null,null,{"$f":"IFERROR(VLOOKUP(AZ92,'Conversion Tables'!$G$8:$N$12,3,FALSE)/'Conversion Tables'!$I$12*Max_Point,0)","v":0},{"$f":"CY92*'Weighting Scale'!$D$9*DS92*DT92","v":0},{"$f":"IFERROR(VLOOKUP(BB92,'Conversion Tables'!$B$8:$C$32,2,FALSE),0)","v":0},{"$f":"IFERROR(VLOOKUP(BC92,'Conversion Tables'!$B$8:$C$32,2,FALSE),0)","v":0},{"$f":"(DA92-DB92)/'Conversion Tables'!$C$32*Max_Point","v":0},{"$f":"DC92*'Weighting Scale'!$D$10*DS92*DT92","v":0},{"$f":"IFERROR(VLOOKUP(BE92,'Conversion Tables'!$G$8:$N$12,2, FALSE)/'Conversion Tables'!$H$12*Max_Point,0)","v":0},{"$f":"DE92*'Weighting Scale'!$D$11*DS92*DT92","v":0},{"$f":"IFERROR(VLOOKUP(BF92,'Conversion Tables'!$G$8:$N$12,6,FALSE)/'Conversion Tables'!$L$12*Max_Point,0)","v":0},{"$f":"DG92*'Weighting Scale'!$D$14*DS92*DT92","v":0},{"$f":"IFERROR(VLOOKUP(BG92,'Conversion Tables'!$G$8:$N$12,4,FALSE)/'Conversion Tables'!$J$12*Max_Point,0)","v":0},{"$f":"DI92*'Weighting Scale'!$D$12*DS92*DT92","v":0},{"$f":"IFERROR(VLOOKUP(BH92,'Conversion Tables'!$G$8:$N$12,5,FALSE)/'Conversion Tables'!$K$12*Max_Point,0)","v":0},{"$f":"DK92*'Weighting Scale'!$D$13*DS92*DT92","v":0},{"$f":"IFERROR(VLOOKUP(BI92,'Conversion Tables'!$G$8:$N$12,7,FALSE)/'Conversion Tables'!$M$12*Max_Point,0)","v":0},{"$f":"DM92*'Weighting Scale'!$D$15*DS92*DT92","v":0},{"$f":"IF(BJ92 = \"Yes\",('Conversion Tables'!$N$12)/'Conversion Tables'!$N$12*Max_Point,0)","v":0},{"$f":"DO92*'Weighting Scale'!$D$16*DS92*DT92","v":0},0,0,0,{"$f":"IF(I92=Dropdowns!$C$7,Dropdowns!$B$7,IF(I92=Dropdowns!$C$8,Dropdowns!$B$8,IF(I92=Dropdowns!$C$9,Dropdowns!$B$9,IF(I92=Dropdowns!$C$10,Dropdowns!$B$10,IF(I92=Dropdowns!$C$11,Dropdowns!$B$11,IF(I92=Dropdowns!$C$12,Dropdowns!$B$12,IF(I92=Dropdowns!$C$13,Dropdowns!$B$13,IF(I92=Dropdowns!$C$14,Dropdowns!$B$14,IF(I92=Dropdowns!$C$15,Dropdowns!$B$15,IF(I92=Dropdowns!$C$16,Dropdowns!$B$16,IF(I92=Dropdowns!$C$17,Dropdowns!$B$17,IF(I92=Dropdowns!$C$18,Dropdowns!$B$18,IF(I92=Dropdowns!$C$19,Dropdowns!$B$19,IF(I92=Dropdowns!$C$20,Dropdowns!$B$20,IF(I92=Dropdowns!$C$21,Dropdowns!$B$21,IF(I92=Dropdowns!$C$22,Dropdowns!$B$22,IF(I92=Dropdowns!$C$23,Dropdowns!$B$23,IF(I92=Dropdowns!$C$24,Dropdowns!$B$24,IF(I92=Dropdowns!$C$25,Dropdowns!$B$25,IF(I92=Dropdowns!$C$26,Dropdowns!$B$26,IF(I92=Dropdowns!$C$27,Dropdowns!$B$27,IF(I92=Dropdowns!$C$28,Dropdowns!$B$28,IF(I92=Dropdowns!$C$29,Dropdowns!$B$29,IF(I92=Dropdowns!$C$30,Dropdowns!$B$30,IF(I92=Dropdowns!$C$31,Dropdowns!$B$31,IF(I92=Dropdowns!$C$32,Dropdowns!$B$32,IF(I92=Dropdowns!$C$33,Dropdowns!$B$33,IF(I92=Dropdowns!$C$34,Dropdowns!$B$34,IF(I92=Dropdowns!$C$35,Dropdowns!$B$35,IF(I92=Dropdowns!$C$36,Dropdowns!$B$36,IF(I92=Dropdowns!$C$37,Dropdowns!$B$37,IF(I92=Dropdowns!$C$38,Dropdowns!$B$38,IF(I92=Dropdowns!$C$39,Dropdowns!$B$39,IF(I92=Dropdowns!$C$40,Dropdowns!$B$40,IF(I92=Dropdowns!$C$41,Dropdowns!$B$41,IF(I92=Dropdowns!$C$42,Dropdowns!$B$42,IF(I92=Dropdowns!$C$43,Dropdowns!$B$43,IF(I92=Dropdowns!$C$44,Dropdowns!$B$44,IF(I92=Dropdowns!$C$45,Dropdowns!$B$45,IF(I92=Dropdowns!$C$46,Dropdowns!$B$46,IF(I92=Dropdowns!$C$47,Dropdowns!$B$47, IF(I92=Dropdowns!$C$48,Dropdowns!$B$48,\"0\"))))))))))))))))))))))))))))))))))))))))))","v":0},{"$f":"IF(AX92=Dropdowns!$F$15,Dropdowns!$G$15,IF(AX92=Dropdowns!$F$16,Dropdowns!$G$16,IF(AX92=Dropdowns!$F$17,Dropdowns!$G$17,\"0\")))","v":"0"}]
[null,null,null,null,null,null,null,null,null,null,"-",null,null,null,null,null,null,null,null,null,null,0,null,null,null,null,null,0,null,null,null,null,null,null,0,null,null,null,null,0,0,null,0,0,0,0,"-",null,null,null,null,null,null,null,null,null,null,null,null,null,null,null,0,0,0,0,0,0,0,0,0,0,1,{"$f":"IFERROR(IF(L93=Dropdowns!$F$32,\"\",IF(J93=\"Project\",AR93/BT93,IF(J93=\"Program\",AP93/BT93,\"\"))),\"\")","v":""},"",null,null,null,null,null,null,null,null,null,{"$f":"IF($CA93=\"\",0,VLOOKUP($CA93,'Conversion Tables'!$B$37:$C$62,2,FALSE))+IF($CB93=\"\",0,VLOOKUP($CB93,'Conversion Tables'!$B$37:$C$62,2,FALSE))+IF($CC93=\"\",0,VLOOKUP($CC93,'Conversion Tables'!$B$37:$C$62,2,FALSE))+IF($CD93=\"\",0,VLOOKUP($CD93,'Conversion Tables'!$B$37:$C$62,2,FALSE))+IF($CE93=\"\",0,VLOOKUP($CE93,'Conversion Tables'!$B$37:$C$62,2,FALSE))+IF($CF93=\"\",0,VLOOKUP($CF93,'Conversion Tables'!$B$37:$C$62,2,FALSE))","v":0},null,null,null,null,null,null,{"$f":"IFERROR(VLOOKUP(CM93,Dropdowns!A$51:B$55,2,FALSE),\"\")","v":""},null,null,null,null,null,null,null,null,null,null,{"$f":"IFERROR(VLOOKUP(AZ93,'Conversion Tables'!$G$8:$N$12,3,FALSE)/'Conversion Tables'!$I$12*Max_Point,0)","v":0},{"$f":"CY93*'Weighting Scale'!$D$9*DS93*DT93","v":0},{"$f":"IFERROR(VLOOKUP(BB93,'Conversion Tables'!$B$8:$C$32,2,FALSE),0)","v":0},{"$f":"IFERROR(VLOOKUP(BC93,'Conversion Tables'!$B$8:$C$32,2,FALSE),0)","v":0},{"$f":"(DA93-DB93)/'Conversion Tables'!$C$32*Max_Point","v":0},{"$f":"DC93*'Weighting Scale'!$D$10*DS93*DT93","v":0},{"$f":"IFERROR(VLOOKUP(BE93,'Conversion Tables'!$G$8:$N$12,2, FALSE)/'Conversion Tables'!$H$12*Max_Point,0)","v":0},{"$f":"DE93*'Weighting Scale'!$D$11*DS93*DT93","v":0},{"$f":"IFERROR(VLOOKUP(BF93,'Conversion Tables'!$G$8:$N$12,6,FALSE)/'Conversion Tables'!$L$12*Max_Point,0)","v":0},{"$f":"DG93*'Weighting Scale'!$D$14*DS93*DT93","v":0},{"$f":"IFERROR(VLOOKUP(BG93,'Conversion Tables'!$G$8:$N$12,4,FALSE)/'Conversion Tables'!$J$12*Max_Point,0)","v":0},{"$f":"DI93*'Weighting Scale'!$D$12*DS93*DT93","v":0},{"$f":"IFERROR(VLOOKUP(BH93,'Conversion Tables'!$G$8:$N$12,5,FALSE)/'Conversion Tables'!$K$12*Max_Point,0)","v":0},{"$f":"DK93*'Weighting Scale'!$D$13*DS93*DT93","v":0},{"$f":"IFERROR(VLOOKUP(BI93,'Conversion Tables'!$G$8:$N$12,7,FALSE)/'Conversion Tables'!$M$12*Max_Point,0)","v":0},{"$f":"DM93*'Weighting Scale'!$D$15*DS93*DT93","v":0},{"$f":"IF(BJ93 = \"Yes\",('Conversion Tables'!$N$12)/'Conversion Tables'!$N$12*Max_Point,0)","v":0},{"$f":"DO93*'Weighting Scale'!$D$16*DS93*DT93","v":0},0,0,0,{"$f":"IF(I93=Dropdowns!$C$7,Dropdowns!$B$7,IF(I93=Dropdowns!$C$8,Dropdowns!$B$8,IF(I93=Dropdowns!$C$9,Dropdowns!$B$9,IF(I93=Dropdowns!$C$10,Dropdowns!$B$10,IF(I93=Dropdowns!$C$11,Dropdowns!$B$11,IF(I93=Dropdowns!$C$12,Dropdowns!$B$12,IF(I93=Dropdowns!$C$13,Dropdowns!$B$13,IF(I93=Dropdowns!$C$14,Dropdowns!$B$14,IF(I93=Dropdowns!$C$15,Dropdowns!$B$15,IF(I93=Dropdowns!$C$16,Dropdowns!$B$16,IF(I93=Dropdowns!$C$17,Dropdowns!$B$17,IF(I93=Dropdowns!$C$18,Dropdowns!$B$18,IF(I93=Dropdowns!$C$19,Dropdowns!$B$19,IF(I93=Dropdowns!$C$20,Dropdowns!$B$20,IF(I93=Dropdowns!$C$21,Dropdowns!$B$21,IF(I93=Dropdowns!$C$22,Dropdowns!$B$22,IF(I93=Dropdowns!$C$23,Dropdowns!$B$23,IF(I93=Dropdowns!$C$24,Dropdowns!$B$24,IF(I93=Dropdowns!$C$25,Dropdowns!$B$25,IF(I93=Dropdowns!$C$26,Dropdowns!$B$26,IF(I93=Dropdowns!$C$27,Dropdowns!$B$27,IF(I93=Dropdowns!$C$28,Dropdowns!$B$28,IF(I93=Dropdowns!$C$29,Dropdowns!$B$29,IF(I93=Dropdowns!$C$30,Dropdowns!$B$30,IF(I93=Dropdowns!$C$31,Dropdowns!$B$31,IF(I93=Dropdowns!$C$32,Dropdowns!$B$32,IF(I93=Dropdowns!$C$33,Dropdowns!$B$33,IF(I93=Dropdowns!$C$34,Dropdowns!$B$34,IF(I93=Dropdowns!$C$35,Dropdowns!$B$35,IF(I93=Dropdowns!$C$36,Dropdowns!$B$36,IF(I93=Dropdowns!$C$37,Dropdowns!$B$37,IF(I93=Dropdowns!$C$38,Dropdowns!$B$38,IF(I93=Dropdowns!$C$39,Dropdowns!$B$39,IF(I93=Dropdowns!$C$40,Dropdowns!$B$40,IF(I93=Dropdowns!$C$41,Dropdowns!$B$41,IF(I93=Dropdowns!$C$42,Dropdowns!$B$42,IF(I93=Dropdowns!$C$43,Dropdowns!$B$43,IF(I93=Dropdowns!$C$44,Dropdowns!$B$44,IF(I93=Dropdowns!$C$45,Dropdowns!$B$45,IF(I93=Dropdowns!$C$46,Dropdowns!$B$46,IF(I93=Dropdowns!$C$47,Dropdowns!$B$47, IF(I93=Dropdowns!$C$48,Dropdowns!$B$48,\"0\"))))))))))))))))))))))))))))))))))))))))))","v":0},{"$f":"IF(AX93=Dropdowns!$F$15,Dropdowns!$G$15,IF(AX93=Dropdowns!$F$16,Dropdowns!$G$16,IF(AX93=Dropdowns!$F$17,Dropdowns!$G$17,\"0\")))","v":"0"}]
[null,null,null,null,null,null,null,null,null,null,"-",null,null,null,null,null,null,null,null,null,null,0,null,null,null,null,null,0,null,null,null,null,null,null,0,null,null,null,null,0,0,null,0,0,0,0,"-",null,null,null,null,null,null,null,null,null,null,null,null,null,null,null,0,0,0,0,0,0,0,0,0,0,1,{"$f":"IFERROR(IF(L94=Dropdowns!$F$32,\"\",IF(J94=\"Project\",AR94/BT94,IF(J94=\"Program\",AP94/BT94,\"\"))),\"\")","v":""},"",null,null,null,null,null,null,null,null,null,{"$f":"IF($CA94=\"\",0,VLOOKUP($CA94,'Conversion Tables'!$B$37:$C$62,2,FALSE))+IF($CB94=\"\",0,VLOOKUP($CB94,'Conversion Tables'!$B$37:$C$62,2,FALSE))+IF($CC94=\"\",0,VLOOKUP($CC94,'Conversion Tables'!$B$37:$C$62,2,FALSE))+IF($CD94=\"\",0,VLOOKUP($CD94,'Conversion Tables'!$B$37:$C$62,2,FALSE))+IF($CE94=\"\",0,VLOOKUP($CE94,'Conversion Tables'!$B$37:$C$62,2,FALSE))+IF($CF94=\"\",0,VLOOKUP($CF94,'Conversion Tables'!$B$37:$C$62,2,FALSE))","v":0},null,null,null,null,null,null,{"$f":"IFERROR(VLOOKUP(CM94,Dropdowns!A$51:B$55,2,FALSE),\"\")","v":""},null,null,null,null,null,null,null,null,null,null,{"$f":"IFERROR(VLOOKUP(AZ94,'Conversion Tables'!$G$8:$N$12,3,FALSE)/'Conversion Tables'!$I$12*Max_Point,0)","v":0},{"$f":"CY94*'Weighting Scale'!$D$9*DS94*DT94","v":0},{"$f":"IFERROR(VLOOKUP(BB94,'Conversion Tables'!$B$8:$C$32,2,FALSE),0)","v":0},{"$f":"IFERROR(VLOOKUP(BC94,'Conversion Tables'!$B$8:$C$32,2,FALSE),0)","v":0},{"$f":"(DA94-DB94)/'Conversion Tables'!$C$32*Max_Point","v":0},{"$f":"DC94*'Weighting Scale'!$D$10*DS94*DT94","v":0},{"$f":"IFERROR(VLOOKUP(BE94,'Conversion Tables'!$G$8:$N$12,2, FALSE)/'Conversion Tables'!$H$12*Max_Point,0)","v":0},{"$f":"DE94*'Weighting Scale'!$D$11*DS94*DT94","v":0},{"$f":"IFERROR(VLOOKUP(BF94,'Conversion Tables'!$G$8:$N$12,6,FALSE)/'Conversion Tables'!$L$12*Max_Point,0)","v":0},{"$f":"DG94*'Weighting Scale'!$D$14*DS94*DT94","v":0},{"$f":"IFERROR(VLOOKUP(BG94,'Conversion Tables'!$G$8:$N$12,4,FALSE)/'Conversion Tables'!$J$12*Max_Point,0)","v":0},{"$f":"DI94*'Weighting Scale'!$D$12*DS94*DT94","v":0},{"$f":"IFERROR(VLOOKUP(BH94,'Conversion Tables'!$G$8:$N$12,5,FALSE)/'Conversion Tables'!$K$12*Max_Point,0)","v":0},{"$f":"DK94*'Weighting Scale'!$D$13*DS94*DT94","v":0},{"$f":"IFERROR(VLOOKUP(BI94,'Conversion Tables'!$G$8:$N$12,7,FALSE)/'Conversion Tables'!$M$12*Max_Point,0)","v":0},{"$f":"DM94*'Weighting Scale'!$D$15*DS94*DT94","v":0},{"$f":"IF(BJ94 = \"Yes\",('Conversion Tables'!$N$12)/'Conversion Tables'!$N$12*Max_Point,0)","v":0},{"$f":"DO94*'Weighting Scale'!$D$16*DS94*DT94","v":0},0,0,0,{"$f":"IF(I94=Dropdowns!$C$7,Dropdowns!$B$7,IF(I94=Dropdowns!$C$8,Dropdowns!$B$8,IF(I94=Dropdowns!$C$9,Dropdowns!$B$9,IF(I94=Dropdowns!$C$10,Dropdowns!$B$10,IF(I94=Dropdowns!$C$11,Dropdowns!$B$11,IF(I94=Dropdowns!$C$12,Dropdowns!$B$12,IF(I94=Dropdowns!$C$13,Dropdowns!$B$13,IF(I94=Dropdowns!$C$14,Dropdowns!$B$14,IF(I94=Dropdowns!$C$15,Dropdowns!$B$15,IF(I94=Dropdowns!$C$16,Dropdowns!$B$16,IF(I94=Dropdowns!$C$17,Dropdowns!$B$17,IF(I94=Dropdowns!$C$18,Dropdowns!$B$18,IF(I94=Dropdowns!$C$19,Dropdowns!$B$19,IF(I94=Dropdowns!$C$20,Dropdowns!$B$20,IF(I94=Dropdowns!$C$21,Dropdowns!$B$21,IF(I94=Dropdowns!$C$22,Dropdowns!$B$22,IF(I94=Dropdowns!$C$23,Dropdowns!$B$23,IF(I94=Dropdowns!$C$24,Dropdowns!$B$24,IF(I94=Dropdowns!$C$25,Dropdowns!$B$25,IF(I94=Dropdowns!$C$26,Dropdowns!$B$26,IF(I94=Dropdowns!$C$27,Dropdowns!$B$27,IF(I94=Dropdowns!$C$28,Dropdowns!$B$28,IF(I94=Dropdowns!$C$29,Dropdowns!$B$29,IF(I94=Dropdowns!$C$30,Dropdowns!$B$30,IF(I94=Dropdowns!$C$31,Dropdowns!$B$31,IF(I94=Dropdowns!$C$32,Dropdowns!$B$32,IF(I94=Dropdowns!$C$33,Dropdowns!$B$33,IF(I94=Dropdowns!$C$34,Dropdowns!$B$34,IF(I94=Dropdowns!$C$35,Dropdowns!$B$35,IF(I94=Dropdowns!$C$36,Dropdowns!$B$36,IF(I94=Dropdowns!$C$37,Dropdowns!$B$37,IF(I94=Dropdowns!$C$38,Dropdowns!$B$38,IF(I94=Dropdowns!$C$39,Dropdowns!$B$39,IF(I94=Dropdowns!$C$40,Dropdowns!$B$40,IF(I94=Dropdowns!$C$41,Dropdowns!$B$41,IF(I94=Dropdowns!$C$42,Dropdowns!$B$42,IF(I94=Dropdowns!$C$43,Dropdowns!$B$43,IF(I94=Dropdowns!$C$44,Dropdowns!$B$44,IF(I94=Dropdowns!$C$45,Dropdowns!$B$45,IF(I94=Dropdowns!$C$46,Dropdowns!$B$46,IF(I94=Dropdowns!$C$47,Dropdowns!$B$47, IF(I94=Dropdowns!$C$48,Dropdowns!$B$48,\"0\"))))))))))))))))))))))))))))))))))))))))))","v":0},{"$f":"IF(AX94=Dropdowns!$F$15,Dropdowns!$G$15,IF(AX94=Dropdowns!$F$16,Dropdowns!$G$16,IF(AX94=Dropdowns!$F$17,Dropdowns!$G$17,\"0\")))","v":"0"}]
[null,null,null,null,null,null,null,null,null,null,"-",null,null,null,null,null,null,null,null,null,null,0,null,null,null,null,null,0,null,null,null,null,null,null,0,null,null,null,null,0,0,null,0,0,0,0,"-",null,null,null,null,null,null,null,null,null,null,null,null,null,null,null,0,0,0,0,0,0,0,0,0,0,1,{"$f":"IFERROR(IF(L95=Dropdowns!$F$32,\"\",IF(J95=\"Project\",AR95/BT95,IF(J95=\"Program\",AP95/BT95,\"\"))),\"\")","v":""},"",null,null,null,null,null,null,null,null,null,{"$f":"IF($CA95=\"\",0,VLOOKUP($CA95,'Conversion Tables'!$B$37:$C$62,2,FALSE))+IF($CB95=\"\",0,VLOOKUP($CB95,'Conversion Tables'!$B$37:$C$62,2,FALSE))+IF($CC95=\"\",0,VLOOKUP($CC95,'Conversion Tables'!$B$37:$C$62,2,FALSE))+IF($CD95=\"\",0,VLOOKUP($CD95,'Conversion Tables'!$B$37:$C$62,2,FALSE))+IF($CE95=\"\",0,VLOOKUP($CE95,'Conversion Tables'!$B$37:$C$62,2,FALSE))+IF($CF95=\"\",0,VLOOKUP($CF95,'Conversion Tables'!$B$37:$C$62,2,FALSE))","v":0},null,null,null,null,null,null,{"$f":"IFERROR(VLOOKUP(CM95,Dropdowns!A$51:B$55,2,FALSE),\"\")","v":""},null,null,null,null,null,null,null,null,null,null,{"$f":"IFERROR(VLOOKUP(AZ95,'Conversion Tables'!$G$8:$N$12,3,FALSE)/'Conversion Tables'!$I$12*Max_Point,0)","v":0},{"$f":"CY95*'Weighting Scale'!$D$9*DS95*DT95","v":0},{"$f":"IFERROR(VLOOKUP(BB95,'Conversion Tables'!$B$8:$C$32,2,FALSE),0)","v":0},{"$f":"IFERROR(VLOOKUP(BC95,'Conversion Tables'!$B$8:$C$32,2,FALSE),0)","v":0},{"$f":"(DA95-DB95)/'Conversion Tables'!$C$32*Max_Point","v":0},{"$f":"DC95*'Weighting Scale'!$D$10*DS95*DT95","v":0},{"$f":"IFERROR(VLOOKUP(BE95,'Conversion Tables'!$G$8:$N$12,2, FALSE)/'Conversion Tables'!$H$12*Max_Point,0)","v":0},{"$f":"DE95*'Weighting Scale'!$D$11*DS95*DT95","v":0},{"$f":"IFERROR(VLOOKUP(BF95,'Conversion Tables'!$G$8:$N$12,6,FALSE)/'Conversion Tables'!$L$12*Max_Point,0)","v":0},{"$f":"DG95*'Weighting Scale'!$D$14*DS95*DT95","v":0},{"$f":"IFERROR(VLOOKUP(BG95,'Conversion Tables'!$G$8:$N$12,4,FALSE)/'Conversion Tables'!$J$12*Max_Point,0)","v":0},{"$f":"DI95*'Weighting Scale'!$D$12*DS95*DT95","v":0},{"$f":"IFERROR(VLOOKUP(BH95,'Conversion Tables'!$G$8:$N$12,5,FALSE)/'Conversion Tables'!$K$12*Max_Point,0)","v":0},{"$f":"DK95*'Weighting Scale'!$D$13*DS95*DT95","v":0},{"$f":"IFERROR(VLOOKUP(BI95,'Conversion Tables'!$G$8:$N$12,7,FALSE)/'Conversion Tables'!$M$12*Max_Point,0)","v":0},{"$f":"DM95*'Weighting Scale'!$D$15*DS95*DT95","v":0},{"$f":"IF(BJ95 = \"Yes\",('Conversion Tables'!$N$12)/'Conversion Tables'!$N$12*Max_Point,0)","v":0},{"$f":"DO95*'Weighting Scale'!$D$16*DS95*DT95","v":0},0,0,0,{"$f":"IF(I95=Dropdowns!$C$7,Dropdowns!$B$7,IF(I95=Dropdowns!$C$8,Dropdowns!$B$8,IF(I95=Dropdowns!$C$9,Dropdowns!$B$9,IF(I95=Dropdowns!$C$10,Dropdowns!$B$10,IF(I95=Dropdowns!$C$11,Dropdowns!$B$11,IF(I95=Dropdowns!$C$12,Dropdowns!$B$12,IF(I95=Dropdowns!$C$13,Dropdowns!$B$13,IF(I95=Dropdowns!$C$14,Dropdowns!$B$14,IF(I95=Dropdowns!$C$15,Dropdowns!$B$15,IF(I95=Dropdowns!$C$16,Dropdowns!$B$16,IF(I95=Dropdowns!$C$17,Dropdowns!$B$17,IF(I95=Dropdowns!$C$18,Dropdowns!$B$18,IF(I95=Dropdowns!$C$19,Dropdowns!$B$19,IF(I95=Dropdowns!$C$20,Dropdowns!$B$20,IF(I95=Dropdowns!$C$21,Dropdowns!$B$21,IF(I95=Dropdowns!$C$22,Dropdowns!$B$22,IF(I95=Dropdowns!$C$23,Dropdowns!$B$23,IF(I95=Dropdowns!$C$24,Dropdowns!$B$24,IF(I95=Dropdowns!$C$25,Dropdowns!$B$25,IF(I95=Dropdowns!$C$26,Dropdowns!$B$26,IF(I95=Dropdowns!$C$27,Dropdowns!$B$27,IF(I95=Dropdowns!$C$28,Dropdowns!$B$28,IF(I95=Dropdowns!$C$29,Dropdowns!$B$29,IF(I95=Dropdowns!$C$30,Dropdowns!$B$30,IF(I95=Dropdowns!$C$31,Dropdowns!$B$31,IF(I95=Dropdowns!$C$32,Dropdowns!$B$32,IF(I95=Dropdowns!$C$33,Dropdowns!$B$33,IF(I95=Dropdowns!$C$34,Dropdowns!$B$34,IF(I95=Dropdowns!$C$35,Dropdowns!$B$35,IF(I95=Dropdowns!$C$36,Dropdowns!$B$36,IF(I95=Dropdowns!$C$37,Dropdowns!$B$37,IF(I95=Dropdowns!$C$38,Dropdowns!$B$38,IF(I95=Dropdowns!$C$39,Dropdowns!$B$39,IF(I95=Dropdowns!$C$40,Dropdowns!$B$40,IF(I95=Dropdowns!$C$41,Dropdowns!$B$41,IF(I95=Dropdowns!$C$42,Dropdowns!$B$42,IF(I95=Dropdowns!$C$43,Dropdowns!$B$43,IF(I95=Dropdowns!$C$44,Dropdowns!$B$44,IF(I95=Dropdowns!$C$45,Dropdowns!$B$45,IF(I95=Dropdowns!$C$46,Dropdowns!$B$46,IF(I95=Dropdowns!$C$47,Dropdowns!$B$47, IF(I95=Dropdowns!$C$48,Dropdowns!$B$48,\"0\"))))))))))))))))))))))))))))))))))))))))))","v":0},{"$f":"IF(AX95=Dropdowns!$F$15,Dropdowns!$G$15,IF(AX95=Dropdowns!$F$16,Dropdowns!$G$16,IF(AX95=Dropdowns!$F$17,Dropdowns!$G$17,\"0\")))","v":"0"}]
[null,null,null,null,null,null,null,null,null,null,"-",null,null,null,null,null,null,null,null,null,null,0,null,null,null,null,null,0,null,null,null,null,null,null,0,null,null,null,null,0,0,null,0,0,0,0,"-",null,null,null,null,null,null,null,null,null,null,null,null,null,null,null,0,0,0,0,0,0,0,0,0,0,1,{"$f":"IFERROR(IF(L96=Dropdowns!$F$32,\"\",IF(J96=\"Project\",AR96/BT96,IF(J96=\"Program\",AP96/BT96,\"\"))),\"\")","v":""},"",null,null,null,null,null,null,null,null,null,{"$f":"IF($CA96=\"\",0,VLOOKUP($CA96,'Conversion Tables'!$B$37:$C$62,2,FALSE))+IF($CB96=\"\",0,VLOOKUP($CB96,'Conversion Tables'!$B$37:$C$62,2,FALSE))+IF($CC96=\"\",0,VLOOKUP($CC96,'Conversion Tables'!$B$37:$C$62,2,FALSE))+IF($CD96=\"\",0,VLOOKUP($CD96,'Conversion Tables'!$B$37:$C$62,2,FALSE))+IF($CE96=\"\",0,VLOOKUP($CE96,'Conversion Tables'!$B$37:$C$62,2,FALSE))+IF($CF96=\"\",0,VLOOKUP($CF96,'Conversion Tables'!$B$37:$C$62,2,FALSE))","v":0},null,null,null,null,null,null,{"$f":"IFERROR(VLOOKUP(CM96,Dropdowns!A$51:B$55,2,FALSE),\"\")","v":""},null,null,null,null,null,null,null,null,null,null,{"$f":"IFERROR(VLOOKUP(AZ96,'Conversion Tables'!$G$8:$N$12,3,FALSE)/'Conversion Tables'!$I$12*Max_Point,0)","v":0},{"$f":"CY96*'Weighting Scale'!$D$9*DS96*DT96","v":0},{"$f":"IFERROR(VLOOKUP(BB96,'Conversion Tables'!$B$8:$C$32,2,FALSE),0)","v":0},{"$f":"IFERROR(VLOOKUP(BC96,'Conversion Tables'!$B$8:$C$32,2,FALSE),0)","v":0},{"$f":"(DA96-DB96)/'Conversion Tables'!$C$32*Max_Point","v":0},{"$f":"DC96*'Weighting Scale'!$D$10*DS96*DT96","v":0},{"$f":"IFERROR(VLOOKUP(BE96,'Conversion Tables'!$G$8:$N$12,2, FALSE)/'Conversion Tables'!$H$12*Max_Point,0)","v":0},{"$f":"DE96*'Weighting Scale'!$D$11*DS96*DT96","v":0},{"$f":"IFERROR(VLOOKUP(BF96,'Conversion Tables'!$G$8:$N$12,6,FALSE)/'Conversion Tables'!$L$12*Max_Point,0)","v":0},{"$f":"DG96*'Weighting Scale'!$D$14*DS96*DT96","v":0},{"$f":"IFERROR(VLOOKUP(BG96,'Conversion Tables'!$G$8:$N$12,4,FALSE)/'Conversion Tables'!$J$12*Max_Point,0)","v":0},{"$f":"DI96*'Weighting Scale'!$D$12*DS96*DT96","v":0},{"$f":"IFERROR(VLOOKUP(BH96,'Conversion Tables'!$G$8:$N$12,5,FALSE)/'Conversion Tables'!$K$12*Max_Point,0)","v":0},{"$f":"DK96*'Weighting Scale'!$D$13*DS96*DT96","v":0},{"$f":"IFERROR(VLOOKUP(BI96,'Conversion Tables'!$G$8:$N$12,7,FALSE)/'Conversion Tables'!$M$12*Max_Point,0)","v":0},{"$f":"DM96*'Weighting Scale'!$D$15*DS96*DT96","v":0},{"$f":"IF(BJ96 = \"Yes\",('Conversion Tables'!$N$12)/'Conversion Tables'!$N$12*Max_Point,0)","v":0},{"$f":"DO96*'Weighting Scale'!$D$16*DS96*DT96","v":0},0,0,0,{"$f":"IF(I96=Dropdowns!$C$7,Dropdowns!$B$7,IF(I96=Dropdowns!$C$8,Dropdowns!$B$8,IF(I96=Dropdowns!$C$9,Dropdowns!$B$9,IF(I96=Dropdowns!$C$10,Dropdowns!$B$10,IF(I96=Dropdowns!$C$11,Dropdowns!$B$11,IF(I96=Dropdowns!$C$12,Dropdowns!$B$12,IF(I96=Dropdowns!$C$13,Dropdowns!$B$13,IF(I96=Dropdowns!$C$14,Dropdowns!$B$14,IF(I96=Dropdowns!$C$15,Dropdowns!$B$15,IF(I96=Dropdowns!$C$16,Dropdowns!$B$16,IF(I96=Dropdowns!$C$17,Dropdowns!$B$17,IF(I96=Dropdowns!$C$18,Dropdowns!$B$18,IF(I96=Dropdowns!$C$19,Dropdowns!$B$19,IF(I96=Dropdowns!$C$20,Dropdowns!$B$20,IF(I96=Dropdowns!$C$21,Dropdowns!$B$21,IF(I96=Dropdowns!$C$22,Dropdowns!$B$22,IF(I96=Dropdowns!$C$23,Dropdowns!$B$23,IF(I96=Dropdowns!$C$24,Dropdowns!$B$24,IF(I96=Dropdowns!$C$25,Dropdowns!$B$25,IF(I96=Dropdowns!$C$26,Dropdowns!$B$26,IF(I96=Dropdowns!$C$27,Dropdowns!$B$27,IF(I96=Dropdowns!$C$28,Dropdowns!$B$28,IF(I96=Dropdowns!$C$29,Dropdowns!$B$29,IF(I96=Dropdowns!$C$30,Dropdowns!$B$30,IF(I96=Dropdowns!$C$31,Dropdowns!$B$31,IF(I96=Dropdowns!$C$32,Dropdowns!$B$32,IF(I96=Dropdowns!$C$33,Dropdowns!$B$33,IF(I96=Dropdowns!$C$34,Dropdowns!$B$34,IF(I96=Dropdowns!$C$35,Dropdowns!$B$35,IF(I96=Dropdowns!$C$36,Dropdowns!$B$36,IF(I96=Dropdowns!$C$37,Dropdowns!$B$37,IF(I96=Dropdowns!$C$38,Dropdowns!$B$38,IF(I96=Dropdowns!$C$39,Dropdowns!$B$39,IF(I96=Dropdowns!$C$40,Dropdowns!$B$40,IF(I96=Dropdowns!$C$41,Dropdowns!$B$41,IF(I96=Dropdowns!$C$42,Dropdowns!$B$42,IF(I96=Dropdowns!$C$43,Dropdowns!$B$43,IF(I96=Dropdowns!$C$44,Dropdowns!$B$44,IF(I96=Dropdowns!$C$45,Dropdowns!$B$45,IF(I96=Dropdowns!$C$46,Dropdowns!$B$46,IF(I96=Dropdowns!$C$47,Dropdowns!$B$47, IF(I96=Dropdowns!$C$48,Dropdowns!$B$48,\"0\"))))))))))))))))))))))))))))))))))))))))))","v":0},{"$f":"IF(AX96=Dropdowns!$F$15,Dropdowns!$G$15,IF(AX96=Dropdowns!$F$16,Dropdowns!$G$16,IF(AX96=Dropdowns!$F$17,Dropdowns!$G$17,\"0\")))","v":"0"}]
[null,null,null,null,null,null,null,null,null,null,"-",null,null,null,null,null,null,null,null,null,null,0,null,null,null,null,null,0,null,null,null,null,null,null,0,null,null,null,null,0,0,null,0,0,0,0,"-",null,null,null,null,null,null,null,null,null,null,null,null,null,null,null,0,0,0,0,0,0,0,0,0,0,1,{"$f":"IFERROR(IF(L97=Dropdowns!$F$32,\"\",IF(J97=\"Project\",AR97/BT97,IF(J97=\"Program\",AP97/BT97,\"\"))),\"\")","v":""},"",null,null,null,null,null,null,null,null,null,{"$f":"IF($CA97=\"\",0,VLOOKUP($CA97,'Conversion Tables'!$B$37:$C$62,2,FALSE))+IF($CB97=\"\",0,VLOOKUP($CB97,'Conversion Tables'!$B$37:$C$62,2,FALSE))+IF($CC97=\"\",0,VLOOKUP($CC97,'Conversion Tables'!$B$37:$C$62,2,FALSE))+IF($CD97=\"\",0,VLOOKUP($CD97,'Conversion Tables'!$B$37:$C$62,2,FALSE))+IF($CE97=\"\",0,VLOOKUP($CE97,'Conversion Tables'!$B$37:$C$62,2,FALSE))+IF($CF97=\"\",0,VLOOKUP($CF97,'Conversion Tables'!$B$37:$C$62,2,FALSE))","v":0},null,null,null,null,null,null,{"$f":"IFERROR(VLOOKUP(CM97,Dropdowns!A$51:B$55,2,FALSE),\"\")","v":""},null,null,null,null,null,null,null,null,null,null,{"$f":"IFERROR(VLOOKUP(AZ97,'Conversion Tables'!$G$8:$N$12,3,FALSE)/'Conversion Tables'!$I$12*Max_Point,0)","v":0},{"$f":"CY97*'Weighting Scale'!$D$9*DS97*DT97","v":0},{"$f":"IFERROR(VLOOKUP(BB97,'Conversion Tables'!$B$8:$C$32,2,FALSE),0)","v":0},{"$f":"IFERROR(VLOOKUP(BC97,'Conversion Tables'!$B$8:$C$32,2,FALSE),0)","v":0},{"$f":"(DA97-DB97)/'Conversion Tables'!$C$32*Max_Point","v":0},{"$f":"DC97*'Weighting Scale'!$D$10*DS97*DT97","v":0},{"$f":"IFERROR(VLOOKUP(BE97,'Conversion Tables'!$G$8:$N$12,2, FALSE)/'Conversion Tables'!$H$12*Max_Point,0)","v":0},{"$f":"DE97*'Weighting Scale'!$D$11*DS97*DT97","v":0},{"$f":"IFERROR(VLOOKUP(BF97,'Conversion Tables'!$G$8:$N$12,6,FALSE)/'Conversion Tables'!$L$12*Max_Point,0)","v":0},{"$f":"DG97*'Weighting Scale'!$D$14*DS97*DT97","v":0},{"$f":"IFERROR(VLOOKUP(BG97,'Conversion Tables'!$G$8:$N$12,4,FALSE)/'Conversion Tables'!$J$12*Max_Point,0)","v":0},{"$f":"DI97*'Weighting Scale'!$D$12*DS97*DT97","v":0},{"$f":"IFERROR(VLOOKUP(BH97,'Conversion Tables'!$G$8:$N$12,5,FALSE)/'Conversion Tables'!$K$12*Max_Point,0)","v":0},{"$f":"DK97*'Weighting Scale'!$D$13*DS97*DT97","v":0},{"$f":"IFERROR(VLOOKUP(BI97,'Conversion Tables'!$G$8:$N$12,7,FALSE)/'Conversion Tables'!$M$12*Max_Point,0)","v":0},{"$f":"DM97*'Weighting Scale'!$D$15*DS97*DT97","v":0},{"$f":"IF(BJ97 = \"Yes\",('Conversion Tables'!$N$12)/'Conversion Tables'!$N$12*Max_Point,0)","v":0},{"$f":"DO97*'Weighting Scale'!$D$16*DS97*DT97","v":0},0,0,0,{"$f":"IF(I97=Dropdowns!$C$7,Dropdowns!$B$7,IF(I97=Dropdowns!$C$8,Dropdowns!$B$8,IF(I97=Dropdowns!$C$9,Dropdowns!$B$9,IF(I97=Dropdowns!$C$10,Dropdowns!$B$10,IF(I97=Dropdowns!$C$11,Dropdowns!$B$11,IF(I97=Dropdowns!$C$12,Dropdowns!$B$12,IF(I97=Dropdowns!$C$13,Dropdowns!$B$13,IF(I97=Dropdowns!$C$14,Dropdowns!$B$14,IF(I97=Dropdowns!$C$15,Dropdowns!$B$15,IF(I97=Dropdowns!$C$16,Dropdowns!$B$16,IF(I97=Dropdowns!$C$17,Dropdowns!$B$17,IF(I97=Dropdowns!$C$18,Dropdowns!$B$18,IF(I97=Dropdowns!$C$19,Dropdowns!$B$19,IF(I97=Dropdowns!$C$20,Dropdowns!$B$20,IF(I97=Dropdowns!$C$21,Dropdowns!$B$21,IF(I97=Dropdowns!$C$22,Dropdowns!$B$22,IF(I97=Dropdowns!$C$23,Dropdowns!$B$23,IF(I97=Dropdowns!$C$24,Dropdowns!$B$24,IF(I97=Dropdowns!$C$25,Dropdowns!$B$25,IF(I97=Dropdowns!$C$26,Dropdowns!$B$26,IF(I97=Dropdowns!$C$27,Dropdowns!$B$27,IF(I97=Dropdowns!$C$28,Dropdowns!$B$28,IF(I97=Dropdowns!$C$29,Dropdowns!$B$29,IF(I97=Dropdowns!$C$30,Dropdowns!$B$30,IF(I97=Dropdowns!$C$31,Dropdowns!$B$31,IF(I97=Dropdowns!$C$32,Dropdowns!$B$32,IF(I97=Dropdowns!$C$33,Dropdowns!$B$33,IF(I97=Dropdowns!$C$34,Dropdowns!$B$34,IF(I97=Dropdowns!$C$35,Dropdowns!$B$35,IF(I97=Dropdowns!$C$36,Dropdowns!$B$36,IF(I97=Dropdowns!$C$37,Dropdowns!$B$37,IF(I97=Dropdowns!$C$38,Dropdowns!$B$38,IF(I97=Dropdowns!$C$39,Dropdowns!$B$39,IF(I97=Dropdowns!$C$40,Dropdowns!$B$40,IF(I97=Dropdowns!$C$41,Dropdowns!$B$41,IF(I97=Dropdowns!$C$42,Dropdowns!$B$42,IF(I97=Dropdowns!$C$43,Dropdowns!$B$43,IF(I97=Dropdowns!$C$44,Dropdowns!$B$44,IF(I97=Dropdowns!$C$45,Dropdowns!$B$45,IF(I97=Dropdowns!$C$46,Dropdowns!$B$46,IF(I97=Dropdowns!$C$47,Dropdowns!$B$47, IF(I97=Dropdowns!$C$48,Dropdowns!$B$48,\"0\"))))))))))))))))))))))))))))))))))))))))))","v":0},{"$f":"IF(AX97=Dropdowns!$F$15,Dropdowns!$G$15,IF(AX97=Dropdowns!$F$16,Dropdowns!$G$16,IF(AX97=Dropdowns!$F$17,Dropdowns!$G$17,\"0\")))","v":"0"}]
[null,null,null,null,null,null,null,null,null,null,"-",null,null,null,null,null,null,null,null,null,null,0,null,null,null,null,null,0,null,null,null,null,null,null,0,null,null,null,null,0,0,null,0,0,0,0,"-",null,null,null,null,null,null,null,null,null,null,null,null,null,null,null,0,0,0,0,0,0,0,0,0,0,1,{"$f":"IFERROR(IF(L98=Dropdowns!$F$32,\"\",IF(J98=\"Project\",AR98/BT98,IF(J98=\"Program\",AP98/BT98,\"\"))),\"\")","v":""},"",null,null,null,null,null,null,null,null,null,{"$f":"IF($CA98=\"\",0,VLOOKUP($CA98,'Conversion Tables'!$B$37:$C$62,2,FALSE))+IF($CB98=\"\",0,VLOOKUP($CB98,'Conversion Tables'!$B$37:$C$62,2,FALSE))+IF($CC98=\"\",0,VLOOKUP($CC98,'Conversion Tables'!$B$37:$C$62,2,FALSE))+IF($CD98=\"\",0,VLOOKUP($CD98,'Conversion Tables'!$B$37:$C$62,2,FALSE))+IF($CE98=\"\",0,VLOOKUP($CE98,'Conversion Tables'!$B$37:$C$62,2,FALSE))+IF($CF98=\"\",0,VLOOKUP($CF98,'Conversion Tables'!$B$37:$C$62,2,FALSE))","v":0},null,null,null,null,null,null,{"$f":"IFERROR(VLOOKUP(CM98,Dropdowns!A$51:B$55,2,FALSE),\"\")","v":""},null,null,null,null,null,null,null,null,null,null,{"$f":"IFERROR(VLOOKUP(AZ98,'Conversion Tables'!$G$8:$N$12,3,FALSE)/'Conversion Tables'!$I$12*Max_Point,0)","v":0},{"$f":"CY98*'Weighting Scale'!$D$9*DS98*DT98","v":0},{"$f":"IFERROR(VLOOKUP(BB98,'Conversion Tables'!$B$8:$C$32,2,FALSE),0)","v":0},{"$f":"IFERROR(VLOOKUP(BC98,'Conversion Tables'!$B$8:$C$32,2,FALSE),0)","v":0},{"$f":"(DA98-DB98)/'Conversion Tables'!$C$32*Max_Point","v":0},{"$f":"DC98*'Weighting Scale'!$D$10*DS98*DT98","v":0},{"$f":"IFERROR(VLOOKUP(BE98,'Conversion Tables'!$G$8:$N$12,2, FALSE)/'Conversion Tables'!$H$12*Max_Point,0)","v":0},{"$f":"DE98*'Weighting Scale'!$D$11*DS98*DT98","v":0},{"$f":"IFERROR(VLOOKUP(BF98,'Conversion Tables'!$G$8:$N$12,6,FALSE)/'Conversion Tables'!$L$12*Max_Point,0)","v":0},{"$f":"DG98*'Weighting Scale'!$D$14*DS98*DT98","v":0},{"$f":"IFERROR(VLOOKUP(BG98,'Conversion Tables'!$G$8:$N$12,4,FALSE)/'Conversion Tables'!$J$12*Max_Point,0)","v":0},{"$f":"DI98*'Weighting Scale'!$D$12*DS98*DT98","v":0},{"$f":"IFERROR(VLOOKUP(BH98,'Conversion Tables'!$G$8:$N$12,5,FALSE)/'Conversion Tables'!$K$12*Max_Point,0)","v":0},{"$f":"DK98*'Weighting Scale'!$D$13*DS98*DT98","v":0},{"$f":"IFERROR(VLOOKUP(BI98,'Conversion Tables'!$G$8:$N$12,7,FALSE)/'Conversion Tables'!$M$12*Max_Point,0)","v":0},{"$f":"DM98*'Weighting Scale'!$D$15*DS98*DT98","v":0},{"$f":"IF(BJ98 = \"Yes\",('Conversion Tables'!$N$12)/'Conversion Tables'!$N$12*Max_Point,0)","v":0},{"$f":"DO98*'Weighting Scale'!$D$16*DS98*DT98","v":0},0,0,0,{"$f":"IF(I98=Dropdowns!$C$7,Dropdowns!$B$7,IF(I98=Dropdowns!$C$8,Dropdowns!$B$8,IF(I98=Dropdowns!$C$9,Dropdowns!$B$9,IF(I98=Dropdowns!$C$10,Dropdowns!$B$10,IF(I98=Dropdowns!$C$11,Dropdowns!$B$11,IF(I98=Dropdowns!$C$12,Dropdowns!$B$12,IF(I98=Dropdowns!$C$13,Dropdowns!$B$13,IF(I98=Dropdowns!$C$14,Dropdowns!$B$14,IF(I98=Dropdowns!$C$15,Dropdowns!$B$15,IF(I98=Dropdowns!$C$16,Dropdowns!$B$16,IF(I98=Dropdowns!$C$17,Dropdowns!$B$17,IF(I98=Dropdowns!$C$18,Dropdowns!$B$18,IF(I98=Dropdowns!$C$19,Dropdowns!$B$19,IF(I98=Dropdowns!$C$20,Dropdowns!$B$20,IF(I98=Dropdowns!$C$21,Dropdowns!$B$21,IF(I98=Dropdowns!$C$22,Dropdowns!$B$22,IF(I98=Dropdowns!$C$23,Dropdowns!$B$23,IF(I98=Dropdowns!$C$24,Dropdowns!$B$24,IF(I98=Dropdowns!$C$25,Dropdowns!$B$25,IF(I98=Dropdowns!$C$26,Dropdowns!$B$26,IF(I98=Dropdowns!$C$27,Dropdowns!$B$27,IF(I98=Dropdowns!$C$28,Dropdowns!$B$28,IF(I98=Dropdowns!$C$29,Dropdowns!$B$29,IF(I98=Dropdowns!$C$30,Dropdowns!$B$30,IF(I98=Dropdowns!$C$31,Dropdowns!$B$31,IF(I98=Dropdowns!$C$32,Dropdowns!$B$32,IF(I98=Dropdowns!$C$33,Dropdowns!$B$33,IF(I98=Dropdowns!$C$34,Dropdowns!$B$34,IF(I98=Dropdowns!$C$35,Dropdowns!$B$35,IF(I98=Dropdowns!$C$36,Dropdowns!$B$36,IF(I98=Dropdowns!$C$37,Dropdowns!$B$37,IF(I98=Dropdowns!$C$38,Dropdowns!$B$38,IF(I98=Dropdowns!$C$39,Dropdowns!$B$39,IF(I98=Dropdowns!$C$40,Dropdowns!$B$40,IF(I98=Dropdowns!$C$41,Dropdowns!$B$41,IF(I98=Dropdowns!$C$42,Dropdowns!$B$42,IF(I98=Dropdowns!$C$43,Dropdowns!$B$43,IF(I98=Dropdowns!$C$44,Dropdowns!$B$44,IF(I98=Dropdowns!$C$45,Dropdowns!$B$45,IF(I98=Dropdowns!$C$46,Dropdowns!$B$46,IF(I98=Dropdowns!$C$47,Dropdowns!$B$47, IF(I98=Dropdowns!$C$48,Dropdowns!$B$48,\"0\"))))))))))))))))))))))))))))))))))))))))))","v":0},{"$f":"IF(AX98=Dropdowns!$F$15,Dropdowns!$G$15,IF(AX98=Dropdowns!$F$16,Dropdowns!$G$16,IF(AX98=Dropdowns!$F$17,Dropdowns!$G$17,\"0\")))","v":"0"}]
[null,null,null,null,null,null,null,null,null,null,"-",null,null,null,null,null,null,null,null,null,null,0,null,null,null,null,null,0,null,null,null,null,null,null,0,null,null,null,null,0,0,null,0,0,0,0,"-",null,null,null,null,null,null,null,null,null,null,null,null,null,null,null,0,0,0,0,0,0,0,0,0,0,1,{"$f":"IFERROR(IF(L99=Dropdowns!$F$32,\"\",IF(J99=\"Project\",AR99/BT99,IF(J99=\"Program\",AP99/BT99,\"\"))),\"\")","v":""},"",null,null,null,null,null,null,null,null,null,{"$f":"IF($CA99=\"\",0,VLOOKUP($CA99,'Conversion Tables'!$B$37:$C$62,2,FALSE))+IF($CB99=\"\",0,VLOOKUP($CB99,'Conversion Tables'!$B$37:$C$62,2,FALSE))+IF($CC99=\"\",0,VLOOKUP($CC99,'Conversion Tables'!$B$37:$C$62,2,FALSE))+IF($CD99=\"\",0,VLOOKUP($CD99,'Conversion Tables'!$B$37:$C$62,2,FALSE))+IF($CE99=\"\",0,VLOOKUP($CE99,'Conversion Tables'!$B$37:$C$62,2,FALSE))+IF($CF99=\"\",0,VLOOKUP($CF99,'Conversion Tables'!$B$37:$C$62,2,FALSE))","v":0},null,null,null,null,null,null,{"$f":"IFERROR(VLOOKUP(CM99,Dropdowns!A$51:B$55,2,FALSE),\"\")","v":""},null,null,null,null,null,null,null,null,null,null,{"$f":"IFERROR(VLOOKUP(AZ99,'Conversion Tables'!$G$8:$N$12,3,FALSE)/'Conversion Tables'!$I$12*Max_Point,0)","v":0},{"$f":"CY99*'Weighting Scale'!$D$9*DS99*DT99","v":0},{"$f":"IFERROR(VLOOKUP(BB99,'Conversion Tables'!$B$8:$C$32,2,FALSE),0)","v":0},{"$f":"IFERROR(VLOOKUP(BC99,'Conversion Tables'!$B$8:$C$32,2,FALSE),0)","v":0},{"$f":"(DA99-DB99)/'Conversion Tables'!$C$32*Max_Point","v":0},{"$f":"DC99*'Weighting Scale'!$D$10*DS99*DT99","v":0},{"$f":"IFERROR(VLOOKUP(BE99,'Conversion Tables'!$G$8:$N$12,2, FALSE)/'Conversion Tables'!$H$12*Max_Point,0)","v":0},{"$f":"DE99*'Weighting Scale'!$D$11*DS99*DT99","v":0},{"$f":"IFERROR(VLOOKUP(BF99,'Conversion Tables'!$G$8:$N$12,6,FALSE)/'Conversion Tables'!$L$12*Max_Point,0)","v":0},{"$f":"DG99*'Weighting Scale'!$D$14*DS99*DT99","v":0},{"$f":"IFERROR(VLOOKUP(BG99,'Conversion Tables'!$G$8:$N$12,4,FALSE)/'Conversion Tables'!$J$12*Max_Point,0)","v":0},{"$f":"DI99*'Weighting Scale'!$D$12*DS99*DT99","v":0},{"$f":"IFERROR(VLOOKUP(BH99,'Conversion Tables'!$G$8:$N$12,5,FALSE)/'Conversion Tables'!$K$12*Max_Point,0)","v":0},{"$f":"DK99*'Weighting Scale'!$D$13*DS99*DT99","v":0},{"$f":"IFERROR(VLOOKUP(BI99,'Conversion Tables'!$G$8:$N$12,7,FALSE)/'Conversion Tables'!$M$12*Max_Point,0)","v":0},{"$f":"DM99*'Weighting Scale'!$D$15*DS99*DT99","v":0},{"$f":"IF(BJ99 = \"Yes\",('Conversion Tables'!$N$12)/'Conversion Tables'!$N$12*Max_Point,0)","v":0},{"$f":"DO99*'Weighting Scale'!$D$16*DS99*DT99","v":0},0,0,0,{"$f":"IF(I99=Dropdowns!$C$7,Dropdowns!$B$7,IF(I99=Dropdowns!$C$8,Dropdowns!$B$8,IF(I99=Dropdowns!$C$9,Dropdowns!$B$9,IF(I99=Dropdowns!$C$10,Dropdowns!$B$10,IF(I99=Dropdowns!$C$11,Dropdowns!$B$11,IF(I99=Dropdowns!$C$12,Dropdowns!$B$12,IF(I99=Dropdowns!$C$13,Dropdowns!$B$13,IF(I99=Dropdowns!$C$14,Dropdowns!$B$14,IF(I99=Dropdowns!$C$15,Dropdowns!$B$15,IF(I99=Dropdowns!$C$16,Dropdowns!$B$16,IF(I99=Dropdowns!$C$17,Dropdowns!$B$17,IF(I99=Dropdowns!$C$18,Dropdowns!$B$18,IF(I99=Dropdowns!$C$19,Dropdowns!$B$19,IF(I99=Dropdowns!$C$20,Dropdowns!$B$20,IF(I99=Dropdowns!$C$21,Dropdowns!$B$21,IF(I99=Dropdowns!$C$22,Dropdowns!$B$22,IF(I99=Dropdowns!$C$23,Dropdowns!$B$23,IF(I99=Dropdowns!$C$24,Dropdowns!$B$24,IF(I99=Dropdowns!$C$25,Dropdowns!$B$25,IF(I99=Dropdowns!$C$26,Dropdowns!$B$26,IF(I99=Dropdowns!$C$27,Dropdowns!$B$27,IF(I99=Dropdowns!$C$28,Dropdowns!$B$28,IF(I99=Dropdowns!$C$29,Dropdowns!$B$29,IF(I99=Dropdowns!$C$30,Dropdowns!$B$30,IF(I99=Dropdowns!$C$31,Dropdowns!$B$31,IF(I99=Dropdowns!$C$32,Dropdowns!$B$32,IF(I99=Dropdowns!$C$33,Dropdowns!$B$33,IF(I99=Dropdowns!$C$34,Dropdowns!$B$34,IF(I99=Dropdowns!$C$35,Dropdowns!$B$35,IF(I99=Dropdowns!$C$36,Dropdowns!$B$36,IF(I99=Dropdowns!$C$37,Dropdowns!$B$37,IF(I99=Dropdowns!$C$38,Dropdowns!$B$38,IF(I99=Dropdowns!$C$39,Dropdowns!$B$39,IF(I99=Dropdowns!$C$40,Dropdowns!$B$40,IF(I99=Dropdowns!$C$41,Dropdowns!$B$41,IF(I99=Dropdowns!$C$42,Dropdowns!$B$42,IF(I99=Dropdowns!$C$43,Dropdowns!$B$43,IF(I99=Dropdowns!$C$44,Dropdowns!$B$44,IF(I99=Dropdowns!$C$45,Dropdowns!$B$45,IF(I99=Dropdowns!$C$46,Dropdowns!$B$46,IF(I99=Dropdowns!$C$47,Dropdowns!$B$47, IF(I99=Dropdowns!$C$48,Dropdowns!$B$48,\"0\"))))))))))))))))))))))))))))))))))))))))))","v":0},{"$f":"IF(AX99=Dropdowns!$F$15,Dropdowns!$G$15,IF(AX99=Dropdowns!$F$16,Dropdowns!$G$16,IF(AX99=Dropdowns!$F$17,Dropdowns!$G$17,\"0\")))","v":"0"}]
[null,null,null,null,null,null,null,null,null,null,"-",null,null,null,null,null,null,null,null,null,null,0,null,null,null,null,null,0,null,null,null,null,null,null,0,null,null,null,null,0,0,null,0,0,0,0,"-",null,null,null,null,null,null,null,null,null,null,null,null,null,null,null,0,0,0,0,0,0,0,0,0,0,1,{"$f":"IFERROR(IF(L100=Dropdowns!$F$32,\"\",IF(J100=\"Project\",AR100/BT100,IF(J100=\"Program\",AP100/BT100,\"\"))),\"\")","v":""},"",null,null,null,null,null,null,null,null,null,{"$f":"IF($CA100=\"\",0,VLOOKUP($CA100,'Conversion Tables'!$B$37:$C$62,2,FALSE))+IF($CB100=\"\",0,VLOOKUP($CB100,'Conversion Tables'!$B$37:$C$62,2,FALSE))+IF($CC100=\"\",0,VLOOKUP($CC100,'Conversion Tables'!$B$37:$C$62,2,FALSE))+IF($CD100=\"\",0,VLOOKUP($CD100,'Conversion Tables'!$B$37:$C$62,2,FALSE))+IF($CE100=\"\",0,VLOOKUP($CE100,'Conversion Tables'!$B$37:$C$62,2,FALSE))+IF($CF100=\"\",0,VLOOKUP($CF100,'Conversion Tables'!$B$37:$C$62,2,FALSE))","v":0},null,null,null,null,null,null,{"$f":"IFERROR(VLOOKUP(CM100,Dropdowns!A$51:B$55,2,FALSE),\"\")","v":""},null,null,null,null,null,null,null,null,null,null,{"$f":"IFERROR(VLOOKUP(AZ100,'Conversion Tables'!$G$8:$N$12,3,FALSE)/'Conversion Tables'!$I$12*Max_Point,0)","v":0},{"$f":"CY100*'Weighting Scale'!$D$9*DS100*DT100","v":0},{"$f":"IFERROR(VLOOKUP(BB100,'Conversion Tables'!$B$8:$C$32,2,FALSE),0)","v":0},{"$f":"IFERROR(VLOOKUP(BC100,'Conversion Tables'!$B$8:$C$32,2,FALSE),0)","v":0},{"$f":"(DA100-DB100)/'Conversion Tables'!$C$32*Max_Point","v":0},{"$f":"DC100*'Weighting Scale'!$D$10*DS100*DT100","v":0},{"$f":"IFERROR(VLOOKUP(BE100,'Conversion Tables'!$G$8:$N$12,2, FALSE)/'Conversion Tables'!$H$12*Max_Point,0)","v":0},{"$f":"DE100*'Weighting Scale'!$D$11*DS100*DT100","v":0},{"$f":"IFERROR(VLOOKUP(BF100,'Conversion Tables'!$G$8:$N$12,6,FALSE)/'Conversion Tables'!$L$12*Max_Point,0)","v":0},{"$f":"DG100*'Weighting Scale'!$D$14*DS100*DT100","v":0},{"$f":"IFERROR(VLOOKUP(BG100,'Conversion Tables'!$G$8:$N$12,4,FALSE)/'Conversion Tables'!$J$12*Max_Point,0)","v":0},{"$f":"DI100*'Weighting Scale'!$D$12*DS100*DT100","v":0},{"$f":"IFERROR(VLOOKUP(BH100,'Conversion Tables'!$G$8:$N$12,5,FALSE)/'Conversion Tables'!$K$12*Max_Point,0)","v":0},{"$f":"DK100*'Weighting Scale'!$D$13*DS100*DT100","v":0},{"$f":"IFERROR(VLOOKUP(BI100,'Conversion Tables'!$G$8:$N$12,7,FALSE)/'Conversion Tables'!$M$12*Max_Point,0)","v":0},{"$f":"DM100*'Weighting Scale'!$D$15*DS100*DT100","v":0},{"$f":"IF(BJ100 = \"Yes\",('Conversion Tables'!$N$12)/'Conversion Tables'!$N$12*Max_Point,0)","v":0},{"$f":"DO100*'Weighting Scale'!$D$16*DS100*DT100","v":0},0,0,0,{"$f":"IF(I100=Dropdowns!$C$7,Dropdowns!$B$7,IF(I100=Dropdowns!$C$8,Dropdowns!$B$8,IF(I100=Dropdowns!$C$9,Dropdowns!$B$9,IF(I100=Dropdowns!$C$10,Dropdowns!$B$10,IF(I100=Dropdowns!$C$11,Dropdowns!$B$11,IF(I100=Dropdowns!$C$12,Dropdowns!$B$12,IF(I100=Dropdowns!$C$13,Dropdowns!$B$13,IF(I100=Dropdowns!$C$14,Dropdowns!$B$14,IF(I100=Dropdowns!$C$15,Dropdowns!$B$15,IF(I100=Dropdowns!$C$16,Dropdowns!$B$16,IF(I100=Dropdowns!$C$17,Dropdowns!$B$17,IF(I100=Dropdowns!$C$18,Dropdowns!$B$18,IF(I100=Dropdowns!$C$19,Dropdowns!$B$19,IF(I100=Dropdowns!$C$20,Dropdowns!$B$20,IF(I100=Dropdowns!$C$21,Dropdowns!$B$21,IF(I100=Dropdowns!$C$22,Dropdowns!$B$22,IF(I100=Dropdowns!$C$23,Dropdowns!$B$23,IF(I100=Dropdowns!$C$24,Dropdowns!$B$24,IF(I100=Dropdowns!$C$25,Dropdowns!$B$25,IF(I100=Dropdowns!$C$26,Dropdowns!$B$26,IF(I100=Dropdowns!$C$27,Dropdowns!$B$27,IF(I100=Dropdowns!$C$28,Dropdowns!$B$28,IF(I100=Dropdowns!$C$29,Dropdowns!$B$29,IF(I100=Dropdowns!$C$30,Dropdowns!$B$30,IF(I100=Dropdowns!$C$31,Dropdowns!$B$31,IF(I100=Dropdowns!$C$32,Dropdowns!$B$32,IF(I100=Dropdowns!$C$33,Dropdowns!$B$33,IF(I100=Dropdowns!$C$34,Dropdowns!$B$34,IF(I100=Dropdowns!$C$35,Dropdowns!$B$35,IF(I100=Dropdowns!$C$36,Dropdowns!$B$36,IF(I100=Dropdowns!$C$37,Dropdowns!$B$37,IF(I100=Dropdowns!$C$38,Dropdowns!$B$38,IF(I100=Dropdowns!$C$39,Dropdowns!$B$39,IF(I100=Dropdowns!$C$40,Dropdowns!$B$40,IF(I100=Dropdowns!$C$41,Dropdowns!$B$41,IF(I100=Dropdowns!$C$42,Dropdowns!$B$42,IF(I100=Dropdowns!$C$43,Dropdowns!$B$43,IF(I100=Dropdowns!$C$44,Dropdowns!$B$44,IF(I100=Dropdowns!$C$45,Dropdowns!$B$45,IF(I100=Dropdowns!$C$46,Dropdowns!$B$46,IF(I100=Dropdowns!$C$47,Dropdowns!$B$47, IF(I100=Dropdowns!$C$48,Dropdowns!$B$48,\"0\"))))))))))))))))))))))))))))))))))))))))))","v":0},{"$f":"IF(AX100=Dropdowns!$F$15,Dropdowns!$G$15,IF(AX100=Dropdowns!$F$16,Dropdowns!$G$16,IF(AX100=Dropdowns!$F$17,Dropdowns!$G$17,\"0\")))","v":"0"}]
[null,null,null,null,null,null,null,null,null,null,"-",null,null,null,null,null,null,null,null,null,null,0,null,null,null,null,null,0,null,null,null,null,null,null,0,null,null,null,null,0,0,null,0,0,0,0,"-",null,null,null,null,null,null,null,null,null,null,null,null,null,null,null,0,0,0,0,0,0,0,0,0,0,1,{"$f":"IFERROR(IF(L101=Dropdowns!$F$32,\"\",IF(J101=\"Project\",AR101/BT101,IF(J101=\"Program\",AP101/BT101,\"\"))),\"\")","v":""},"",null,null,null,null,null,null,null,null,null,{"$f":"IF($CA101=\"\",0,VLOOKUP($CA101,'Conversion Tables'!$B$37:$C$62,2,FALSE))+IF($CB101=\"\",0,VLOOKUP($CB101,'Conversion Tables'!$B$37:$C$62,2,FALSE))+IF($CC101=\"\",0,VLOOKUP($CC101,'Conversion Tables'!$B$37:$C$62,2,FALSE))+IF($CD101=\"\",0,VLOOKUP($CD101,'Conversion Tables'!$B$37:$C$62,2,FALSE))+IF($CE101=\"\",0,VLOOKUP($CE101,'Conversion Tables'!$B$37:$C$62,2,FALSE))+IF($CF101=\"\",0,VLOOKUP($CF101,'Conversion Tables'!$B$37:$C$62,2,FALSE))","v":0},null,null,null,null,null,null,{"$f":"IFERROR(VLOOKUP(CM101,Dropdowns!A$51:B$55,2,FALSE),\"\")","v":""},null,null,null,null,null,null,null,null,null,null,{"$f":"IFERROR(VLOOKUP(AZ101,'Conversion Tables'!$G$8:$N$12,3,FALSE)/'Conversion Tables'!$I$12*Max_Point,0)","v":0},{"$f":"CY101*'Weighting Scale'!$D$9*DS101*DT101","v":0},{"$f":"IFERROR(VLOOKUP(BB101,'Conversion Tables'!$B$8:$C$32,2,FALSE),0)","v":0},{"$f":"IFERROR(VLOOKUP(BC101,'Conversion Tables'!$B$8:$C$32,2,FALSE),0)","v":0},{"$f":"(DA101-DB101)/'Conversion Tables'!$C$32*Max_Point","v":0},{"$f":"DC101*'Weighting Scale'!$D$10*DS101*DT101","v":0},{"$f":"IFERROR(VLOOKUP(BE101,'Conversion Tables'!$G$8:$N$12,2, FALSE)/'Conversion Tables'!$H$12*Max_Point,0)","v":0},{"$f":"DE101*'Weighting Scale'!$D$11*DS101*DT101","v":0},{"$f":"IFERROR(VLOOKUP(BF101,'Conversion Tables'!$G$8:$N$12,6,FALSE)/'Conversion Tables'!$L$12*Max_Point,0)","v":0},{"$f":"DG101*'Weighting Scale'!$D$14*DS101*DT101","v":0},{"$f":"IFERROR(VLOOKUP(BG101,'Conversion Tables'!$G$8:$N$12,4,FALSE)/'Conversion Tables'!$J$12*Max_Point,0)","v":0},{"$f":"DI101*'Weighting Scale'!$D$12*DS101*DT101","v":0},{"$f":"IFERROR(VLOOKUP(BH101,'Conversion Tables'!$G$8:$N$12,5,FALSE)/'Conversion Tables'!$K$12*Max_Point,0)","v":0},{"$f":"DK101*'Weighting Scale'!$D$13*DS101*DT101","v":0},{"$f":"IFERROR(VLOOKUP(BI101,'Conversion Tables'!$G$8:$N$12,7,FALSE)/'Conversion Tables'!$M$12*Max_Point,0)","v":0},{"$f":"DM101*'Weighting Scale'!$D$15*DS101*DT101","v":0},{"$f":"IF(BJ101 = \"Yes\",('Conversion Tables'!$N$12)/'Conversion Tables'!$N$12*Max_Point,0)","v":0},{"$f":"DO101*'Weighting Scale'!$D$16*DS101*DT101","v":0},0,0,0,{"$f":"IF(I101=Dropdowns!$C$7,Dropdowns!$B$7,IF(I101=Dropdowns!$C$8,Dropdowns!$B$8,IF(I101=Dropdowns!$C$9,Dropdowns!$B$9,IF(I101=Dropdowns!$C$10,Dropdowns!$B$10,IF(I101=Dropdowns!$C$11,Dropdowns!$B$11,IF(I101=Dropdowns!$C$12,Dropdowns!$B$12,IF(I101=Dropdowns!$C$13,Dropdowns!$B$13,IF(I101=Dropdowns!$C$14,Dropdowns!$B$14,IF(I101=Dropdowns!$C$15,Dropdowns!$B$15,IF(I101=Dropdowns!$C$16,Dropdowns!$B$16,IF(I101=Dropdowns!$C$17,Dropdowns!$B$17,IF(I101=Dropdowns!$C$18,Dropdowns!$B$18,IF(I101=Dropdowns!$C$19,Dropdowns!$B$19,IF(I101=Dropdowns!$C$20,Dropdowns!$B$20,IF(I101=Dropdowns!$C$21,Dropdowns!$B$21,IF(I101=Dropdowns!$C$22,Dropdowns!$B$22,IF(I101=Dropdowns!$C$23,Dropdowns!$B$23,IF(I101=Dropdowns!$C$24,Dropdowns!$B$24,IF(I101=Dropdowns!$C$25,Dropdowns!$B$25,IF(I101=Dropdowns!$C$26,Dropdowns!$B$26,IF(I101=Dropdowns!$C$27,Dropdowns!$B$27,IF(I101=Dropdowns!$C$28,Dropdowns!$B$28,IF(I101=Dropdowns!$C$29,Dropdowns!$B$29,IF(I101=Dropdowns!$C$30,Dropdowns!$B$30,IF(I101=Dropdowns!$C$31,Dropdowns!$B$31,IF(I101=Dropdowns!$C$32,Dropdowns!$B$32,IF(I101=Dropdowns!$C$33,Dropdowns!$B$33,IF(I101=Dropdowns!$C$34,Dropdowns!$B$34,IF(I101=Dropdowns!$C$35,Dropdowns!$B$35,IF(I101=Dropdowns!$C$36,Dropdowns!$B$36,IF(I101=Dropdowns!$C$37,Dropdowns!$B$37,IF(I101=Dropdowns!$C$38,Dropdowns!$B$38,IF(I101=Dropdowns!$C$39,Dropdowns!$B$39,IF(I101=Dropdowns!$C$40,Dropdowns!$B$40,IF(I101=Dropdowns!$C$41,Dropdowns!$B$41,IF(I101=Dropdowns!$C$42,Dropdowns!$B$42,IF(I101=Dropdowns!$C$43,Dropdowns!$B$43,IF(I101=Dropdowns!$C$44,Dropdowns!$B$44,IF(I101=Dropdowns!$C$45,Dropdowns!$B$45,IF(I101=Dropdowns!$C$46,Dropdowns!$B$46,IF(I101=Dropdowns!$C$47,Dropdowns!$B$47, IF(I101=Dropdowns!$C$48,Dropdowns!$B$48,\"0\"))))))))))))))))))))))))))))))))))))))))))","v":0},{"$f":"IF(AX101=Dropdowns!$F$15,Dropdowns!$G$15,IF(AX101=Dropdowns!$F$16,Dropdowns!$G$16,IF(AX101=Dropdowns!$F$17,Dropdowns!$G$17,\"0\")))","v":"0"}]
[null,null,null,null,null,null,null,null,null,null,"-",null,null,null,null,null,null,null,null,null,null,0,null,null,null,null,null,0,null,null,null,null,null,null,0,null,null,null,null,0,0,null,0,0,0,0,"-",null,null,null,null,null,null,null,null,null,null,null,null,null,null,null,0,0,0,0,0,0,0,0,0,0,1,{"$f":"IFERROR(IF(L102=Dropdowns!$F$32,\"\",IF(J102=\"Project\",AR102/BT102,IF(J102=\"Program\",AP102/BT102,\"\"))),\"\")","v":""},"",null,null,null,null,null,null,null,null,null,{"$f":"IF($CA102=\"\",0,VLOOKUP($CA102,'Conversion Tables'!$B$37:$C$62,2,FALSE))+IF($CB102=\"\",0,VLOOKUP($CB102,'Conversion Tables'!$B$37:$C$62,2,FALSE))+IF($CC102=\"\",0,VLOOKUP($CC102,'Conversion Tables'!$B$37:$C$62,2,FALSE))+IF($CD102=\"\",0,VLOOKUP($CD102,'Conversion Tables'!$B$37:$C$62,2,FALSE))+IF($CE102=\"\",0,VLOOKUP($CE102,'Conversion Tables'!$B$37:$C$62,2,FALSE))+IF($CF102=\"\",0,VLOOKUP($CF102,'Conversion Tables'!$B$37:$C$62,2,FALSE))","v":0},null,null,null,null,null,null,{"$f":"IFERROR(VLOOKUP(CM102,Dropdowns!A$51:B$55,2,FALSE),\"\")","v":""},null,null,null,null,null,null,null,null,null,null,{"$f":"IFERROR(VLOOKUP(AZ102,'Conversion Tables'!$G$8:$N$12,3,FALSE)/'Conversion Tables'!$I$12*Max_Point,0)","v":0},{"$f":"CY102*'Weighting Scale'!$D$9*DS102*DT102","v":0},{"$f":"IFERROR(VLOOKUP(BB102,'Conversion Tables'!$B$8:$C$32,2,FALSE),0)","v":0},{"$f":"IFERROR(VLOOKUP(BC102,'Conversion Tables'!$B$8:$C$32,2,FALSE),0)","v":0},{"$f":"(DA102-DB102)/'Conversion Tables'!$C$32*Max_Point","v":0},{"$f":"DC102*'Weighting Scale'!$D$10*DS102*DT102","v":0},{"$f":"IFERROR(VLOOKUP(BE102,'Conversion Tables'!$G$8:$N$12,2, FALSE)/'Conversion Tables'!$H$12*Max_Point,0)","v":0},{"$f":"DE102*'Weighting Scale'!$D$11*DS102*DT102","v":0},{"$f":"IFERROR(VLOOKUP(BF102,'Conversion Tables'!$G$8:$N$12,6,FALSE)/'Conversion Tables'!$L$12*Max_Point,0)","v":0},{"$f":"DG102*'Weighting Scale'!$D$14*DS102*DT102","v":0},{"$f":"IFERROR(VLOOKUP(BG102,'Conversion Tables'!$G$8:$N$12,4,FALSE)/'Conversion Tables'!$J$12*Max_Point,0)","v":0},{"$f":"DI102*'Weighting Scale'!$D$12*DS102*DT102","v":0},{"$f":"IFERROR(VLOOKUP(BH102,'Conversion Tables'!$G$8:$N$12,5,FALSE)/'Conversion Tables'!$K$12*Max_Point,0)","v":0},{"$f":"DK102*'Weighting Scale'!$D$13*DS102*DT102","v":0},{"$f":"IFERROR(VLOOKUP(BI102,'Conversion Tables'!$G$8:$N$12,7,FALSE)/'Conversion Tables'!$M$12*Max_Point,0)","v":0},{"$f":"DM102*'Weighting Scale'!$D$15*DS102*DT102","v":0},{"$f":"IF(BJ102 = \"Yes\",('Conversion Tables'!$N$12)/'Conversion Tables'!$N$12*Max_Point,0)","v":0},{"$f":"DO102*'Weighting Scale'!$D$16*DS102*DT102","v":0},0,0,0,{"$f":"IF(I102=Dropdowns!$C$7,Dropdowns!$B$7,IF(I102=Dropdowns!$C$8,Dropdowns!$B$8,IF(I102=Dropdowns!$C$9,Dropdowns!$B$9,IF(I102=Dropdowns!$C$10,Dropdowns!$B$10,IF(I102=Dropdowns!$C$11,Dropdowns!$B$11,IF(I102=Dropdowns!$C$12,Dropdowns!$B$12,IF(I102=Dropdowns!$C$13,Dropdowns!$B$13,IF(I102=Dropdowns!$C$14,Dropdowns!$B$14,IF(I102=Dropdowns!$C$15,Dropdowns!$B$15,IF(I102=Dropdowns!$C$16,Dropdowns!$B$16,IF(I102=Dropdowns!$C$17,Dropdowns!$B$17,IF(I102=Dropdowns!$C$18,Dropdowns!$B$18,IF(I102=Dropdowns!$C$19,Dropdowns!$B$19,IF(I102=Dropdowns!$C$20,Dropdowns!$B$20,IF(I102=Dropdowns!$C$21,Dropdowns!$B$21,IF(I102=Dropdowns!$C$22,Dropdowns!$B$22,IF(I102=Dropdowns!$C$23,Dropdowns!$B$23,IF(I102=Dropdowns!$C$24,Dropdowns!$B$24,IF(I102=Dropdowns!$C$25,Dropdowns!$B$25,IF(I102=Dropdowns!$C$26,Dropdowns!$B$26,IF(I102=Dropdowns!$C$27,Dropdowns!$B$27,IF(I102=Dropdowns!$C$28,Dropdowns!$B$28,IF(I102=Dropdowns!$C$29,Dropdowns!$B$29,IF(I102=Dropdowns!$C$30,Dropdowns!$B$30,IF(I102=Dropdowns!$C$31,Dropdowns!$B$31,IF(I102=Dropdowns!$C$32,Dropdowns!$B$32,IF(I102=Dropdowns!$C$33,Dropdowns!$B$33,IF(I102=Dropdowns!$C$34,Dropdowns!$B$34,IF(I102=Dropdowns!$C$35,Dropdowns!$B$35,IF(I102=Dropdowns!$C$36,Dropdowns!$B$36,IF(I102=Dropdowns!$C$37,Dropdowns!$B$37,IF(I102=Dropdowns!$C$38,Dropdowns!$B$38,IF(I102=Dropdowns!$C$39,Dropdowns!$B$39,IF(I102=Dropdowns!$C$40,Dropdowns!$B$40,IF(I102=Dropdowns!$C$41,Dropdowns!$B$41,IF(I102=Dropdowns!$C$42,Dropdowns!$B$42,IF(I102=Dropdowns!$C$43,Dropdowns!$B$43,IF(I102=Dropdowns!$C$44,Dropdowns!$B$44,IF(I102=Dropdowns!$C$45,Dropdowns!$B$45,IF(I102=Dropdowns!$C$46,Dropdowns!$B$46,IF(I102=Dropdowns!$C$47,Dropdowns!$B$47, IF(I102=Dropdowns!$C$48,Dropdowns!$B$48,\"0\"))))))))))))))))))))))))))))))))))))))))))","v":0},{"$f":"IF(AX102=Dropdowns!$F$15,Dropdowns!$G$15,IF(AX102=Dropdowns!$F$16,Dropdowns!$G$16,IF(AX102=Dropdowns!$F$17,Dropdowns!$G$17,\"0\")))","v":"0"}]
[null,null,null,null,null,null,null,null,null,null,"-",null,null,null,null,null,null,null,null,null,null,0,null,null,null,null,null,0,null,null,null,null,null,null,0,null,null,null,null,0,0,null,0,0,0,0,"-",null,null,null,null,null,null,null,null,null,null,null,null,null,null,null,0,0,0,0,0,0,0,0,0,0,1,{"$f":"IFERROR(IF(L103=Dropdowns!$F$32,\"\",IF(J103=\"Project\",AR103/BT103,IF(J103=\"Program\",AP103/BT103,\"\"))),\"\")","v":""},"",null,null,null,null,null,null,null,null,null,{"$f":"IF($CA103=\"\",0,VLOOKUP($CA103,'Conversion Tables'!$B$37:$C$62,2,FALSE))+IF($CB103=\"\",0,VLOOKUP($CB103,'Conversion Tables'!$B$37:$C$62,2,FALSE))+IF($CC103=\"\",0,VLOOKUP($CC103,'Conversion Tables'!$B$37:$C$62,2,FALSE))+IF($CD103=\"\",0,VLOOKUP($CD103,'Conversion Tables'!$B$37:$C$62,2,FALSE))+IF($CE103=\"\",0,VLOOKUP($CE103,'Conversion Tables'!$B$37:$C$62,2,FALSE))+IF($CF103=\"\",0,VLOOKUP($CF103,'Conversion Tables'!$B$37:$C$62,2,FALSE))","v":0},null,null,null,null,null,null,{"$f":"IFERROR(VLOOKUP(CM103,Dropdowns!A$51:B$55,2,FALSE),\"\")","v":""},null,null,null,null,null,null,null,null,null,null,{"$f":"IFERROR(VLOOKUP(AZ103,'Conversion Tables'!$G$8:$N$12,3,FALSE)/'Conversion Tables'!$I$12*Max_Point,0)","v":0},{"$f":"CY103*'Weighting Scale'!$D$9*DS103*DT103","v":0},{"$f":"IFERROR(VLOOKUP(BB103,'Conversion Tables'!$B$8:$C$32,2,FALSE),0)","v":0},{"$f":"IFERROR(VLOOKUP(BC103,'Conversion Tables'!$B$8:$C$32,2,FALSE),0)","v":0},{"$f":"(DA103-DB103)/'Conversion Tables'!$C$32*Max_Point","v":0},{"$f":"DC103*'Weighting Scale'!$D$10*DS103*DT103","v":0},{"$f":"IFERROR(VLOOKUP(BE103,'Conversion Tables'!$G$8:$N$12,2, FALSE)/'Conversion Tables'!$H$12*Max_Point,0)","v":0},{"$f":"DE103*'Weighting Scale'!$D$11*DS103*DT103","v":0},{"$f":"IFERROR(VLOOKUP(BF103,'Conversion Tables'!$G$8:$N$12,6,FALSE)/'Conversion Tables'!$L$12*Max_Point,0)","v":0},{"$f":"DG103*'Weighting Scale'!$D$14*DS103*DT103","v":0},{"$f":"IFERROR(VLOOKUP(BG103,'Conversion Tables'!$G$8:$N$12,4,FALSE)/'Conversion Tables'!$J$12*Max_Point,0)","v":0},{"$f":"DI103*'Weighting Scale'!$D$12*DS103*DT103","v":0},{"$f":"IFERROR(VLOOKUP(BH103,'Conversion Tables'!$G$8:$N$12,5,FALSE)/'Conversion Tables'!$K$12*Max_Point,0)","v":0},{"$f":"DK103*'Weighting Scale'!$D$13*DS103*DT103","v":0},{"$f":"IFERROR(VLOOKUP(BI103,'Conversion Tables'!$G$8:$N$12,7,FALSE)/'Conversion Tables'!$M$12*Max_Point,0)","v":0},{"$f":"DM103*'Weighting Scale'!$D$15*DS103*DT103","v":0},{"$f":"IF(BJ103 = \"Yes\",('Conversion Tables'!$N$12)/'Conversion Tables'!$N$12*Max_Point,0)","v":0},{"$f":"DO103*'Weighting Scale'!$D$16*DS103*DT103","v":0},0,0,0,{"$f":"IF(I103=Dropdowns!$C$7,Dropdowns!$B$7,IF(I103=Dropdowns!$C$8,Dropdowns!$B$8,IF(I103=Dropdowns!$C$9,Dropdowns!$B$9,IF(I103=Dropdowns!$C$10,Dropdowns!$B$10,IF(I103=Dropdowns!$C$11,Dropdowns!$B$11,IF(I103=Dropdowns!$C$12,Dropdowns!$B$12,IF(I103=Dropdowns!$C$13,Dropdowns!$B$13,IF(I103=Dropdowns!$C$14,Dropdowns!$B$14,IF(I103=Dropdowns!$C$15,Dropdowns!$B$15,IF(I103=Dropdowns!$C$16,Dropdowns!$B$16,IF(I103=Dropdowns!$C$17,Dropdowns!$B$17,IF(I103=Dropdowns!$C$18,Dropdowns!$B$18,IF(I103=Dropdowns!$C$19,Dropdowns!$B$19,IF(I103=Dropdowns!$C$20,Dropdowns!$B$20,IF(I103=Dropdowns!$C$21,Dropdowns!$B$21,IF(I103=Dropdowns!$C$22,Dropdowns!$B$22,IF(I103=Dropdowns!$C$23,Dropdowns!$B$23,IF(I103=Dropdowns!$C$24,Dropdowns!$B$24,IF(I103=Dropdowns!$C$25,Dropdowns!$B$25,IF(I103=Dropdowns!$C$26,Dropdowns!$B$26,IF(I103=Dropdowns!$C$27,Dropdowns!$B$27,IF(I103=Dropdowns!$C$28,Dropdowns!$B$28,IF(I103=Dropdowns!$C$29,Dropdowns!$B$29,IF(I103=Dropdowns!$C$30,Dropdowns!$B$30,IF(I103=Dropdowns!$C$31,Dropdowns!$B$31,IF(I103=Dropdowns!$C$32,Dropdowns!$B$32,IF(I103=Dropdowns!$C$33,Dropdowns!$B$33,IF(I103=Dropdowns!$C$34,Dropdowns!$B$34,IF(I103=Dropdowns!$C$35,Dropdowns!$B$35,IF(I103=Dropdowns!$C$36,Dropdowns!$B$36,IF(I103=Dropdowns!$C$37,Dropdowns!$B$37,IF(I103=Dropdowns!$C$38,Dropdowns!$B$38,IF(I103=Dropdowns!$C$39,Dropdowns!$B$39,IF(I103=Dropdowns!$C$40,Dropdowns!$B$40,IF(I103=Dropdowns!$C$41,Dropdowns!$B$41,IF(I103=Dropdowns!$C$42,Dropdowns!$B$42,IF(I103=Dropdowns!$C$43,Dropdowns!$B$43,IF(I103=Dropdowns!$C$44,Dropdowns!$B$44,IF(I103=Dropdowns!$C$45,Dropdowns!$B$45,IF(I103=Dropdowns!$C$46,Dropdowns!$B$46,IF(I103=Dropdowns!$C$47,Dropdowns!$B$47, IF(I103=Dropdowns!$C$48,Dropdowns!$B$48,\"0\"))))))))))))))))))))))))))))))))))))))))))","v":0},{"$f":"IF(AX103=Dropdowns!$F$15,Dropdowns!$G$15,IF(AX103=Dropdowns!$F$16,Dropdowns!$G$16,IF(AX103=Dropdowns!$F$17,Dropdowns!$G$17,\"0\")))","v":"0"}]
[null,null,null,null,null,null,null,null,null,null,"-",null,null,null,null,null,null,null,null,null,null,0,null,null,null,null,null,0,null,null,null,null,null,null,0,null,null,null,null,0,0,null,0,0,0,0,"-",null,null,null,null,null,null,null,null,null,null,null,null,null,null,null,0,0,0,0,0,0,0,0,0,0,1,{"$f":"IFERROR(IF(L104=Dropdowns!$F$32,\"\",IF(J104=\"Project\",AR104/BT104,IF(J104=\"Program\",AP104/BT104,\"\"))),\"\")","v":""},"",null,null,null,null,null,null,null,null,null,{"$f":"IF($CA104=\"\",0,VLOOKUP($CA104,'Conversion Tables'!$B$37:$C$62,2,FALSE))+IF($CB104=\"\",0,VLOOKUP($CB104,'Conversion Tables'!$B$37:$C$62,2,FALSE))+IF($CC104=\"\",0,VLOOKUP($CC104,'Conversion Tables'!$B$37:$C$62,2,FALSE))+IF($CD104=\"\",0,VLOOKUP($CD104,'Conversion Tables'!$B$37:$C$62,2,FALSE))+IF($CE104=\"\",0,VLOOKUP($CE104,'Conversion Tables'!$B$37:$C$62,2,FALSE))+IF($CF104=\"\",0,VLOOKUP($CF104,'Conversion Tables'!$B$37:$C$62,2,FALSE))","v":0},null,null,null,null,null,null,{"$f":"IFERROR(VLOOKUP(CM104,Dropdowns!A$51:B$55,2,FALSE),\"\")","v":""},null,null,null,null,null,null,null,null,null,null,{"$f":"IFERROR(VLOOKUP(AZ104,'Conversion Tables'!$G$8:$N$12,3,FALSE)/'Conversion Tables'!$I$12*Max_Point,0)","v":0},{"$f":"CY104*'Weighting Scale'!$D$9*DS104*DT104","v":0},{"$f":"IFERROR(VLOOKUP(BB104,'Conversion Tables'!$B$8:$C$32,2,FALSE),0)","v":0},{"$f":"IFERROR(VLOOKUP(BC104,'Conversion Tables'!$B$8:$C$32,2,FALSE),0)","v":0},{"$f":"(DA104-DB104)/'Conversion Tables'!$C$32*Max_Point","v":0},{"$f":"DC104*'Weighting Scale'!$D$10*DS104*DT104","v":0},{"$f":"IFERROR(VLOOKUP(BE104,'Conversion Tables'!$G$8:$N$12,2, FALSE)/'Conversion Tables'!$H$12*Max_Point,0)","v":0},{"$f":"DE104*'Weighting Scale'!$D$11*DS104*DT104","v":0},{"$f":"IFERROR(VLOOKUP(BF104,'Conversion Tables'!$G$8:$N$12,6,FALSE)/'Conversion Tables'!$L$12*Max_Point,0)","v":0},{"$f":"DG104*'Weighting Scale'!$D$14*DS104*DT104","v":0},{"$f":"IFERROR(VLOOKUP(BG104,'Conversion Tables'!$G$8:$N$12,4,FALSE)/'Conversion Tables'!$J$12*Max_Point,0)","v":0},{"$f":"DI104*'Weighting Scale'!$D$12*DS104*DT104","v":0},{"$f":"IFERROR(VLOOKUP(BH104,'Conversion Tables'!$G$8:$N$12,5,FALSE)/'Conversion Tables'!$K$12*Max_Point,0)","v":0},{"$f":"DK104*'Weighting Scale'!$D$13*DS104*DT104","v":0},{"$f":"IFERROR(VLOOKUP(BI104,'Conversion Tables'!$G$8:$N$12,7,FALSE)/'Conversion Tables'!$M$12*Max_Point,0)","v":0},{"$f":"DM104*'Weighting Scale'!$D$15*DS104*DT104","v":0},{"$f":"IF(BJ104 = \"Yes\",('Conversion Tables'!$N$12)/'Conversion Tables'!$N$12*Max_Point,0)","v":0},{"$f":"DO104*'Weighting Scale'!$D$16*DS104*DT104","v":0},0,0,0,{"$f":"IF(I104=Dropdowns!$C$7,Dropdowns!$B$7,IF(I104=Dropdowns!$C$8,Dropdowns!$B$8,IF(I104=Dropdowns!$C$9,Dropdowns!$B$9,IF(I104=Dropdowns!$C$10,Dropdowns!$B$10,IF(I104=Dropdowns!$C$11,Dropdowns!$B$11,IF(I104=Dropdowns!$C$12,Dropdowns!$B$12,IF(I104=Dropdowns!$C$13,Dropdowns!$B$13,IF(I104=Dropdowns!$C$14,Dropdowns!$B$14,IF(I104=Dropdowns!$C$15,Dropdowns!$B$15,IF(I104=Dropdowns!$C$16,Dropdowns!$B$16,IF(I104=Dropdowns!$C$17,Dropdowns!$B$17,IF(I104=Dropdowns!$C$18,Dropdowns!$B$18,IF(I104=Dropdowns!$C$19,Dropdowns!$B$19,IF(I104=Dropdowns!$C$20,Dropdowns!$B$20,IF(I104=Dropdowns!$C$21,Dropdowns!$B$21,IF(I104=Dropdowns!$C$22,Dropdowns!$B$22,IF(I104=Dropdowns!$C$23,Dropdowns!$B$23,IF(I104=Dropdowns!$C$24,Dropdowns!$B$24,IF(I104=Dropdowns!$C$25,Dropdowns!$B$25,IF(I104=Dropdowns!$C$26,Dropdowns!$B$26,IF(I104=Dropdowns!$C$27,Dropdowns!$B$27,IF(I104=Dropdowns!$C$28,Dropdowns!$B$28,IF(I104=Dropdowns!$C$29,Dropdowns!$B$29,IF(I104=Dropdowns!$C$30,Dropdowns!$B$30,IF(I104=Dropdowns!$C$31,Dropdowns!$B$31,IF(I104=Dropdowns!$C$32,Dropdowns!$B$32,IF(I104=Dropdowns!$C$33,Dropdowns!$B$33,IF(I104=Dropdowns!$C$34,Dropdowns!$B$34,IF(I104=Dropdowns!$C$35,Dropdowns!$B$35,IF(I104=Dropdowns!$C$36,Dropdowns!$B$36,IF(I104=Dropdowns!$C$37,Dropdowns!$B$37,IF(I104=Dropdowns!$C$38,Dropdowns!$B$38,IF(I104=Dropdowns!$C$39,Dropdowns!$B$39,IF(I104=Dropdowns!$C$40,Dropdowns!$B$40,IF(I104=Dropdowns!$C$41,Dropdowns!$B$41,IF(I104=Dropdowns!$C$42,Dropdowns!$B$42,IF(I104=Dropdowns!$C$43,Dropdowns!$B$43,IF(I104=Dropdowns!$C$44,Dropdowns!$B$44,IF(I104=Dropdowns!$C$45,Dropdowns!$B$45,IF(I104=Dropdowns!$C$46,Dropdowns!$B$46,IF(I104=Dropdowns!$C$47,Dropdowns!$B$47, IF(I104=Dropdowns!$C$48,Dropdowns!$B$48,\"0\"))))))))))))))))))))))))))))))))))))))))))","v":0},{"$f":"IF(AX104=Dropdowns!$F$15,Dropdowns!$G$15,IF(AX104=Dropdowns!$F$16,Dropdowns!$G$16,IF(AX104=Dropdowns!$F$17,Dropdowns!$G$17,\"0\")))","v":"0"}]
[null,null,null,null,null,null,null,null,null,null,"-",null,null,null,null,null,null,null,null,null,null,0,null,null,null,null,null,0,null,null,null,null,null,null,0,null,null,null,null,0,0,null,0,0,0,0,"-",null,null,null,null,null,null,null,null,null,null,null,null,null,null,null,0,0,0,0,0,0,0,0,0,0,1,{"$f":"IFERROR(IF(L105=Dropdowns!$F$32,\"\",IF(J105=\"Project\",AR105/BT105,IF(J105=\"Program\",AP105/BT105,\"\"))),\"\")","v":""},"",null,null,null,null,null,null,null,null,null,{"$f":"IF($CA105=\"\",0,VLOOKUP($CA105,'Conversion Tables'!$B$37:$C$62,2,FALSE))+IF($CB105=\"\",0,VLOOKUP($CB105,'Conversion Tables'!$B$37:$C$62,2,FALSE))+IF($CC105=\"\",0,VLOOKUP($CC105,'Conversion Tables'!$B$37:$C$62,2,FALSE))+IF($CD105=\"\",0,VLOOKUP($CD105,'Conversion Tables'!$B$37:$C$62,2,FALSE))+IF($CE105=\"\",0,VLOOKUP($CE105,'Conversion Tables'!$B$37:$C$62,2,FALSE))+IF($CF105=\"\",0,VLOOKUP($CF105,'Conversion Tables'!$B$37:$C$62,2,FALSE))","v":0},null,null,null,null,null,null,{"$f":"IFERROR(VLOOKUP(CM105,Dropdowns!A$51:B$55,2,FALSE),\"\")","v":""},null,null,null,null,null,null,null,null,null,null,{"$f":"IFERROR(VLOOKUP(AZ105,'Conversion Tables'!$G$8:$N$12,3,FALSE)/'Conversion Tables'!$I$12*Max_Point,0)","v":0},{"$f":"CY105*'Weighting Scale'!$D$9*DS105*DT105","v":0},{"$f":"IFERROR(VLOOKUP(BB105,'Conversion Tables'!$B$8:$C$32,2,FALSE),0)","v":0},{"$f":"IFERROR(VLOOKUP(BC105,'Conversion Tables'!$B$8:$C$32,2,FALSE),0)","v":0},{"$f":"(DA105-DB105)/'Conversion Tables'!$C$32*Max_Point","v":0},{"$f":"DC105*'Weighting Scale'!$D$10*DS105*DT105","v":0},{"$f":"IFERROR(VLOOKUP(BE105,'Conversion Tables'!$G$8:$N$12,2, FALSE)/'Conversion Tables'!$H$12*Max_Point,0)","v":0},{"$f":"DE105*'Weighting Scale'!$D$11*DS105*DT105","v":0},{"$f":"IFERROR(VLOOKUP(BF105,'Conversion Tables'!$G$8:$N$12,6,FALSE)/'Conversion Tables'!$L$12*Max_Point,0)","v":0},{"$f":"DG105*'Weighting Scale'!$D$14*DS105*DT105","v":0},{"$f":"IFERROR(VLOOKUP(BG105,'Conversion Tables'!$G$8:$N$12,4,FALSE)/'Conversion Tables'!$J$12*Max_Point,0)","v":0},{"$f":"DI105*'Weighting Scale'!$D$12*DS105*DT105","v":0},{"$f":"IFERROR(VLOOKUP(BH105,'Conversion Tables'!$G$8:$N$12,5,FALSE)/'Conversion Tables'!$K$12*Max_Point,0)","v":0},{"$f":"DK105*'Weighting Scale'!$D$13*DS105*DT105","v":0},{"$f":"IFERROR(VLOOKUP(BI105,'Conversion Tables'!$G$8:$N$12,7,FALSE)/'Conversion Tables'!$M$12*Max_Point,0)","v":0},{"$f":"DM105*'Weighting Scale'!$D$15*DS105*DT105","v":0},{"$f":"IF(BJ105 = \"Yes\",('Conversion Tables'!$N$12)/'Conversion Tables'!$N$12*Max_Point,0)","v":0},{"$f":"DO105*'Weighting Scale'!$D$16*DS105*DT105","v":0},0,0,0,{"$f":"IF(I105=Dropdowns!$C$7,Dropdowns!$B$7,IF(I105=Dropdowns!$C$8,Dropdowns!$B$8,IF(I105=Dropdowns!$C$9,Dropdowns!$B$9,IF(I105=Dropdowns!$C$10,Dropdowns!$B$10,IF(I105=Dropdowns!$C$11,Dropdowns!$B$11,IF(I105=Dropdowns!$C$12,Dropdowns!$B$12,IF(I105=Dropdowns!$C$13,Dropdowns!$B$13,IF(I105=Dropdowns!$C$14,Dropdowns!$B$14,IF(I105=Dropdowns!$C$15,Dropdowns!$B$15,IF(I105=Dropdowns!$C$16,Dropdowns!$B$16,IF(I105=Dropdowns!$C$17,Dropdowns!$B$17,IF(I105=Dropdowns!$C$18,Dropdowns!$B$18,IF(I105=Dropdowns!$C$19,Dropdowns!$B$19,IF(I105=Dropdowns!$C$20,Dropdowns!$B$20,IF(I105=Dropdowns!$C$21,Dropdowns!$B$21,IF(I105=Dropdowns!$C$22,Dropdowns!$B$22,IF(I105=Dropdowns!$C$23,Dropdowns!$B$23,IF(I105=Dropdowns!$C$24,Dropdowns!$B$24,IF(I105=Dropdowns!$C$25,Dropdowns!$B$25,IF(I105=Dropdowns!$C$26,Dropdowns!$B$26,IF(I105=Dropdowns!$C$27,Dropdowns!$B$27,IF(I105=Dropdowns!$C$28,Dropdowns!$B$28,IF(I105=Dropdowns!$C$29,Dropdowns!$B$29,IF(I105=Dropdowns!$C$30,Dropdowns!$B$30,IF(I105=Dropdowns!$C$31,Dropdowns!$B$31,IF(I105=Dropdowns!$C$32,Dropdowns!$B$32,IF(I105=Dropdowns!$C$33,Dropdowns!$B$33,IF(I105=Dropdowns!$C$34,Dropdowns!$B$34,IF(I105=Dropdowns!$C$35,Dropdowns!$B$35,IF(I105=Dropdowns!$C$36,Dropdowns!$B$36,IF(I105=Dropdowns!$C$37,Dropdowns!$B$37,IF(I105=Dropdowns!$C$38,Dropdowns!$B$38,IF(I105=Dropdowns!$C$39,Dropdowns!$B$39,IF(I105=Dropdowns!$C$40,Dropdowns!$B$40,IF(I105=Dropdowns!$C$41,Dropdowns!$B$41,IF(I105=Dropdowns!$C$42,Dropdowns!$B$42,IF(I105=Dropdowns!$C$43,Dropdowns!$B$43,IF(I105=Dropdowns!$C$44,Dropdowns!$B$44,IF(I105=Dropdowns!$C$45,Dropdowns!$B$45,IF(I105=Dropdowns!$C$46,Dropdowns!$B$46,IF(I105=Dropdowns!$C$47,Dropdowns!$B$47, IF(I105=Dropdowns!$C$48,Dropdowns!$B$48,\"0\"))))))))))))))))))))))))))))))))))))))))))","v":0},{"$f":"IF(AX105=Dropdowns!$F$15,Dropdowns!$G$15,IF(AX105=Dropdowns!$F$16,Dropdowns!$G$16,IF(AX105=Dropdowns!$F$17,Dropdowns!$G$17,\"0\")))","v":"0"}]
[null,null,null,null,null,null,null,null,null,null,"-",null,null,null,null,null,null,null,null,null,null,0,null,null,null,null,null,0,null,null,null,null,null,null,0,null,null,null,null,0,0,null,0,0,0,0,"-",null,null,null,null,null,null,null,null,null,null,null,null,null,null,null,0,0,0,0,0,0,0,0,0,0,1,{"$f":"IFERROR(IF(L106=Dropdowns!$F$32,\"\",IF(J106=\"Project\",AR106/BT106,IF(J106=\"Program\",AP106/BT106,\"\"))),\"\")","v":""},"",null,null,null,null,null,null,null,null,null,{"$f":"IF($CA106=\"\",0,VLOOKUP($CA106,'Conversion Tables'!$B$37:$C$62,2,FALSE))+IF($CB106=\"\",0,VLOOKUP($CB106,'Conversion Tables'!$B$37:$C$62,2,FALSE))+IF($CC106=\"\",0,VLOOKUP($CC106,'Conversion Tables'!$B$37:$C$62,2,FALSE))+IF($CD106=\"\",0,VLOOKUP($CD106,'Conversion Tables'!$B$37:$C$62,2,FALSE))+IF($CE106=\"\",0,VLOOKUP($CE106,'Conversion Tables'!$B$37:$C$62,2,FALSE))+IF($CF106=\"\",0,VLOOKUP($CF106,'Conversion Tables'!$B$37:$C$62,2,FALSE))","v":0},null,null,null,null,null,null,{"$f":"IFERROR(VLOOKUP(CM106,Dropdowns!A$51:B$55,2,FALSE),\"\")","v":""},null,null,null,null,null,null,null,null,null,null,{"$f":"IFERROR(VLOOKUP(AZ106,'Conversion Tables'!$G$8:$N$12,3,FALSE)/'Conversion Tables'!$I$12*Max_Point,0)","v":0},{"$f":"CY106*'Weighting Scale'!$D$9*DS106*DT106","v":0},{"$f":"IFERROR(VLOOKUP(BB106,'Conversion Tables'!$B$8:$C$32,2,FALSE),0)","v":0},{"$f":"IFERROR(VLOOKUP(BC106,'Conversion Tables'!$B$8:$C$32,2,FALSE),0)","v":0},{"$f":"(DA106-DB106)/'Conversion Tables'!$C$32*Max_Point","v":0},{"$f":"DC106*'Weighting Scale'!$D$10*DS106*DT106","v":0},{"$f":"IFERROR(VLOOKUP(BE106,'Conversion Tables'!$G$8:$N$12,2, FALSE)/'Conversion Tables'!$H$12*Max_Point,0)","v":0},{"$f":"DE106*'Weighting Scale'!$D$11*DS106*DT106","v":0},{"$f":"IFERROR(VLOOKUP(BF106,'Conversion Tables'!$G$8:$N$12,6,FALSE)/'Conversion Tables'!$L$12*Max_Point,0)","v":0},{"$f":"DG106*'Weighting Scale'!$D$14*DS106*DT106","v":0},{"$f":"IFERROR(VLOOKUP(BG106,'Conversion Tables'!$G$8:$N$12,4,FALSE)/'Conversion Tables'!$J$12*Max_Point,0)","v":0},{"$f":"DI106*'Weighting Scale'!$D$12*DS106*DT106","v":0},{"$f":"IFERROR(VLOOKUP(BH106,'Conversion Tables'!$G$8:$N$12,5,FALSE)/'Conversion Tables'!$K$12*Max_Point,0)","v":0},{"$f":"DK106*'Weighting Scale'!$D$13*DS106*DT106","v":0},{"$f":"IFERROR(VLOOKUP(BI106,'Conversion Tables'!$G$8:$N$12,7,FALSE)/'Conversion Tables'!$M$12*Max_Point,0)","v":0},{"$f":"DM106*'Weighting Scale'!$D$15*DS106*DT106","v":0},{"$f":"IF(BJ106 = \"Yes\",('Conversion Tables'!$N$12)/'Conversion Tables'!$N$12*Max_Point,0)","v":0},{"$f":"DO106*'Weighting Scale'!$D$16*DS106*DT106","v":0},0,0,0,{"$f":"IF(I106=Dropdowns!$C$7,Dropdowns!$B$7,IF(I106=Dropdowns!$C$8,Dropdowns!$B$8,IF(I106=Dropdowns!$C$9,Dropdowns!$B$9,IF(I106=Dropdowns!$C$10,Dropdowns!$B$10,IF(I106=Dropdowns!$C$11,Dropdowns!$B$11,IF(I106=Dropdowns!$C$12,Dropdowns!$B$12,IF(I106=Dropdowns!$C$13,Dropdowns!$B$13,IF(I106=Dropdowns!$C$14,Dropdowns!$B$14,IF(I106=Dropdowns!$C$15,Dropdowns!$B$15,IF(I106=Dropdowns!$C$16,Dropdowns!$B$16,IF(I106=Dropdowns!$C$17,Dropdowns!$B$17,IF(I106=Dropdowns!$C$18,Dropdowns!$B$18,IF(I106=Dropdowns!$C$19,Dropdowns!$B$19,IF(I106=Dropdowns!$C$20,Dropdowns!$B$20,IF(I106=Dropdowns!$C$21,Dropdowns!$B$21,IF(I106=Dropdowns!$C$22,Dropdowns!$B$22,IF(I106=Dropdowns!$C$23,Dropdowns!$B$23,IF(I106=Dropdowns!$C$24,Dropdowns!$B$24,IF(I106=Dropdowns!$C$25,Dropdowns!$B$25,IF(I106=Dropdowns!$C$26,Dropdowns!$B$26,IF(I106=Dropdowns!$C$27,Dropdowns!$B$27,IF(I106=Dropdowns!$C$28,Dropdowns!$B$28,IF(I106=Dropdowns!$C$29,Dropdowns!$B$29,IF(I106=Dropdowns!$C$30,Dropdowns!$B$30,IF(I106=Dropdowns!$C$31,Dropdowns!$B$31,IF(I106=Dropdowns!$C$32,Dropdowns!$B$32,IF(I106=Dropdowns!$C$33,Dropdowns!$B$33,IF(I106=Dropdowns!$C$34,Dropdowns!$B$34,IF(I106=Dropdowns!$C$35,Dropdowns!$B$35,IF(I106=Dropdowns!$C$36,Dropdowns!$B$36,IF(I106=Dropdowns!$C$37,Dropdowns!$B$37,IF(I106=Dropdowns!$C$38,Dropdowns!$B$38,IF(I106=Dropdowns!$C$39,Dropdowns!$B$39,IF(I106=Dropdowns!$C$40,Dropdowns!$B$40,IF(I106=Dropdowns!$C$41,Dropdowns!$B$41,IF(I106=Dropdowns!$C$42,Dropdowns!$B$42,IF(I106=Dropdowns!$C$43,Dropdowns!$B$43,IF(I106=Dropdowns!$C$44,Dropdowns!$B$44,IF(I106=Dropdowns!$C$45,Dropdowns!$B$45,IF(I106=Dropdowns!$C$46,Dropdowns!$B$46,IF(I106=Dropdowns!$C$47,Dropdowns!$B$47, IF(I106=Dropdowns!$C$48,Dropdowns!$B$48,\"0\"))))))))))))))))))))))))))))))))))))))))))","v":0},{"$f":"IF(AX106=Dropdowns!$F$15,Dropdowns!$G$15,IF(AX106=Dropdowns!$F$16,Dropdowns!$G$16,IF(AX106=Dropdowns!$F$17,Dropdowns!$G$17,\"0\")))","v":"0"}]
[null,null,null,null,null,null,null,null,null,null,"-",null,null,null,null,null,null,null,null,null,null,0,null,null,null,null,null,0,null,null,null,null,null,null,0,null,null,null,null,0,0,null,0,0,0,0,"-",null,null,null,null,null,null,null,null,null,null,null,null,null,null,null,0,0,0,0,0,0,0,0,0,0,1,{"$f":"IFERROR(IF(L107=Dropdowns!$F$32,\"\",IF(J107=\"Project\",AR107/BT107,IF(J107=\"Program\",AP107/BT107,\"\"))),\"\")","v":""},"",null,null,null,null,null,null,null,null,null,{"$f":"IF($CA107=\"\",0,VLOOKUP($CA107,'Conversion Tables'!$B$37:$C$62,2,FALSE))+IF($CB107=\"\",0,VLOOKUP($CB107,'Conversion Tables'!$B$37:$C$62,2,FALSE))+IF($CC107=\"\",0,VLOOKUP($CC107,'Conversion Tables'!$B$37:$C$62,2,FALSE))+IF($CD107=\"\",0,VLOOKUP($CD107,'Conversion Tables'!$B$37:$C$62,2,FALSE))+IF($CE107=\"\",0,VLOOKUP($CE107,'Conversion Tables'!$B$37:$C$62,2,FALSE))+IF($CF107=\"\",0,VLOOKUP($CF107,'Conversion Tables'!$B$37:$C$62,2,FALSE))","v":0},null,null,null,null,null,null,{"$f":"IFERROR(VLOOKUP(CM107,Dropdowns!A$51:B$55,2,FALSE),\"\")","v":""},null,null,null,null,null,null,null,null,null,null,{"$f":"IFERROR(VLOOKUP(AZ107,'Conversion Tables'!$G$8:$N$12,3,FALSE)/'Conversion Tables'!$I$12*Max_Point,0)","v":0},{"$f":"CY107*'Weighting Scale'!$D$9*DS107*DT107","v":0},{"$f":"IFERROR(VLOOKUP(BB107,'Conversion Tables'!$B$8:$C$32,2,FALSE),0)","v":0},{"$f":"IFERROR(VLOOKUP(BC107,'Conversion Tables'!$B$8:$C$32,2,FALSE),0)","v":0},{"$f":"(DA107-DB107)/'Conversion Tables'!$C$32*Max_Point","v":0},{"$f":"DC107*'Weighting Scale'!$D$10*DS107*DT107","v":0},{"$f":"IFERROR(VLOOKUP(BE107,'Conversion Tables'!$G$8:$N$12,2, FALSE)/'Conversion Tables'!$H$12*Max_Point,0)","v":0},{"$f":"DE107*'Weighting Scale'!$D$11*DS107*DT107","v":0},{"$f":"IFERROR(VLOOKUP(BF107,'Conversion Tables'!$G$8:$N$12,6,FALSE)/'Conversion Tables'!$L$12*Max_Point,0)","v":0},{"$f":"DG107*'Weighting Scale'!$D$14*DS107*DT107","v":0},{"$f":"IFERROR(VLOOKUP(BG107,'Conversion Tables'!$G$8:$N$12,4,FALSE)/'Conversion Tables'!$J$12*Max_Point,0)","v":0},{"$f":"DI107*'Weighting Scale'!$D$12*DS107*DT107","v":0},{"$f":"IFERROR(VLOOKUP(BH107,'Conversion Tables'!$G$8:$N$12,5,FALSE)/'Conversion Tables'!$K$12*Max_Point,0)","v":0},{"$f":"DK107*'Weighting Scale'!$D$13*DS107*DT107","v":0},{"$f":"IFERROR(VLOOKUP(BI107,'Conversion Tables'!$G$8:$N$12,7,FALSE)/'Conversion Tables'!$M$12*Max_Point,0)","v":0},{"$f":"DM107*'Weighting Scale'!$D$15*DS107*DT107","v":0},{"$f":"IF(BJ107 = \"Yes\",('Conversion Tables'!$N$12)/'Conversion Tables'!$N$12*Max_Point,0)","v":0},{"$f":"DO107*'Weighting Scale'!$D$16*DS107*DT107","v":0},0,0,0,{"$f":"IF(I107=Dropdowns!$C$7,Dropdowns!$B$7,IF(I107=Dropdowns!$C$8,Dropdowns!$B$8,IF(I107=Dropdowns!$C$9,Dropdowns!$B$9,IF(I107=Dropdowns!$C$10,Dropdowns!$B$10,IF(I107=Dropdowns!$C$11,Dropdowns!$B$11,IF(I107=Dropdowns!$C$12,Dropdowns!$B$12,IF(I107=Dropdowns!$C$13,Dropdowns!$B$13,IF(I107=Dropdowns!$C$14,Dropdowns!$B$14,IF(I107=Dropdowns!$C$15,Dropdowns!$B$15,IF(I107=Dropdowns!$C$16,Dropdowns!$B$16,IF(I107=Dropdowns!$C$17,Dropdowns!$B$17,IF(I107=Dropdowns!$C$18,Dropdowns!$B$18,IF(I107=Dropdowns!$C$19,Dropdowns!$B$19,IF(I107=Dropdowns!$C$20,Dropdowns!$B$20,IF(I107=Dropdowns!$C$21,Dropdowns!$B$21,IF(I107=Dropdowns!$C$22,Dropdowns!$B$22,IF(I107=Dropdowns!$C$23,Dropdowns!$B$23,IF(I107=Dropdowns!$C$24,Dropdowns!$B$24,IF(I107=Dropdowns!$C$25,Dropdowns!$B$25,IF(I107=Dropdowns!$C$26,Dropdowns!$B$26,IF(I107=Dropdowns!$C$27,Dropdowns!$B$27,IF(I107=Dropdowns!$C$28,Dropdowns!$B$28,IF(I107=Dropdowns!$C$29,Dropdowns!$B$29,IF(I107=Dropdowns!$C$30,Dropdowns!$B$30,IF(I107=Dropdowns!$C$31,Dropdowns!$B$31,IF(I107=Dropdowns!$C$32,Dropdowns!$B$32,IF(I107=Dropdowns!$C$33,Dropdowns!$B$33,IF(I107=Dropdowns!$C$34,Dropdowns!$B$34,IF(I107=Dropdowns!$C$35,Dropdowns!$B$35,IF(I107=Dropdowns!$C$36,Dropdowns!$B$36,IF(I107=Dropdowns!$C$37,Dropdowns!$B$37,IF(I107=Dropdowns!$C$38,Dropdowns!$B$38,IF(I107=Dropdowns!$C$39,Dropdowns!$B$39,IF(I107=Dropdowns!$C$40,Dropdowns!$B$40,IF(I107=Dropdowns!$C$41,Dropdowns!$B$41,IF(I107=Dropdowns!$C$42,Dropdowns!$B$42,IF(I107=Dropdowns!$C$43,Dropdowns!$B$43,IF(I107=Dropdowns!$C$44,Dropdowns!$B$44,IF(I107=Dropdowns!$C$45,Dropdowns!$B$45,IF(I107=Dropdowns!$C$46,Dropdowns!$B$46,IF(I107=Dropdowns!$C$47,Dropdowns!$B$47, IF(I107=Dropdowns!$C$48,Dropdowns!$B$48,\"0\"))))))))))))))))))))))))))))))))))))))))))","v":0},{"$f":"IF(AX107=Dropdowns!$F$15,Dropdowns!$G$15,IF(AX107=Dropdowns!$F$16,Dropdowns!$G$16,IF(AX107=Dropdowns!$F$17,Dropdowns!$G$17,\"0\")))","v":"0"}]
[null,null,null,null,null,null,null,null,null,null,"-",null,null,null,null,null,null,null,null,null,null,0,null,null,null,null,null,0,null,null,null,null,null,null,0,null,null,null,null,0,0,null,0,0,0,0,"-",null,null,null,null,null,null,null,null,null,null,null,null,null,null,null,0,0,0,0,0,0,0,0,0,0,1,{"$f":"IFERROR(IF(L108=Dropdowns!$F$32,\"\",IF(J108=\"Project\",AR108/BT108,IF(J108=\"Program\",AP108/BT108,\"\"))),\"\")","v":""},"",null,null,null,null,null,null,null,null,null,{"$f":"IF($CA108=\"\",0,VLOOKUP($CA108,'Conversion Tables'!$B$37:$C$62,2,FALSE))+IF($CB108=\"\",0,VLOOKUP($CB108,'Conversion Tables'!$B$37:$C$62,2,FALSE))+IF($CC108=\"\",0,VLOOKUP($CC108,'Conversion Tables'!$B$37:$C$62,2,FALSE))+IF($CD108=\"\",0,VLOOKUP($CD108,'Conversion Tables'!$B$37:$C$62,2,FALSE))+IF($CE108=\"\",0,VLOOKUP($CE108,'Conversion Tables'!$B$37:$C$62,2,FALSE))+IF($CF108=\"\",0,VLOOKUP($CF108,'Conversion Tables'!$B$37:$C$62,2,FALSE))","v":0},null,null,null,null,null,null,{"$f":"IFERROR(VLOOKUP(CM108,Dropdowns!A$51:B$55,2,FALSE),\"\")","v":""},null,null,null,null,null,null,null,null,null,null,{"$f":"IFERROR(VLOOKUP(AZ108,'Conversion Tables'!$G$8:$N$12,3,FALSE)/'Conversion Tables'!$I$12*Max_Point,0)","v":0},{"$f":"CY108*'Weighting Scale'!$D$9*DS108*DT108","v":0},{"$f":"IFERROR(VLOOKUP(BB108,'Conversion Tables'!$B$8:$C$32,2,FALSE),0)","v":0},{"$f":"IFERROR(VLOOKUP(BC108,'Conversion Tables'!$B$8:$C$32,2,FALSE),0)","v":0},{"$f":"(DA108-DB108)/'Conversion Tables'!$C$32*Max_Point","v":0},{"$f":"DC108*'Weighting Scale'!$D$10*DS108*DT108","v":0},{"$f":"IFERROR(VLOOKUP(BE108,'Conversion Tables'!$G$8:$N$12,2, FALSE)/'Conversion Tables'!$H$12*Max_Point,0)","v":0},{"$f":"DE108*'Weighting Scale'!$D$11*DS108*DT108","v":0},{"$f":"IFERROR(VLOOKUP(BF108,'Conversion Tables'!$G$8:$N$12,6,FALSE)/'Conversion Tables'!$L$12*Max_Point,0)","v":0},{"$f":"DG108*'Weighting Scale'!$D$14*DS108*DT108","v":0},{"$f":"IFERROR(VLOOKUP(BG108,'Conversion Tables'!$G$8:$N$12,4,FALSE)/'Conversion Tables'!$J$12*Max_Point,0)","v":0},{"$f":"DI108*'Weighting Scale'!$D$12*DS108*DT108","v":0},{"$f":"IFERROR(VLOOKUP(BH108,'Conversion Tables'!$G$8:$N$12,5,FALSE)/'Conversion Tables'!$K$12*Max_Point,0)","v":0},{"$f":"DK108*'Weighting Scale'!$D$13*DS108*DT108","v":0},{"$f":"IFERROR(VLOOKUP(BI108,'Conversion Tables'!$G$8:$N$12,7,FALSE)/'Conversion Tables'!$M$12*Max_Point,0)","v":0},{"$f":"DM108*'Weighting Scale'!$D$15*DS108*DT108","v":0},{"$f":"IF(BJ108 = \"Yes\",('Conversion Tables'!$N$12)/'Conversion Tables'!$N$12*Max_Point,0)","v":0},{"$f":"DO108*'Weighting Scale'!$D$16*DS108*DT108","v":0},0,0,0,{"$f":"IF(I108=Dropdowns!$C$7,Dropdowns!$B$7,IF(I108=Dropdowns!$C$8,Dropdowns!$B$8,IF(I108=Dropdowns!$C$9,Dropdowns!$B$9,IF(I108=Dropdowns!$C$10,Dropdowns!$B$10,IF(I108=Dropdowns!$C$11,Dropdowns!$B$11,IF(I108=Dropdowns!$C$12,Dropdowns!$B$12,IF(I108=Dropdowns!$C$13,Dropdowns!$B$13,IF(I108=Dropdowns!$C$14,Dropdowns!$B$14,IF(I108=Dropdowns!$C$15,Dropdowns!$B$15,IF(I108=Dropdowns!$C$16,Dropdowns!$B$16,IF(I108=Dropdowns!$C$17,Dropdowns!$B$17,IF(I108=Dropdowns!$C$18,Dropdowns!$B$18,IF(I108=Dropdowns!$C$19,Dropdowns!$B$19,IF(I108=Dropdowns!$C$20,Dropdowns!$B$20,IF(I108=Dropdowns!$C$21,Dropdowns!$B$21,IF(I108=Dropdowns!$C$22,Dropdowns!$B$22,IF(I108=Dropdowns!$C$23,Dropdowns!$B$23,IF(I108=Dropdowns!$C$24,Dropdowns!$B$24,IF(I108=Dropdowns!$C$25,Dropdowns!$B$25,IF(I108=Dropdowns!$C$26,Dropdowns!$B$26,IF(I108=Dropdowns!$C$27,Dropdowns!$B$27,IF(I108=Dropdowns!$C$28,Dropdowns!$B$28,IF(I108=Dropdowns!$C$29,Dropdowns!$B$29,IF(I108=Dropdowns!$C$30,Dropdowns!$B$30,IF(I108=Dropdowns!$C$31,Dropdowns!$B$31,IF(I108=Dropdowns!$C$32,Dropdowns!$B$32,IF(I108=Dropdowns!$C$33,Dropdowns!$B$33,IF(I108=Dropdowns!$C$34,Dropdowns!$B$34,IF(I108=Dropdowns!$C$35,Dropdowns!$B$35,IF(I108=Dropdowns!$C$36,Dropdowns!$B$36,IF(I108=Dropdowns!$C$37,Dropdowns!$B$37,IF(I108=Dropdowns!$C$38,Dropdowns!$B$38,IF(I108=Dropdowns!$C$39,Dropdowns!$B$39,IF(I108=Dropdowns!$C$40,Dropdowns!$B$40,IF(I108=Dropdowns!$C$41,Dropdowns!$B$41,IF(I108=Dropdowns!$C$42,Dropdowns!$B$42,IF(I108=Dropdowns!$C$43,Dropdowns!$B$43,IF(I108=Dropdowns!$C$44,Dropdowns!$B$44,IF(I108=Dropdowns!$C$45,Dropdowns!$B$45,IF(I108=Dropdowns!$C$46,Dropdowns!$B$46,IF(I108=Dropdowns!$C$47,Dropdowns!$B$47, IF(I108=Dropdowns!$C$48,Dropdowns!$B$48,\"0\"))))))))))))))))))))))))))))))))))))))))))","v":0},{"$f":"IF(AX108=Dropdowns!$F$15,Dropdowns!$G$15,IF(AX108=Dropdowns!$F$16,Dropdowns!$G$16,IF(AX108=Dropdowns!$F$17,Dropdowns!$G$17,\"0\")))","v":"0"}]
[null,null,null,null,null,null,null,null,null,null,{"$f":"IF(AND(J109=\"Project\", AO109>24999),\"Yes\",\"-\")","v":"-"},null,null,null,null,null,null,null,null,null,null,{"$f":"SUM(O109:U109)","v":0},null,null,null,null,null,{"$f":"SUM(W109:AA109)","v":0},null,null,null,null,null,null,{"$f":"SUM(AC109:AH109)","v":0},null,null,null,null,{"$f":"SUM(AJ109:AM109)","v":0},{"$f":"(V109+AB109+AI109+AN109)","v":0},null,{"$f":"U109+AA109","v":0},{"$f":"(AO109-AQ109)","v":0},{"$f":"SUM(V109+AB109)","v":0},{"$f":"AO109-AS109","v":0},{"$f":"IF(ISERROR((AS109)/AO109),\"-\", (AS109)/AO109)","v":"-"},null,null,null,null,null,null,null,null,null,null,null,null,null,null,null,{"$f":"AY109/158475797","v":0},{"$f":"CZ109","v":0},{"$f":"DD109","v":0},{"$f":"DF109","v":0},{"$f":"DH109","v":0},{"$f":"DJ109","v":0},{"$f":"DL109","v":0},{"$f":"DN109","v":0},{"$f":"DP109","v":0},{"$f":"DR109","v":0},{"$f":"IFERROR(RANK(BT109,$BT$13:$BT$143,0),\"\")","v":1},{"$f":"IFERROR(IF(L109=Dropdowns!$F$32,\"\",IF(J109=\"Project\",AR109/BT109,IF(J109=\"Program\",AP109/BT109,\"\"))),\"\")","v":""},{"$f":"IFERROR(RANK(BV109,$BV$13:$BV$143,1),\"\")","v":""},null,null,null,null,null,null,null,null,null,{"$f":"IF($CA109=\"\",0,VLOOKUP($CA109,'Conversion Tables'!$B$37:$C$62,2,FALSE))+IF($CB109=\"\",0,VLOOKUP($CB109,'Conversion Tables'!$B$37:$C$62,2,FALSE))+IF($CC109=\"\",0,VLOOKUP($CC109,'Conversion Tables'!$B$37:$C$62,2,FALSE))+IF($CD109=\"\",0,VLOOKUP($CD109,'Conversion Tables'!$B$37:$C$62,2,FALSE))+IF($CE109=\"\",0,VLOOKUP($CE109,'Conversion Tables'!$B$37:$C$62,2,FALSE))+IF($CF109=\"\",0,VLOOKUP($CF109,'Conversion Tables'!$B$37:$C$62,2,FALSE))","v":0},null,null,null,null,null,null,{"$f":"IFERROR(VLOOKUP(CM109,Dropdowns!A$51:B$55,2,FALSE),\"\")","v":""},null,null,null,null,null,null,null,null,null,null,{"$f":"IFERROR(VLOOKUP(AZ109,'Conversion Tables'!$G$8:$N$12,3,FALSE)/'Conversion Tables'!$I$12*Max_Point,0)","v":0},{"$f":"CY109*'Weighting Scale'!$D$9*DS109*DT109","v":0},{"$f":"IFERROR(VLOOKUP(BB109,'Conversion Tables'!$B$8:$C$32,2,FALSE),0)","v":0},{"$f":"IFERROR(VLOOKUP(BC109,'Conversion Tables'!$B$8:$C$32,2,FALSE),0)","v":0},{"$f":"(DA109-DB109)/'Conversion Tables'!$C$32*Max_Point","v":0},{"$f":"DC109*'Weighting Scale'!$D$10*DS109*DT109","v":0},{"$f":"IFERROR(VLOOKUP(BE109,'Conversion Tables'!$G$8:$N$12,2, FALSE)/'Conversion Tables'!$H$12*Max_Point,0)","v":0},{"$f":"DE109*'Weighting Scale'!$D$11*DS109*DT109","v":0},{"$f":"IFERROR(VLOOKUP(BF109,'Conversion Tables'!$G$8:$N$12,6,FALSE)/'Conversion Tables'!$L$12*Max_Point,0)","v":0},{"$f":"DG109*'Weighting Scale'!$D$14*DS109*DT109","v":0},{"$f":"IFERROR(VLOOKUP(BG109,'Conversion Tables'!$G$8:$N$12,4,FALSE)/'Conversion Tables'!$J$12*Max_Point,0)","v":0},{"$f":"DI109*'Weighting Scale'!$D$12*DS109*DT109","v":0},{"$f":"IFERROR(VLOOKUP(BH109,'Conversion Tables'!$G$8:$N$12,5,FALSE)/'Conversion Tables'!$K$12*Max_Point,0)","v":0},{"$f":"DK109*'Weighting Scale'!$D$13*DS109*DT109","v":0},{"$f":"IFERROR(VLOOKUP(BI109,'Conversion Tables'!$G$8:$N$12,7,FALSE)/'Conversion Tables'!$M$12*Max_Point,0)","v":0},{"$f":"DM109*'Weighting Scale'!$D$15*DS109*DT109","v":0},{"$f":"IF(BJ109 = \"Yes\",('Conversion Tables'!$N$12)/'Conversion Tables'!$N$12*Max_Point,0)","v":0},{"$f":"DO109*'Weighting Scale'!$D$16*DS109*DT109","v":0},{"$f":"CZ109+DD109+DF109+DH109+DJ109+DL109+DN109+DP109","v":0},{"$f":"DQ109*DU109","v":0},{"$f":"BK109","v":0},{"$f":"IF(I109=Dropdowns!$C$7,Dropdowns!$B$7,IF(I109=Dropdowns!$C$8,Dropdowns!$B$8,IF(I109=Dropdowns!$C$9,Dropdowns!$B$9,IF(I109=Dropdowns!$C$10,Dropdowns!$B$10,IF(I109=Dropdowns!$C$11,Dropdowns!$B$11,IF(I109=Dropdowns!$C$12,Dropdowns!$B$12,IF(I109=Dropdowns!$C$13,Dropdowns!$B$13,IF(I109=Dropdowns!$C$14,Dropdowns!$B$14,IF(I109=Dropdowns!$C$15,Dropdowns!$B$15,IF(I109=Dropdowns!$C$16,Dropdowns!$B$16,IF(I109=Dropdowns!$C$17,Dropdowns!$B$17,IF(I109=Dropdowns!$C$18,Dropdowns!$B$18,IF(I109=Dropdowns!$C$19,Dropdowns!$B$19,IF(I109=Dropdowns!$C$20,Dropdowns!$B$20,IF(I109=Dropdowns!$C$21,Dropdowns!$B$21,IF(I109=Dropdowns!$C$22,Dropdowns!$B$22,IF(I109=Dropdowns!$C$23,Dropdowns!$B$23,IF(I109=Dropdowns!$C$24,Dropdowns!$B$24,IF(I109=Dropdowns!$C$25,Dropdowns!$B$25,IF(I109=Dropdowns!$C$26,Dropdowns!$B$26,IF(I109=Dropdowns!$C$27,Dropdowns!$B$27,IF(I109=Dropdowns!$C$28,Dropdowns!$B$28,IF(I109=Dropdowns!$C$29,Dropdowns!$B$29,IF(I109=Dropdowns!$C$30,Dropdowns!$B$30,IF(I109=Dropdowns!$C$31,Dropdowns!$B$31,IF(I109=Dropdowns!$C$32,Dropdowns!$B$32,IF(I109=Dropdowns!$C$33,Dropdowns!$B$33,IF(I109=Dropdowns!$C$34,Dropdowns!$B$34,IF(I109=Dropdowns!$C$35,Dropdowns!$B$35,IF(I109=Dropdowns!$C$36,Dropdowns!$B$36,IF(I109=Dropdowns!$C$37,Dropdowns!$B$37,IF(I109=Dropdowns!$C$38,Dropdowns!$B$38,IF(I109=Dropdowns!$C$39,Dropdowns!$B$39,IF(I109=Dropdowns!$C$40,Dropdowns!$B$40,IF(I109=Dropdowns!$C$41,Dropdowns!$B$41,IF(I109=Dropdowns!$C$42,Dropdowns!$B$42,IF(I109=Dropdowns!$C$43,Dropdowns!$B$43,IF(I109=Dropdowns!$C$44,Dropdowns!$B$44,IF(I109=Dropdowns!$C$45,Dropdowns!$B$45,IF(I109=Dropdowns!$C$46,Dropdowns!$B$46,IF(I109=Dropdowns!$C$47,Dropdowns!$B$47, IF(I109=Dropdowns!$C$48,Dropdowns!$B$48,\"0\"))))))))))))))))))))))))))))))))))))))))))","v":0},{"$f":"IF(AX109=Dropdowns!$F$15,Dropdowns!$G$15,IF(AX109=Dropdowns!$F$16,Dropdowns!$G$16,IF(AX109=Dropdowns!$F$17,Dropdowns!$G$17,\"0\")))","v":"0"}]
[null,null,null,null,null,null,null,null,null,null,"-",null,null,null,null,null,null,null,null,null,null,0,null,null,null,null,null,0,null,null,null,null,null,null,0,null,null,null,null,0,0,null,0,0,0,0,"-",null,null,null,null,null,null,null,null,null,null,null,null,null,null,null,0,0,0,0,0,0,0,0,0,0,1,{"$f":"IFERROR(IF(L110=Dropdowns!$F$32,\"\",IF(J110=\"Project\",AR110/BT110,IF(J110=\"Program\",AP110/BT110,\"\"))),\"\")","v":""},"",null,null,null,null,null,null,null,null,null,{"$f":"IF($CA110=\"\",0,VLOOKUP($CA110,'Conversion Tables'!$B$37:$C$62,2,FALSE))+IF($CB110=\"\",0,VLOOKUP($CB110,'Conversion Tables'!$B$37:$C$62,2,FALSE))+IF($CC110=\"\",0,VLOOKUP($CC110,'Conversion Tables'!$B$37:$C$62,2,FALSE))+IF($CD110=\"\",0,VLOOKUP($CD110,'Conversion Tables'!$B$37:$C$62,2,FALSE))+IF($CE110=\"\",0,VLOOKUP($CE110,'Conversion Tables'!$B$37:$C$62,2,FALSE))+IF($CF110=\"\",0,VLOOKUP($CF110,'Conversion Tables'!$B$37:$C$62,2,FALSE))","v":0},null,null,null,null,null,null,{"$f":"IFERROR(VLOOKUP(CM110,Dropdowns!A$51:B$55,2,FALSE),\"\")","v":""},null,null,null,null,null,null,null,null,null,null,{"$f":"IFERROR(VLOOKUP(AZ110,'Conversion Tables'!$G$8:$N$12,3,FALSE)/'Conversion Tables'!$I$12*Max_Point,0)","v":0},{"$f":"CY110*'Weighting Scale'!$D$9*DS110*DT110","v":0},{"$f":"IFERROR(VLOOKUP(BB110,'Conversion Tables'!$B$8:$C$32,2,FALSE),0)","v":0},{"$f":"IFERROR(VLOOKUP(BC110,'Conversion Tables'!$B$8:$C$32,2,FALSE),0)","v":0},{"$f":"(DA110-DB110)/'Conversion Tables'!$C$32*Max_Point","v":0},{"$f":"DC110*'Weighting Scale'!$D$10*DS110*DT110","v":0},{"$f":"IFERROR(VLOOKUP(BE110,'Conversion Tables'!$G$8:$N$12,2, FALSE)/'Conversion Tables'!$H$12*Max_Point,0)","v":0},{"$f":"DE110*'Weighting Scale'!$D$11*DS110*DT110","v":0},{"$f":"IFERROR(VLOOKUP(BF110,'Conversion Tables'!$G$8:$N$12,6,FALSE)/'Conversion Tables'!$L$12*Max_Point,0)","v":0},{"$f":"DG110*'Weighting Scale'!$D$14*DS110*DT110","v":0},{"$f":"IFERROR(VLOOKUP(BG110,'Conversion Tables'!$G$8:$N$12,4,FALSE)/'Conversion Tables'!$J$12*Max_Point,0)","v":0},{"$f":"DI110*'Weighting Scale'!$D$12*DS110*DT110","v":0},{"$f":"IFERROR(VLOOKUP(BH110,'Conversion Tables'!$G$8:$N$12,5,FALSE)/'Conversion Tables'!$K$12*Max_Point,0)","v":0},{"$f":"DK110*'Weighting Scale'!$D$13*DS110*DT110","v":0},{"$f":"IFERROR(VLOOKUP(BI110,'Conversion Tables'!$G$8:$N$12,7,FALSE)/'Conversion Tables'!$M$12*Max_Point,0)","v":0},{"$f":"DM110*'Weighting Scale'!$D$15*DS110*DT110","v":0},{"$f":"IF(BJ110 = \"Yes\",('Conversion Tables'!$N$12)/'Conversion Tables'!$N$12*Max_Point,0)","v":0},{"$f":"DO110*'Weighting Scale'!$D$16*DS110*DT110","v":0},0,0,0,{"$f":"IF(I110=Dropdowns!$C$7,Dropdowns!$B$7,IF(I110=Dropdowns!$C$8,Dropdowns!$B$8,IF(I110=Dropdowns!$C$9,Dropdowns!$B$9,IF(I110=Dropdowns!$C$10,Dropdowns!$B$10,IF(I110=Dropdowns!$C$11,Dropdowns!$B$11,IF(I110=Dropdowns!$C$12,Dropdowns!$B$12,IF(I110=Dropdowns!$C$13,Dropdowns!$B$13,IF(I110=Dropdowns!$C$14,Dropdowns!$B$14,IF(I110=Dropdowns!$C$15,Dropdowns!$B$15,IF(I110=Dropdowns!$C$16,Dropdowns!$B$16,IF(I110=Dropdowns!$C$17,Dropdowns!$B$17,IF(I110=Dropdowns!$C$18,Dropdowns!$B$18,IF(I110=Dropdowns!$C$19,Dropdowns!$B$19,IF(I110=Dropdowns!$C$20,Dropdowns!$B$20,IF(I110=Dropdowns!$C$21,Dropdowns!$B$21,IF(I110=Dropdowns!$C$22,Dropdowns!$B$22,IF(I110=Dropdowns!$C$23,Dropdowns!$B$23,IF(I110=Dropdowns!$C$24,Dropdowns!$B$24,IF(I110=Dropdowns!$C$25,Dropdowns!$B$25,IF(I110=Dropdowns!$C$26,Dropdowns!$B$26,IF(I110=Dropdowns!$C$27,Dropdowns!$B$27,IF(I110=Dropdowns!$C$28,Dropdowns!$B$28,IF(I110=Dropdowns!$C$29,Dropdowns!$B$29,IF(I110=Dropdowns!$C$30,Dropdowns!$B$30,IF(I110=Dropdowns!$C$31,Dropdowns!$B$31,IF(I110=Dropdowns!$C$32,Dropdowns!$B$32,IF(I110=Dropdowns!$C$33,Dropdowns!$B$33,IF(I110=Dropdowns!$C$34,Dropdowns!$B$34,IF(I110=Dropdowns!$C$35,Dropdowns!$B$35,IF(I110=Dropdowns!$C$36,Dropdowns!$B$36,IF(I110=Dropdowns!$C$37,Dropdowns!$B$37,IF(I110=Dropdowns!$C$38,Dropdowns!$B$38,IF(I110=Dropdowns!$C$39,Dropdowns!$B$39,IF(I110=Dropdowns!$C$40,Dropdowns!$B$40,IF(I110=Dropdowns!$C$41,Dropdowns!$B$41,IF(I110=Dropdowns!$C$42,Dropdowns!$B$42,IF(I110=Dropdowns!$C$43,Dropdowns!$B$43,IF(I110=Dropdowns!$C$44,Dropdowns!$B$44,IF(I110=Dropdowns!$C$45,Dropdowns!$B$45,IF(I110=Dropdowns!$C$46,Dropdowns!$B$46,IF(I110=Dropdowns!$C$47,Dropdowns!$B$47, IF(I110=Dropdowns!$C$48,Dropdowns!$B$48,\"0\"))))))))))))))))))))))))))))))))))))))))))","v":0},{"$f":"IF(AX110=Dropdowns!$F$15,Dropdowns!$G$15,IF(AX110=Dropdowns!$F$16,Dropdowns!$G$16,IF(AX110=Dropdowns!$F$17,Dropdowns!$G$17,\"0\")))","v":"0"}]
[null,null,null,null,null,null,null,null,null,null,"-",null,null,null,null,null,null,null,null,null,null,0,null,null,null,null,null,0,null,null,null,null,null,null,0,null,null,null,null,0,0,null,0,0,0,0,"-",null,null,null,null,null,null,null,null,null,null,null,null,null,null,null,0,0,0,0,0,0,0,0,0,0,1,{"$f":"IFERROR(IF(L111=Dropdowns!$F$32,\"\",IF(J111=\"Project\",AR111/BT111,IF(J111=\"Program\",AP111/BT111,\"\"))),\"\")","v":""},"",null,null,null,null,null,null,null,null,null,{"$f":"IF($CA111=\"\",0,VLOOKUP($CA111,'Conversion Tables'!$B$37:$C$62,2,FALSE))+IF($CB111=\"\",0,VLOOKUP($CB111,'Conversion Tables'!$B$37:$C$62,2,FALSE))+IF($CC111=\"\",0,VLOOKUP($CC111,'Conversion Tables'!$B$37:$C$62,2,FALSE))+IF($CD111=\"\",0,VLOOKUP($CD111,'Conversion Tables'!$B$37:$C$62,2,FALSE))+IF($CE111=\"\",0,VLOOKUP($CE111,'Conversion Tables'!$B$37:$C$62,2,FALSE))+IF($CF111=\"\",0,VLOOKUP($CF111,'Conversion Tables'!$B$37:$C$62,2,FALSE))","v":0},null,null,null,null,null,null,{"$f":"IFERROR(VLOOKUP(CM111,Dropdowns!A$51:B$55,2,FALSE),\"\")","v":""},null,null,null,null,null,null,null,null,null,null,{"$f":"IFERROR(VLOOKUP(AZ111,'Conversion Tables'!$G$8:$N$12,3,FALSE)/'Conversion Tables'!$I$12*Max_Point,0)","v":0},{"$f":"CY111*'Weighting Scale'!$D$9*DS111*DT111","v":0},{"$f":"IFERROR(VLOOKUP(BB111,'Conversion Tables'!$B$8:$C$32,2,FALSE),0)","v":0},{"$f":"IFERROR(VLOOKUP(BC111,'Conversion Tables'!$B$8:$C$32,2,FALSE),0)","v":0},{"$f":"(DA111-DB111)/'Conversion Tables'!$C$32*Max_Point","v":0},{"$f":"DC111*'Weighting Scale'!$D$10*DS111*DT111","v":0},{"$f":"IFERROR(VLOOKUP(BE111,'Conversion Tables'!$G$8:$N$12,2, FALSE)/'Conversion Tables'!$H$12*Max_Point,0)","v":0},{"$f":"DE111*'Weighting Scale'!$D$11*DS111*DT111","v":0},{"$f":"IFERROR(VLOOKUP(BF111,'Conversion Tables'!$G$8:$N$12,6,FALSE)/'Conversion Tables'!$L$12*Max_Point,0)","v":0},{"$f":"DG111*'Weighting Scale'!$D$14*DS111*DT111","v":0},{"$f":"IFERROR(VLOOKUP(BG111,'Conversion Tables'!$G$8:$N$12,4,FALSE)/'Conversion Tables'!$J$12*Max_Point,0)","v":0},{"$f":"DI111*'Weighting Scale'!$D$12*DS111*DT111","v":0},{"$f":"IFERROR(VLOOKUP(BH111,'Conversion Tables'!$G$8:$N$12,5,FALSE)/'Conversion Tables'!$K$12*Max_Point,0)","v":0},{"$f":"DK111*'Weighting Scale'!$D$13*DS111*DT111","v":0},{"$f":"IFERROR(VLOOKUP(BI111,'Conversion Tables'!$G$8:$N$12,7,FALSE)/'Conversion Tables'!$M$12*Max_Point,0)","v":0},{"$f":"DM111*'Weighting Scale'!$D$15*DS111*DT111","v":0},{"$f":"IF(BJ111 = \"Yes\",('Conversion Tables'!$N$12)/'Conversion Tables'!$N$12*Max_Point,0)","v":0},{"$f":"DO111*'Weighting Scale'!$D$16*DS111*DT111","v":0},0,0,0,{"$f":"IF(I111=Dropdowns!$C$7,Dropdowns!$B$7,IF(I111=Dropdowns!$C$8,Dropdowns!$B$8,IF(I111=Dropdowns!$C$9,Dropdowns!$B$9,IF(I111=Dropdowns!$C$10,Dropdowns!$B$10,IF(I111=Dropdowns!$C$11,Dropdowns!$B$11,IF(I111=Dropdowns!$C$12,Dropdowns!$B$12,IF(I111=Dropdowns!$C$13,Dropdowns!$B$13,IF(I111=Dropdowns!$C$14,Dropdowns!$B$14,IF(I111=Dropdowns!$C$15,Dropdowns!$B$15,IF(I111=Dropdowns!$C$16,Dropdowns!$B$16,IF(I111=Dropdowns!$C$17,Dropdowns!$B$17,IF(I111=Dropdowns!$C$18,Dropdowns!$B$18,IF(I111=Dropdowns!$C$19,Dropdowns!$B$19,IF(I111=Dropdowns!$C$20,Dropdowns!$B$20,IF(I111=Dropdowns!$C$21,Dropdowns!$B$21,IF(I111=Dropdowns!$C$22,Dropdowns!$B$22,IF(I111=Dropdowns!$C$23,Dropdowns!$B$23,IF(I111=Dropdowns!$C$24,Dropdowns!$B$24,IF(I111=Dropdowns!$C$25,Dropdowns!$B$25,IF(I111=Dropdowns!$C$26,Dropdowns!$B$26,IF(I111=Dropdowns!$C$27,Dropdowns!$B$27,IF(I111=Dropdowns!$C$28,Dropdowns!$B$28,IF(I111=Dropdowns!$C$29,Dropdowns!$B$29,IF(I111=Dropdowns!$C$30,Dropdowns!$B$30,IF(I111=Dropdowns!$C$31,Dropdowns!$B$31,IF(I111=Dropdowns!$C$32,Dropdowns!$B$32,IF(I111=Dropdowns!$C$33,Dropdowns!$B$33,IF(I111=Dropdowns!$C$34,Dropdowns!$B$34,IF(I111=Dropdowns!$C$35,Dropdowns!$B$35,IF(I111=Dropdowns!$C$36,Dropdowns!$B$36,IF(I111=Dropdowns!$C$37,Dropdowns!$B$37,IF(I111=Dropdowns!$C$38,Dropdowns!$B$38,IF(I111=Dropdowns!$C$39,Dropdowns!$B$39,IF(I111=Dropdowns!$C$40,Dropdowns!$B$40,IF(I111=Dropdowns!$C$41,Dropdowns!$B$41,IF(I111=Dropdowns!$C$42,Dropdowns!$B$42,IF(I111=Dropdowns!$C$43,Dropdowns!$B$43,IF(I111=Dropdowns!$C$44,Dropdowns!$B$44,IF(I111=Dropdowns!$C$45,Dropdowns!$B$45,IF(I111=Dropdowns!$C$46,Dropdowns!$B$46,IF(I111=Dropdowns!$C$47,Dropdowns!$B$47, IF(I111=Dropdowns!$C$48,Dropdowns!$B$48,\"0\"))))))))))))))))))))))))))))))))))))))))))","v":0},{"$f":"IF(AX111=Dropdowns!$F$15,Dropdowns!$G$15,IF(AX111=Dropdowns!$F$16,Dropdowns!$G$16,IF(AX111=Dropdowns!$F$17,Dropdowns!$G$17,\"0\")))","v":"0"}]
[null,null,null,null,null,null,null,null,null,null,"-",null,null,null,null,null,null,null,null,null,null,0,null,null,null,null,null,0,null,null,null,null,null,null,0,null,null,null,null,0,0,null,0,0,0,0,"-",null,null,null,null,null,null,null,null,null,null,null,null,null,null,null,0,0,0,0,0,0,0,0,0,0,1,{"$f":"IFERROR(IF(L112=Dropdowns!$F$32,\"\",IF(J112=\"Project\",AR112/BT112,IF(J112=\"Program\",AP112/BT112,\"\"))),\"\")","v":""},"",null,null,null,null,null,null,null,null,null,{"$f":"IF($CA112=\"\",0,VLOOKUP($CA112,'Conversion Tables'!$B$37:$C$62,2,FALSE))+IF($CB112=\"\",0,VLOOKUP($CB112,'Conversion Tables'!$B$37:$C$62,2,FALSE))+IF($CC112=\"\",0,VLOOKUP($CC112,'Conversion Tables'!$B$37:$C$62,2,FALSE))+IF($CD112=\"\",0,VLOOKUP($CD112,'Conversion Tables'!$B$37:$C$62,2,FALSE))+IF($CE112=\"\",0,VLOOKUP($CE112,'Conversion Tables'!$B$37:$C$62,2,FALSE))+IF($CF112=\"\",0,VLOOKUP($CF112,'Conversion Tables'!$B$37:$C$62,2,FALSE))","v":0},null,null,null,null,null,null,{"$f":"IFERROR(VLOOKUP(CM112,Dropdowns!A$51:B$55,2,FALSE),\"\")","v":""},null,null,null,null,null,null,null,null,null,null,{"$f":"IFERROR(VLOOKUP(AZ112,'Conversion Tables'!$G$8:$N$12,3,FALSE)/'Conversion Tables'!$I$12*Max_Point,0)","v":0},{"$f":"CY112*'Weighting Scale'!$D$9*DS112*DT112","v":0},{"$f":"IFERROR(VLOOKUP(BB112,'Conversion Tables'!$B$8:$C$32,2,FALSE),0)","v":0},{"$f":"IFERROR(VLOOKUP(BC112,'Conversion Tables'!$B$8:$C$32,2,FALSE),0)","v":0},{"$f":"(DA112-DB112)/'Conversion Tables'!$C$32*Max_Point","v":0},{"$f":"DC112*'Weighting Scale'!$D$10*DS112*DT112","v":0},{"$f":"IFERROR(VLOOKUP(BE112,'Conversion Tables'!$G$8:$N$12,2, FALSE)/'Conversion Tables'!$H$12*Max_Point,0)","v":0},{"$f":"DE112*'Weighting Scale'!$D$11*DS112*DT112","v":0},{"$f":"IFERROR(VLOOKUP(BF112,'Conversion Tables'!$G$8:$N$12,6,FALSE)/'Conversion Tables'!$L$12*Max_Point,0)","v":0},{"$f":"DG112*'Weighting Scale'!$D$14*DS112*DT112","v":0},{"$f":"IFERROR(VLOOKUP(BG112,'Conversion Tables'!$G$8:$N$12,4,FALSE)/'Conversion Tables'!$J$12*Max_Point,0)","v":0},{"$f":"DI112*'Weighting Scale'!$D$12*DS112*DT112","v":0},{"$f":"IFERROR(VLOOKUP(BH112,'Conversion Tables'!$G$8:$N$12,5,FALSE)/'Conversion Tables'!$K$12*Max_Point,0)","v":0},{"$f":"DK112*'Weighting Scale'!$D$13*DS112*DT112","v":0},{"$f":"IFERROR(VLOOKUP(BI112,'Conversion Tables'!$G$8:$N$12,7,FALSE)/'Conversion Tables'!$M$12*Max_Point,0)","v":0},{"$f":"DM112*'Weighting Scale'!$D$15*DS112*DT112","v":0},{"$f":"IF(BJ112 = \"Yes\",('Conversion Tables'!$N$12)/'Conversion Tables'!$N$12*Max_Point,0)","v":0},{"$f":"DO112*'Weighting Scale'!$D$16*DS112*DT112","v":0},0,0,0,{"$f":"IF(I112=Dropdowns!$C$7,Dropdowns!$B$7,IF(I112=Dropdowns!$C$8,Dropdowns!$B$8,IF(I112=Dropdowns!$C$9,Dropdowns!$B$9,IF(I112=Dropdowns!$C$10,Dropdowns!$B$10,IF(I112=Dropdowns!$C$11,Dropdowns!$B$11,IF(I112=Dropdowns!$C$12,Dropdowns!$B$12,IF(I112=Dropdowns!$C$13,Dropdowns!$B$13,IF(I112=Dropdowns!$C$14,Dropdowns!$B$14,IF(I112=Dropdowns!$C$15,Dropdowns!$B$15,IF(I112=Dropdowns!$C$16,Dropdowns!$B$16,IF(I112=Dropdowns!$C$17,Dropdowns!$B$17,IF(I112=Dropdowns!$C$18,Dropdowns!$B$18,IF(I112=Dropdowns!$C$19,Dropdowns!$B$19,IF(I112=Dropdowns!$C$20,Dropdowns!$B$20,IF(I112=Dropdowns!$C$21,Dropdowns!$B$21,IF(I112=Dropdowns!$C$22,Dropdowns!$B$22,IF(I112=Dropdowns!$C$23,Dropdowns!$B$23,IF(I112=Dropdowns!$C$24,Dropdowns!$B$24,IF(I112=Dropdowns!$C$25,Dropdowns!$B$25,IF(I112=Dropdowns!$C$26,Dropdowns!$B$26,IF(I112=Dropdowns!$C$27,Dropdowns!$B$27,IF(I112=Dropdowns!$C$28,Dropdowns!$B$28,IF(I112=Dropdowns!$C$29,Dropdowns!$B$29,IF(I112=Dropdowns!$C$30,Dropdowns!$B$30,IF(I112=Dropdowns!$C$31,Dropdowns!$B$31,IF(I112=Dropdowns!$C$32,Dropdowns!$B$32,IF(I112=Dropdowns!$C$33,Dropdowns!$B$33,IF(I112=Dropdowns!$C$34,Dropdowns!$B$34,IF(I112=Dropdowns!$C$35,Dropdowns!$B$35,IF(I112=Dropdowns!$C$36,Dropdowns!$B$36,IF(I112=Dropdowns!$C$37,Dropdowns!$B$37,IF(I112=Dropdowns!$C$38,Dropdowns!$B$38,IF(I112=Dropdowns!$C$39,Dropdowns!$B$39,IF(I112=Dropdowns!$C$40,Dropdowns!$B$40,IF(I112=Dropdowns!$C$41,Dropdowns!$B$41,IF(I112=Dropdowns!$C$42,Dropdowns!$B$42,IF(I112=Dropdowns!$C$43,Dropdowns!$B$43,IF(I112=Dropdowns!$C$44,Dropdowns!$B$44,IF(I112=Dropdowns!$C$45,Dropdowns!$B$45,IF(I112=Dropdowns!$C$46,Dropdowns!$B$46,IF(I112=Dropdowns!$C$47,Dropdowns!$B$47, IF(I112=Dropdowns!$C$48,Dropdowns!$B$48,\"0\"))))))))))))))))))))))))))))))))))))))))))","v":0},{"$f":"IF(AX112=Dropdowns!$F$15,Dropdowns!$G$15,IF(AX112=Dropdowns!$F$16,Dropdowns!$G$16,IF(AX112=Dropdowns!$F$17,Dropdowns!$G$17,\"0\")))","v":"0"}]
[null,null,null,null,null,null,null,null,null,null,"-",null,null,null,null,null,null,null,null,null,null,0,null,null,null,null,null,0,null,null,null,null,null,null,0,null,null,null,null,0,0,null,0,0,0,0,"-",null,null,null,null,null,null,null,null,null,null,null,null,null,null,null,0,0,0,0,0,0,0,0,0,0,1,{"$f":"IFERROR(IF(L113=Dropdowns!$F$32,\"\",IF(J113=\"Project\",AR113/BT113,IF(J113=\"Program\",AP113/BT113,\"\"))),\"\")","v":""},"",null,null,null,null,null,null,null,null,null,{"$f":"IF($CA113=\"\",0,VLOOKUP($CA113,'Conversion Tables'!$B$37:$C$62,2,FALSE))+IF($CB113=\"\",0,VLOOKUP($CB113,'Conversion Tables'!$B$37:$C$62,2,FALSE))+IF($CC113=\"\",0,VLOOKUP($CC113,'Conversion Tables'!$B$37:$C$62,2,FALSE))+IF($CD113=\"\",0,VLOOKUP($CD113,'Conversion Tables'!$B$37:$C$62,2,FALSE))+IF($CE113=\"\",0,VLOOKUP($CE113,'Conversion Tables'!$B$37:$C$62,2,FALSE))+IF($CF113=\"\",0,VLOOKUP($CF113,'Conversion Tables'!$B$37:$C$62,2,FALSE))","v":0},null,null,null,null,null,null,{"$f":"IFERROR(VLOOKUP(CM113,Dropdowns!A$51:B$55,2,FALSE),\"\")","v":""},null,null,null,null,null,null,null,null,null,null,{"$f":"IFERROR(VLOOKUP(AZ113,'Conversion Tables'!$G$8:$N$12,3,FALSE)/'Conversion Tables'!$I$12*Max_Point,0)","v":0},{"$f":"CY113*'Weighting Scale'!$D$9*DS113*DT113","v":0},{"$f":"IFERROR(VLOOKUP(BB113,'Conversion Tables'!$B$8:$C$32,2,FALSE),0)","v":0},{"$f":"IFERROR(VLOOKUP(BC113,'Conversion Tables'!$B$8:$C$32,2,FALSE),0)","v":0},{"$f":"(DA113-DB113)/'Conversion Tables'!$C$32*Max_Point","v":0},{"$f":"DC113*'Weighting Scale'!$D$10*DS113*DT113","v":0},{"$f":"IFERROR(VLOOKUP(BE113,'Conversion Tables'!$G$8:$N$12,2, FALSE)/'Conversion Tables'!$H$12*Max_Point,0)","v":0},{"$f":"DE113*'Weighting Scale'!$D$11*DS113*DT113","v":0},{"$f":"IFERROR(VLOOKUP(BF113,'Conversion Tables'!$G$8:$N$12,6,FALSE)/'Conversion Tables'!$L$12*Max_Point,0)","v":0},{"$f":"DG113*'Weighting Scale'!$D$14*DS113*DT113","v":0},{"$f":"IFERROR(VLOOKUP(BG113,'Conversion Tables'!$G$8:$N$12,4,FALSE)/'Conversion Tables'!$J$12*Max_Point,0)","v":0},{"$f":"DI113*'Weighting Scale'!$D$12*DS113*DT113","v":0},{"$f":"IFERROR(VLOOKUP(BH113,'Conversion Tables'!$G$8:$N$12,5,FALSE)/'Conversion Tables'!$K$12*Max_Point,0)","v":0},{"$f":"DK113*'Weighting Scale'!$D$13*DS113*DT113","v":0},{"$f":"IFERROR(VLOOKUP(BI113,'Conversion Tables'!$G$8:$N$12,7,FALSE)/'Conversion Tables'!$M$12*Max_Point,0)","v":0},{"$f":"DM113*'Weighting Scale'!$D$15*DS113*DT113","v":0},{"$f":"IF(BJ113 = \"Yes\",('Conversion Tables'!$N$12)/'Conversion Tables'!$N$12*Max_Point,0)","v":0},{"$f":"DO113*'Weighting Scale'!$D$16*DS113*DT113","v":0},0,0,0,{"$f":"IF(I113=Dropdowns!$C$7,Dropdowns!$B$7,IF(I113=Dropdowns!$C$8,Dropdowns!$B$8,IF(I113=Dropdowns!$C$9,Dropdowns!$B$9,IF(I113=Dropdowns!$C$10,Dropdowns!$B$10,IF(I113=Dropdowns!$C$11,Dropdowns!$B$11,IF(I113=Dropdowns!$C$12,Dropdowns!$B$12,IF(I113=Dropdowns!$C$13,Dropdowns!$B$13,IF(I113=Dropdowns!$C$14,Dropdowns!$B$14,IF(I113=Dropdowns!$C$15,Dropdowns!$B$15,IF(I113=Dropdowns!$C$16,Dropdowns!$B$16,IF(I113=Dropdowns!$C$17,Dropdowns!$B$17,IF(I113=Dropdowns!$C$18,Dropdowns!$B$18,IF(I113=Dropdowns!$C$19,Dropdowns!$B$19,IF(I113=Dropdowns!$C$20,Dropdowns!$B$20,IF(I113=Dropdowns!$C$21,Dropdowns!$B$21,IF(I113=Dropdowns!$C$22,Dropdowns!$B$22,IF(I113=Dropdowns!$C$23,Dropdowns!$B$23,IF(I113=Dropdowns!$C$24,Dropdowns!$B$24,IF(I113=Dropdowns!$C$25,Dropdowns!$B$25,IF(I113=Dropdowns!$C$26,Dropdowns!$B$26,IF(I113=Dropdowns!$C$27,Dropdowns!$B$27,IF(I113=Dropdowns!$C$28,Dropdowns!$B$28,IF(I113=Dropdowns!$C$29,Dropdowns!$B$29,IF(I113=Dropdowns!$C$30,Dropdowns!$B$30,IF(I113=Dropdowns!$C$31,Dropdowns!$B$31,IF(I113=Dropdowns!$C$32,Dropdowns!$B$32,IF(I113=Dropdowns!$C$33,Dropdowns!$B$33,IF(I113=Dropdowns!$C$34,Dropdowns!$B$34,IF(I113=Dropdowns!$C$35,Dropdowns!$B$35,IF(I113=Dropdowns!$C$36,Dropdowns!$B$36,IF(I113=Dropdowns!$C$37,Dropdowns!$B$37,IF(I113=Dropdowns!$C$38,Dropdowns!$B$38,IF(I113=Dropdowns!$C$39,Dropdowns!$B$39,IF(I113=Dropdowns!$C$40,Dropdowns!$B$40,IF(I113=Dropdowns!$C$41,Dropdowns!$B$41,IF(I113=Dropdowns!$C$42,Dropdowns!$B$42,IF(I113=Dropdowns!$C$43,Dropdowns!$B$43,IF(I113=Dropdowns!$C$44,Dropdowns!$B$44,IF(I113=Dropdowns!$C$45,Dropdowns!$B$45,IF(I113=Dropdowns!$C$46,Dropdowns!$B$46,IF(I113=Dropdowns!$C$47,Dropdowns!$B$47, IF(I113=Dropdowns!$C$48,Dropdowns!$B$48,\"0\"))))))))))))))))))))))))))))))))))))))))))","v":0},{"$f":"IF(AX113=Dropdowns!$F$15,Dropdowns!$G$15,IF(AX113=Dropdowns!$F$16,Dropdowns!$G$16,IF(AX113=Dropdowns!$F$17,Dropdowns!$G$17,\"0\")))","v":"0"}]
[null,null,null,null,null,null,null,null,null,null,"-",null,null,null,null,null,null,null,null,null,null,0,null,null,null,null,null,0,null,null,null,null,null,null,0,null,null,null,null,0,0,null,0,0,0,0,"-",null,null,null,null,null,null,null,null,null,null,null,null,null,null,null,0,0,0,0,0,0,0,0,0,0,1,{"$f":"IFERROR(IF(L114=Dropdowns!$F$32,\"\",IF(J114=\"Project\",AR114/BT114,IF(J114=\"Program\",AP114/BT114,\"\"))),\"\")","v":""},"",null,null,null,null,null,null,null,null,null,{"$f":"IF($CA114=\"\",0,VLOOKUP($CA114,'Conversion Tables'!$B$37:$C$62,2,FALSE))+IF($CB114=\"\",0,VLOOKUP($CB114,'Conversion Tables'!$B$37:$C$62,2,FALSE))+IF($CC114=\"\",0,VLOOKUP($CC114,'Conversion Tables'!$B$37:$C$62,2,FALSE))+IF($CD114=\"\",0,VLOOKUP($CD114,'Conversion Tables'!$B$37:$C$62,2,FALSE))+IF($CE114=\"\",0,VLOOKUP($CE114,'Conversion Tables'!$B$37:$C$62,2,FALSE))+IF($CF114=\"\",0,VLOOKUP($CF114,'Conversion Tables'!$B$37:$C$62,2,FALSE))","v":0},null,null,null,null,null,null,{"$f":"IFERROR(VLOOKUP(CM114,Dropdowns!A$51:B$55,2,FALSE),\"\")","v":""},null,null,null,null,null,null,null,null,null,null,{"$f":"IFERROR(VLOOKUP(AZ114,'Conversion Tables'!$G$8:$N$12,3,FALSE)/'Conversion Tables'!$I$12*Max_Point,0)","v":0},{"$f":"CY114*'Weighting Scale'!$D$9*DS114*DT114","v":0},{"$f":"IFERROR(VLOOKUP(BB114,'Conversion Tables'!$B$8:$C$32,2,FALSE),0)","v":0},{"$f":"IFERROR(VLOOKUP(BC114,'Conversion Tables'!$B$8:$C$32,2,FALSE),0)","v":0},{"$f":"(DA114-DB114)/'Conversion Tables'!$C$32*Max_Point","v":0},{"$f":"DC114*'Weighting Scale'!$D$10*DS114*DT114","v":0},{"$f":"IFERROR(VLOOKUP(BE114,'Conversion Tables'!$G$8:$N$12,2, FALSE)/'Conversion Tables'!$H$12*Max_Point,0)","v":0},{"$f":"DE114*'Weighting Scale'!$D$11*DS114*DT114","v":0},{"$f":"IFERROR(VLOOKUP(BF114,'Conversion Tables'!$G$8:$N$12,6,FALSE)/'Conversion Tables'!$L$12*Max_Point,0)","v":0},{"$f":"DG114*'Weighting Scale'!$D$14*DS114*DT114","v":0},{"$f":"IFERROR(VLOOKUP(BG114,'Conversion Tables'!$G$8:$N$12,4,FALSE)/'Conversion Tables'!$J$12*Max_Point,0)","v":0},{"$f":"DI114*'Weighting Scale'!$D$12*DS114*DT114","v":0},{"$f":"IFERROR(VLOOKUP(BH114,'Conversion Tables'!$G$8:$N$12,5,FALSE)/'Conversion Tables'!$K$12*Max_Point,0)","v":0},{"$f":"DK114*'Weighting Scale'!$D$13*DS114*DT114","v":0},{"$f":"IFERROR(VLOOKUP(BI114,'Conversion Tables'!$G$8:$N$12,7,FALSE)/'Conversion Tables'!$M$12*Max_Point,0)","v":0},{"$f":"DM114*'Weighting Scale'!$D$15*DS114*DT114","v":0},{"$f":"IF(BJ114 = \"Yes\",('Conversion Tables'!$N$12)/'Conversion Tables'!$N$12*Max_Point,0)","v":0},{"$f":"DO114*'Weighting Scale'!$D$16*DS114*DT114","v":0},0,0,0,{"$f":"IF(I114=Dropdowns!$C$7,Dropdowns!$B$7,IF(I114=Dropdowns!$C$8,Dropdowns!$B$8,IF(I114=Dropdowns!$C$9,Dropdowns!$B$9,IF(I114=Dropdowns!$C$10,Dropdowns!$B$10,IF(I114=Dropdowns!$C$11,Dropdowns!$B$11,IF(I114=Dropdowns!$C$12,Dropdowns!$B$12,IF(I114=Dropdowns!$C$13,Dropdowns!$B$13,IF(I114=Dropdowns!$C$14,Dropdowns!$B$14,IF(I114=Dropdowns!$C$15,Dropdowns!$B$15,IF(I114=Dropdowns!$C$16,Dropdowns!$B$16,IF(I114=Dropdowns!$C$17,Dropdowns!$B$17,IF(I114=Dropdowns!$C$18,Dropdowns!$B$18,IF(I114=Dropdowns!$C$19,Dropdowns!$B$19,IF(I114=Dropdowns!$C$20,Dropdowns!$B$20,IF(I114=Dropdowns!$C$21,Dropdowns!$B$21,IF(I114=Dropdowns!$C$22,Dropdowns!$B$22,IF(I114=Dropdowns!$C$23,Dropdowns!$B$23,IF(I114=Dropdowns!$C$24,Dropdowns!$B$24,IF(I114=Dropdowns!$C$25,Dropdowns!$B$25,IF(I114=Dropdowns!$C$26,Dropdowns!$B$26,IF(I114=Dropdowns!$C$27,Dropdowns!$B$27,IF(I114=Dropdowns!$C$28,Dropdowns!$B$28,IF(I114=Dropdowns!$C$29,Dropdowns!$B$29,IF(I114=Dropdowns!$C$30,Dropdowns!$B$30,IF(I114=Dropdowns!$C$31,Dropdowns!$B$31,IF(I114=Dropdowns!$C$32,Dropdowns!$B$32,IF(I114=Dropdowns!$C$33,Dropdowns!$B$33,IF(I114=Dropdowns!$C$34,Dropdowns!$B$34,IF(I114=Dropdowns!$C$35,Dropdowns!$B$35,IF(I114=Dropdowns!$C$36,Dropdowns!$B$36,IF(I114=Dropdowns!$C$37,Dropdowns!$B$37,IF(I114=Dropdowns!$C$38,Dropdowns!$B$38,IF(I114=Dropdowns!$C$39,Dropdowns!$B$39,IF(I114=Dropdowns!$C$40,Dropdowns!$B$40,IF(I114=Dropdowns!$C$41,Dropdowns!$B$41,IF(I114=Dropdowns!$C$42,Dropdowns!$B$42,IF(I114=Dropdowns!$C$43,Dropdowns!$B$43,IF(I114=Dropdowns!$C$44,Dropdowns!$B$44,IF(I114=Dropdowns!$C$45,Dropdowns!$B$45,IF(I114=Dropdowns!$C$46,Dropdowns!$B$46,IF(I114=Dropdowns!$C$47,Dropdowns!$B$47, IF(I114=Dropdowns!$C$48,Dropdowns!$B$48,\"0\"))))))))))))))))))))))))))))))))))))))))))","v":0},{"$f":"IF(AX114=Dropdowns!$F$15,Dropdowns!$G$15,IF(AX114=Dropdowns!$F$16,Dropdowns!$G$16,IF(AX114=Dropdowns!$F$17,Dropdowns!$G$17,\"0\")))","v":"0"}]
[null,null,null,null,null,null,null,null,null,null,"-",null,null,null,null,null,null,null,null,null,null,0,null,null,null,null,null,0,null,null,null,null,null,null,0,null,null,null,null,0,0,null,0,0,0,0,"-",null,null,null,null,null,null,null,null,null,null,null,null,null,null,null,0,0,0,0,0,0,0,0,0,0,1,{"$f":"IFERROR(IF(L115=Dropdowns!$F$32,\"\",IF(J115=\"Project\",AR115/BT115,IF(J115=\"Program\",AP115/BT115,\"\"))),\"\")","v":""},"",null,null,null,null,null,null,null,null,null,{"$f":"IF($CA115=\"\",0,VLOOKUP($CA115,'Conversion Tables'!$B$37:$C$62,2,FALSE))+IF($CB115=\"\",0,VLOOKUP($CB115,'Conversion Tables'!$B$37:$C$62,2,FALSE))+IF($CC115=\"\",0,VLOOKUP($CC115,'Conversion Tables'!$B$37:$C$62,2,FALSE))+IF($CD115=\"\",0,VLOOKUP($CD115,'Conversion Tables'!$B$37:$C$62,2,FALSE))+IF($CE115=\"\",0,VLOOKUP($CE115,'Conversion Tables'!$B$37:$C$62,2,FALSE))+IF($CF115=\"\",0,VLOOKUP($CF115,'Conversion Tables'!$B$37:$C$62,2,FALSE))","v":0},null,null,null,null,null,null,{"$f":"IFERROR(VLOOKUP(CM115,Dropdowns!A$51:B$55,2,FALSE),\"\")","v":""},null,null,null,null,null,null,null,null,null,null,{"$f":"IFERROR(VLOOKUP(AZ115,'Conversion Tables'!$G$8:$N$12,3,FALSE)/'Conversion Tables'!$I$12*Max_Point,0)","v":0},{"$f":"CY115*'Weighting Scale'!$D$9*DS115*DT115","v":0},{"$f":"IFERROR(VLOOKUP(BB115,'Conversion Tables'!$B$8:$C$32,2,FALSE),0)","v":0},{"$f":"IFERROR(VLOOKUP(BC115,'Conversion Tables'!$B$8:$C$32,2,FALSE),0)","v":0},{"$f":"(DA115-DB115)/'Conversion Tables'!$C$32*Max_Point","v":0},{"$f":"DC115*'Weighting Scale'!$D$10*DS115*DT115","v":0},{"$f":"IFERROR(VLOOKUP(BE115,'Conversion Tables'!$G$8:$N$12,2, FALSE)/'Conversion Tables'!$H$12*Max_Point,0)","v":0},{"$f":"DE115*'Weighting Scale'!$D$11*DS115*DT115","v":0},{"$f":"IFERROR(VLOOKUP(BF115,'Conversion Tables'!$G$8:$N$12,6,FALSE)/'Conversion Tables'!$L$12*Max_Point,0)","v":0},{"$f":"DG115*'Weighting Scale'!$D$14*DS115*DT115","v":0},{"$f":"IFERROR(VLOOKUP(BG115,'Conversion Tables'!$G$8:$N$12,4,FALSE)/'Conversion Tables'!$J$12*Max_Point,0)","v":0},{"$f":"DI115*'Weighting Scale'!$D$12*DS115*DT115","v":0},{"$f":"IFERROR(VLOOKUP(BH115,'Conversion Tables'!$G$8:$N$12,5,FALSE)/'Conversion Tables'!$K$12*Max_Point,0)","v":0},{"$f":"DK115*'Weighting Scale'!$D$13*DS115*DT115","v":0},{"$f":"IFERROR(VLOOKUP(BI115,'Conversion Tables'!$G$8:$N$12,7,FALSE)/'Conversion Tables'!$M$12*Max_Point,0)","v":0},{"$f":"DM115*'Weighting Scale'!$D$15*DS115*DT115","v":0},{"$f":"IF(BJ115 = \"Yes\",('Conversion Tables'!$N$12)/'Conversion Tables'!$N$12*Max_Point,0)","v":0},{"$f":"DO115*'Weighting Scale'!$D$16*DS115*DT115","v":0},0,0,0,{"$f":"IF(I115=Dropdowns!$C$7,Dropdowns!$B$7,IF(I115=Dropdowns!$C$8,Dropdowns!$B$8,IF(I115=Dropdowns!$C$9,Dropdowns!$B$9,IF(I115=Dropdowns!$C$10,Dropdowns!$B$10,IF(I115=Dropdowns!$C$11,Dropdowns!$B$11,IF(I115=Dropdowns!$C$12,Dropdowns!$B$12,IF(I115=Dropdowns!$C$13,Dropdowns!$B$13,IF(I115=Dropdowns!$C$14,Dropdowns!$B$14,IF(I115=Dropdowns!$C$15,Dropdowns!$B$15,IF(I115=Dropdowns!$C$16,Dropdowns!$B$16,IF(I115=Dropdowns!$C$17,Dropdowns!$B$17,IF(I115=Dropdowns!$C$18,Dropdowns!$B$18,IF(I115=Dropdowns!$C$19,Dropdowns!$B$19,IF(I115=Dropdowns!$C$20,Dropdowns!$B$20,IF(I115=Dropdowns!$C$21,Dropdowns!$B$21,IF(I115=Dropdowns!$C$22,Dropdowns!$B$22,IF(I115=Dropdowns!$C$23,Dropdowns!$B$23,IF(I115=Dropdowns!$C$24,Dropdowns!$B$24,IF(I115=Dropdowns!$C$25,Dropdowns!$B$25,IF(I115=Dropdowns!$C$26,Dropdowns!$B$26,IF(I115=Dropdowns!$C$27,Dropdowns!$B$27,IF(I115=Dropdowns!$C$28,Dropdowns!$B$28,IF(I115=Dropdowns!$C$29,Dropdowns!$B$29,IF(I115=Dropdowns!$C$30,Dropdowns!$B$30,IF(I115=Dropdowns!$C$31,Dropdowns!$B$31,IF(I115=Dropdowns!$C$32,Dropdowns!$B$32,IF(I115=Dropdowns!$C$33,Dropdowns!$B$33,IF(I115=Dropdowns!$C$34,Dropdowns!$B$34,IF(I115=Dropdowns!$C$35,Dropdowns!$B$35,IF(I115=Dropdowns!$C$36,Dropdowns!$B$36,IF(I115=Dropdowns!$C$37,Dropdowns!$B$37,IF(I115=Dropdowns!$C$38,Dropdowns!$B$38,IF(I115=Dropdowns!$C$39,Dropdowns!$B$39,IF(I115=Dropdowns!$C$40,Dropdowns!$B$40,IF(I115=Dropdowns!$C$41,Dropdowns!$B$41,IF(I115=Dropdowns!$C$42,Dropdowns!$B$42,IF(I115=Dropdowns!$C$43,Dropdowns!$B$43,IF(I115=Dropdowns!$C$44,Dropdowns!$B$44,IF(I115=Dropdowns!$C$45,Dropdowns!$B$45,IF(I115=Dropdowns!$C$46,Dropdowns!$B$46,IF(I115=Dropdowns!$C$47,Dropdowns!$B$47, IF(I115=Dropdowns!$C$48,Dropdowns!$B$48,\"0\"))))))))))))))))))))))))))))))))))))))))))","v":0},{"$f":"IF(AX115=Dropdowns!$F$15,Dropdowns!$G$15,IF(AX115=Dropdowns!$F$16,Dropdowns!$G$16,IF(AX115=Dropdowns!$F$17,Dropdowns!$G$17,\"0\")))","v":"0"}]
[null,null,null,null,null,null,null,null,null,null,"-",null,null,null,null,null,null,null,null,null,null,0,null,null,null,null,null,0,null,null,null,null,null,null,0,null,null,null,null,0,0,null,0,0,0,0,"-",null,null,null,null,null,null,null,null,null,null,null,null,null,null,null,0,0,0,0,0,0,0,0,0,0,1,{"$f":"IFERROR(IF(L116=Dropdowns!$F$32,\"\",IF(J116=\"Project\",AR116/BT116,IF(J116=\"Program\",AP116/BT116,\"\"))),\"\")","v":""},"",null,null,null,null,null,null,null,null,null,{"$f":"IF($CA116=\"\",0,VLOOKUP($CA116,'Conversion Tables'!$B$37:$C$62,2,FALSE))+IF($CB116=\"\",0,VLOOKUP($CB116,'Conversion Tables'!$B$37:$C$62,2,FALSE))+IF($CC116=\"\",0,VLOOKUP($CC116,'Conversion Tables'!$B$37:$C$62,2,FALSE))+IF($CD116=\"\",0,VLOOKUP($CD116,'Conversion Tables'!$B$37:$C$62,2,FALSE))+IF($CE116=\"\",0,VLOOKUP($CE116,'Conversion Tables'!$B$37:$C$62,2,FALSE))+IF($CF116=\"\",0,VLOOKUP($CF116,'Conversion Tables'!$B$37:$C$62,2,FALSE))","v":0},null,null,null,null,null,null,{"$f":"IFERROR(VLOOKUP(CM116,Dropdowns!A$51:B$55,2,FALSE),\"\")","v":""},null,null,null,null,null,null,null,null,null,null,{"$f":"IFERROR(VLOOKUP(AZ116,'Conversion Tables'!$G$8:$N$12,3,FALSE)/'Conversion Tables'!$I$12*Max_Point,0)","v":0},{"$f":"CY116*'Weighting Scale'!$D$9*DS116*DT116","v":0},{"$f":"IFERROR(VLOOKUP(BB116,'Conversion Tables'!$B$8:$C$32,2,FALSE),0)","v":0},{"$f":"IFERROR(VLOOKUP(BC116,'Conversion Tables'!$B$8:$C$32,2,FALSE),0)","v":0},{"$f":"(DA116-DB116)/'Conversion Tables'!$C$32*Max_Point","v":0},{"$f":"DC116*'Weighting Scale'!$D$10*DS116*DT116","v":0},{"$f":"IFERROR(VLOOKUP(BE116,'Conversion Tables'!$G$8:$N$12,2, FALSE)/'Conversion Tables'!$H$12*Max_Point,0)","v":0},{"$f":"DE116*'Weighting Scale'!$D$11*DS116*DT116","v":0},{"$f":"IFERROR(VLOOKUP(BF116,'Conversion Tables'!$G$8:$N$12,6,FALSE)/'Conversion Tables'!$L$12*Max_Point,0)","v":0},{"$f":"DG116*'Weighting Scale'!$D$14*DS116*DT116","v":0},{"$f":"IFERROR(VLOOKUP(BG116,'Conversion Tables'!$G$8:$N$12,4,FALSE)/'Conversion Tables'!$J$12*Max_Point,0)","v":0},{"$f":"DI116*'Weighting Scale'!$D$12*DS116*DT116","v":0},{"$f":"IFERROR(VLOOKUP(BH116,'Conversion Tables'!$G$8:$N$12,5,FALSE)/'Conversion Tables'!$K$12*Max_Point,0)","v":0},{"$f":"DK116*'Weighting Scale'!$D$13*DS116*DT116","v":0},{"$f":"IFERROR(VLOOKUP(BI116,'Conversion Tables'!$G$8:$N$12,7,FALSE)/'Conversion Tables'!$M$12*Max_Point,0)","v":0},{"$f":"DM116*'Weighting Scale'!$D$15*DS116*DT116","v":0},{"$f":"IF(BJ116 = \"Yes\",('Conversion Tables'!$N$12)/'Conversion Tables'!$N$12*Max_Point,0)","v":0},{"$f":"DO116*'Weighting Scale'!$D$16*DS116*DT116","v":0},0,0,0,{"$f":"IF(I116=Dropdowns!$C$7,Dropdowns!$B$7,IF(I116=Dropdowns!$C$8,Dropdowns!$B$8,IF(I116=Dropdowns!$C$9,Dropdowns!$B$9,IF(I116=Dropdowns!$C$10,Dropdowns!$B$10,IF(I116=Dropdowns!$C$11,Dropdowns!$B$11,IF(I116=Dropdowns!$C$12,Dropdowns!$B$12,IF(I116=Dropdowns!$C$13,Dropdowns!$B$13,IF(I116=Dropdowns!$C$14,Dropdowns!$B$14,IF(I116=Dropdowns!$C$15,Dropdowns!$B$15,IF(I116=Dropdowns!$C$16,Dropdowns!$B$16,IF(I116=Dropdowns!$C$17,Dropdowns!$B$17,IF(I116=Dropdowns!$C$18,Dropdowns!$B$18,IF(I116=Dropdowns!$C$19,Dropdowns!$B$19,IF(I116=Dropdowns!$C$20,Dropdowns!$B$20,IF(I116=Dropdowns!$C$21,Dropdowns!$B$21,IF(I116=Dropdowns!$C$22,Dropdowns!$B$22,IF(I116=Dropdowns!$C$23,Dropdowns!$B$23,IF(I116=Dropdowns!$C$24,Dropdowns!$B$24,IF(I116=Dropdowns!$C$25,Dropdowns!$B$25,IF(I116=Dropdowns!$C$26,Dropdowns!$B$26,IF(I116=Dropdowns!$C$27,Dropdowns!$B$27,IF(I116=Dropdowns!$C$28,Dropdowns!$B$28,IF(I116=Dropdowns!$C$29,Dropdowns!$B$29,IF(I116=Dropdowns!$C$30,Dropdowns!$B$30,IF(I116=Dropdowns!$C$31,Dropdowns!$B$31,IF(I116=Dropdowns!$C$32,Dropdowns!$B$32,IF(I116=Dropdowns!$C$33,Dropdowns!$B$33,IF(I116=Dropdowns!$C$34,Dropdowns!$B$34,IF(I116=Dropdowns!$C$35,Dropdowns!$B$35,IF(I116=Dropdowns!$C$36,Dropdowns!$B$36,IF(I116=Dropdowns!$C$37,Dropdowns!$B$37,IF(I116=Dropdowns!$C$38,Dropdowns!$B$38,IF(I116=Dropdowns!$C$39,Dropdowns!$B$39,IF(I116=Dropdowns!$C$40,Dropdowns!$B$40,IF(I116=Dropdowns!$C$41,Dropdowns!$B$41,IF(I116=Dropdowns!$C$42,Dropdowns!$B$42,IF(I116=Dropdowns!$C$43,Dropdowns!$B$43,IF(I116=Dropdowns!$C$44,Dropdowns!$B$44,IF(I116=Dropdowns!$C$45,Dropdowns!$B$45,IF(I116=Dropdowns!$C$46,Dropdowns!$B$46,IF(I116=Dropdowns!$C$47,Dropdowns!$B$47, IF(I116=Dropdowns!$C$48,Dropdowns!$B$48,\"0\"))))))))))))))))))))))))))))))))))))))))))","v":0},{"$f":"IF(AX116=Dropdowns!$F$15,Dropdowns!$G$15,IF(AX116=Dropdowns!$F$16,Dropdowns!$G$16,IF(AX116=Dropdowns!$F$17,Dropdowns!$G$17,\"0\")))","v":"0"}]
[null,null,null,null,null,null,null,null,null,null,"-",null,null,null,null,null,null,null,null,null,null,0,null,null,null,null,null,0,null,null,null,null,null,null,0,null,null,null,null,0,0,null,0,0,0,0,"-",null,null,null,null,null,null,null,null,null,null,null,null,null,null,null,0,0,0,0,0,0,0,0,0,0,1,{"$f":"IFERROR(IF(L117=Dropdowns!$F$32,\"\",IF(J117=\"Project\",AR117/BT117,IF(J117=\"Program\",AP117/BT117,\"\"))),\"\")","v":""},"",null,null,null,null,null,null,null,null,null,{"$f":"IF($CA117=\"\",0,VLOOKUP($CA117,'Conversion Tables'!$B$37:$C$62,2,FALSE))+IF($CB117=\"\",0,VLOOKUP($CB117,'Conversion Tables'!$B$37:$C$62,2,FALSE))+IF($CC117=\"\",0,VLOOKUP($CC117,'Conversion Tables'!$B$37:$C$62,2,FALSE))+IF($CD117=\"\",0,VLOOKUP($CD117,'Conversion Tables'!$B$37:$C$62,2,FALSE))+IF($CE117=\"\",0,VLOOKUP($CE117,'Conversion Tables'!$B$37:$C$62,2,FALSE))+IF($CF117=\"\",0,VLOOKUP($CF117,'Conversion Tables'!$B$37:$C$62,2,FALSE))","v":0},null,null,null,null,null,null,{"$f":"IFERROR(VLOOKUP(CM117,Dropdowns!A$51:B$55,2,FALSE),\"\")","v":""},null,null,null,null,null,null,null,null,null,null,{"$f":"IFERROR(VLOOKUP(AZ117,'Conversion Tables'!$G$8:$N$12,3,FALSE)/'Conversion Tables'!$I$12*Max_Point,0)","v":0},{"$f":"CY117*'Weighting Scale'!$D$9*DS117*DT117","v":0},{"$f":"IFERROR(VLOOKUP(BB117,'Conversion Tables'!$B$8:$C$32,2,FALSE),0)","v":0},{"$f":"IFERROR(VLOOKUP(BC117,'Conversion Tables'!$B$8:$C$32,2,FALSE),0)","v":0},{"$f":"(DA117-DB117)/'Conversion Tables'!$C$32*Max_Point","v":0},{"$f":"DC117*'Weighting Scale'!$D$10*DS117*DT117","v":0},{"$f":"IFERROR(VLOOKUP(BE117,'Conversion Tables'!$G$8:$N$12,2, FALSE)/'Conversion Tables'!$H$12*Max_Point,0)","v":0},{"$f":"DE117*'Weighting Scale'!$D$11*DS117*DT117","v":0},{"$f":"IFERROR(VLOOKUP(BF117,'Conversion Tables'!$G$8:$N$12,6,FALSE)/'Conversion Tables'!$L$12*Max_Point,0)","v":0},{"$f":"DG117*'Weighting Scale'!$D$14*DS117*DT117","v":0},{"$f":"IFERROR(VLOOKUP(BG117,'Conversion Tables'!$G$8:$N$12,4,FALSE)/'Conversion Tables'!$J$12*Max_Point,0)","v":0},{"$f":"DI117*'Weighting Scale'!$D$12*DS117*DT117","v":0},{"$f":"IFERROR(VLOOKUP(BH117,'Conversion Tables'!$G$8:$N$12,5,FALSE)/'Conversion Tables'!$K$12*Max_Point,0)","v":0},{"$f":"DK117*'Weighting Scale'!$D$13*DS117*DT117","v":0},{"$f":"IFERROR(VLOOKUP(BI117,'Conversion Tables'!$G$8:$N$12,7,FALSE)/'Conversion Tables'!$M$12*Max_Point,0)","v":0},{"$f":"DM117*'Weighting Scale'!$D$15*DS117*DT117","v":0},{"$f":"IF(BJ117 = \"Yes\",('Conversion Tables'!$N$12)/'Conversion Tables'!$N$12*Max_Point,0)","v":0},{"$f":"DO117*'Weighting Scale'!$D$16*DS117*DT117","v":0},0,0,0,{"$f":"IF(I117=Dropdowns!$C$7,Dropdowns!$B$7,IF(I117=Dropdowns!$C$8,Dropdowns!$B$8,IF(I117=Dropdowns!$C$9,Dropdowns!$B$9,IF(I117=Dropdowns!$C$10,Dropdowns!$B$10,IF(I117=Dropdowns!$C$11,Dropdowns!$B$11,IF(I117=Dropdowns!$C$12,Dropdowns!$B$12,IF(I117=Dropdowns!$C$13,Dropdowns!$B$13,IF(I117=Dropdowns!$C$14,Dropdowns!$B$14,IF(I117=Dropdowns!$C$15,Dropdowns!$B$15,IF(I117=Dropdowns!$C$16,Dropdowns!$B$16,IF(I117=Dropdowns!$C$17,Dropdowns!$B$17,IF(I117=Dropdowns!$C$18,Dropdowns!$B$18,IF(I117=Dropdowns!$C$19,Dropdowns!$B$19,IF(I117=Dropdowns!$C$20,Dropdowns!$B$20,IF(I117=Dropdowns!$C$21,Dropdowns!$B$21,IF(I117=Dropdowns!$C$22,Dropdowns!$B$22,IF(I117=Dropdowns!$C$23,Dropdowns!$B$23,IF(I117=Dropdowns!$C$24,Dropdowns!$B$24,IF(I117=Dropdowns!$C$25,Dropdowns!$B$25,IF(I117=Dropdowns!$C$26,Dropdowns!$B$26,IF(I117=Dropdowns!$C$27,Dropdowns!$B$27,IF(I117=Dropdowns!$C$28,Dropdowns!$B$28,IF(I117=Dropdowns!$C$29,Dropdowns!$B$29,IF(I117=Dropdowns!$C$30,Dropdowns!$B$30,IF(I117=Dropdowns!$C$31,Dropdowns!$B$31,IF(I117=Dropdowns!$C$32,Dropdowns!$B$32,IF(I117=Dropdowns!$C$33,Dropdowns!$B$33,IF(I117=Dropdowns!$C$34,Dropdowns!$B$34,IF(I117=Dropdowns!$C$35,Dropdowns!$B$35,IF(I117=Dropdowns!$C$36,Dropdowns!$B$36,IF(I117=Dropdowns!$C$37,Dropdowns!$B$37,IF(I117=Dropdowns!$C$38,Dropdowns!$B$38,IF(I117=Dropdowns!$C$39,Dropdowns!$B$39,IF(I117=Dropdowns!$C$40,Dropdowns!$B$40,IF(I117=Dropdowns!$C$41,Dropdowns!$B$41,IF(I117=Dropdowns!$C$42,Dropdowns!$B$42,IF(I117=Dropdowns!$C$43,Dropdowns!$B$43,IF(I117=Dropdowns!$C$44,Dropdowns!$B$44,IF(I117=Dropdowns!$C$45,Dropdowns!$B$45,IF(I117=Dropdowns!$C$46,Dropdowns!$B$46,IF(I117=Dropdowns!$C$47,Dropdowns!$B$47, IF(I117=Dropdowns!$C$48,Dropdowns!$B$48,\"0\"))))))))))))))))))))))))))))))))))))))))))","v":0},{"$f":"IF(AX117=Dropdowns!$F$15,Dropdowns!$G$15,IF(AX117=Dropdowns!$F$16,Dropdowns!$G$16,IF(AX117=Dropdowns!$F$17,Dropdowns!$G$17,\"0\")))","v":"0"}]
[null,null,null,null,null,null,null,null,null,null,"-",null,null,null,null,null,null,null,null,null,null,0,null,null,null,null,null,0,null,null,null,null,null,null,0,null,null,null,null,0,0,null,0,0,0,0,"-",null,null,null,null,null,null,null,null,null,null,null,null,null,null,null,0,0,0,0,0,0,0,0,0,0,1,{"$f":"IFERROR(IF(L118=Dropdowns!$F$32,\"\",IF(J118=\"Project\",AR118/BT118,IF(J118=\"Program\",AP118/BT118,\"\"))),\"\")","v":""},"",null,null,null,null,null,null,null,null,null,{"$f":"IF($CA118=\"\",0,VLOOKUP($CA118,'Conversion Tables'!$B$37:$C$62,2,FALSE))+IF($CB118=\"\",0,VLOOKUP($CB118,'Conversion Tables'!$B$37:$C$62,2,FALSE))+IF($CC118=\"\",0,VLOOKUP($CC118,'Conversion Tables'!$B$37:$C$62,2,FALSE))+IF($CD118=\"\",0,VLOOKUP($CD118,'Conversion Tables'!$B$37:$C$62,2,FALSE))+IF($CE118=\"\",0,VLOOKUP($CE118,'Conversion Tables'!$B$37:$C$62,2,FALSE))+IF($CF118=\"\",0,VLOOKUP($CF118,'Conversion Tables'!$B$37:$C$62,2,FALSE))","v":0},null,null,null,null,null,null,{"$f":"IFERROR(VLOOKUP(CM118,Dropdowns!A$51:B$55,2,FALSE),\"\")","v":""},null,null,null,null,null,null,null,null,null,null,{"$f":"IFERROR(VLOOKUP(AZ118,'Conversion Tables'!$G$8:$N$12,3,FALSE)/'Conversion Tables'!$I$12*Max_Point,0)","v":0},{"$f":"CY118*'Weighting Scale'!$D$9*DS118*DT118","v":0},{"$f":"IFERROR(VLOOKUP(BB118,'Conversion Tables'!$B$8:$C$32,2,FALSE),0)","v":0},{"$f":"IFERROR(VLOOKUP(BC118,'Conversion Tables'!$B$8:$C$32,2,FALSE),0)","v":0},{"$f":"(DA118-DB118)/'Conversion Tables'!$C$32*Max_Point","v":0},{"$f":"DC118*'Weighting Scale'!$D$10*DS118*DT118","v":0},{"$f":"IFERROR(VLOOKUP(BE118,'Conversion Tables'!$G$8:$N$12,2, FALSE)/'Conversion Tables'!$H$12*Max_Point,0)","v":0},{"$f":"DE118*'Weighting Scale'!$D$11*DS118*DT118","v":0},{"$f":"IFERROR(VLOOKUP(BF118,'Conversion Tables'!$G$8:$N$12,6,FALSE)/'Conversion Tables'!$L$12*Max_Point,0)","v":0},{"$f":"DG118*'Weighting Scale'!$D$14*DS118*DT118","v":0},{"$f":"IFERROR(VLOOKUP(BG118,'Conversion Tables'!$G$8:$N$12,4,FALSE)/'Conversion Tables'!$J$12*Max_Point,0)","v":0},{"$f":"DI118*'Weighting Scale'!$D$12*DS118*DT118","v":0},{"$f":"IFERROR(VLOOKUP(BH118,'Conversion Tables'!$G$8:$N$12,5,FALSE)/'Conversion Tables'!$K$12*Max_Point,0)","v":0},{"$f":"DK118*'Weighting Scale'!$D$13*DS118*DT118","v":0},{"$f":"IFERROR(VLOOKUP(BI118,'Conversion Tables'!$G$8:$N$12,7,FALSE)/'Conversion Tables'!$M$12*Max_Point,0)","v":0},{"$f":"DM118*'Weighting Scale'!$D$15*DS118*DT118","v":0},{"$f":"IF(BJ118 = \"Yes\",('Conversion Tables'!$N$12)/'Conversion Tables'!$N$12*Max_Point,0)","v":0},{"$f":"DO118*'Weighting Scale'!$D$16*DS118*DT118","v":0},0,0,0,{"$f":"IF(I118=Dropdowns!$C$7,Dropdowns!$B$7,IF(I118=Dropdowns!$C$8,Dropdowns!$B$8,IF(I118=Dropdowns!$C$9,Dropdowns!$B$9,IF(I118=Dropdowns!$C$10,Dropdowns!$B$10,IF(I118=Dropdowns!$C$11,Dropdowns!$B$11,IF(I118=Dropdowns!$C$12,Dropdowns!$B$12,IF(I118=Dropdowns!$C$13,Dropdowns!$B$13,IF(I118=Dropdowns!$C$14,Dropdowns!$B$14,IF(I118=Dropdowns!$C$15,Dropdowns!$B$15,IF(I118=Dropdowns!$C$16,Dropdowns!$B$16,IF(I118=Dropdowns!$C$17,Dropdowns!$B$17,IF(I118=Dropdowns!$C$18,Dropdowns!$B$18,IF(I118=Dropdowns!$C$19,Dropdowns!$B$19,IF(I118=Dropdowns!$C$20,Dropdowns!$B$20,IF(I118=Dropdowns!$C$21,Dropdowns!$B$21,IF(I118=Dropdowns!$C$22,Dropdowns!$B$22,IF(I118=Dropdowns!$C$23,Dropdowns!$B$23,IF(I118=Dropdowns!$C$24,Dropdowns!$B$24,IF(I118=Dropdowns!$C$25,Dropdowns!$B$25,IF(I118=Dropdowns!$C$26,Dropdowns!$B$26,IF(I118=Dropdowns!$C$27,Dropdowns!$B$27,IF(I118=Dropdowns!$C$28,Dropdowns!$B$28,IF(I118=Dropdowns!$C$29,Dropdowns!$B$29,IF(I118=Dropdowns!$C$30,Dropdowns!$B$30,IF(I118=Dropdowns!$C$31,Dropdowns!$B$31,IF(I118=Dropdowns!$C$32,Dropdowns!$B$32,IF(I118=Dropdowns!$C$33,Dropdowns!$B$33,IF(I118=Dropdowns!$C$34,Dropdowns!$B$34,IF(I118=Dropdowns!$C$35,Dropdowns!$B$35,IF(I118=Dropdowns!$C$36,Dropdowns!$B$36,IF(I118=Dropdowns!$C$37,Dropdowns!$B$37,IF(I118=Dropdowns!$C$38,Dropdowns!$B$38,IF(I118=Dropdowns!$C$39,Dropdowns!$B$39,IF(I118=Dropdowns!$C$40,Dropdowns!$B$40,IF(I118=Dropdowns!$C$41,Dropdowns!$B$41,IF(I118=Dropdowns!$C$42,Dropdowns!$B$42,IF(I118=Dropdowns!$C$43,Dropdowns!$B$43,IF(I118=Dropdowns!$C$44,Dropdowns!$B$44,IF(I118=Dropdowns!$C$45,Dropdowns!$B$45,IF(I118=Dropdowns!$C$46,Dropdowns!$B$46,IF(I118=Dropdowns!$C$47,Dropdowns!$B$47, IF(I118=Dropdowns!$C$48,Dropdowns!$B$48,\"0\"))))))))))))))))))))))))))))))))))))))))))","v":0},{"$f":"IF(AX118=Dropdowns!$F$15,Dropdowns!$G$15,IF(AX118=Dropdowns!$F$16,Dropdowns!$G$16,IF(AX118=Dropdowns!$F$17,Dropdowns!$G$17,\"0\")))","v":"0"}]
[null,null,null,null,null,null,null,null,null,null,"-",null,null,null,null,null,null,null,null,null,null,0,null,null,null,null,null,0,null,null,null,null,null,null,0,null,null,null,null,0,0,null,0,0,0,0,"-",null,null,null,null,null,null,null,null,null,null,null,null,null,null,null,0,0,0,0,0,0,0,0,0,0,1,{"$f":"IFERROR(IF(L119=Dropdowns!$F$32,\"\",IF(J119=\"Project\",AR119/BT119,IF(J119=\"Program\",AP119/BT119,\"\"))),\"\")","v":""},"",null,null,null,null,null,null,null,null,null,{"$f":"IF($CA119=\"\",0,VLOOKUP($CA119,'Conversion Tables'!$B$37:$C$62,2,FALSE))+IF($CB119=\"\",0,VLOOKUP($CB119,'Conversion Tables'!$B$37:$C$62,2,FALSE))+IF($CC119=\"\",0,VLOOKUP($CC119,'Conversion Tables'!$B$37:$C$62,2,FALSE))+IF($CD119=\"\",0,VLOOKUP($CD119,'Conversion Tables'!$B$37:$C$62,2,FALSE))+IF($CE119=\"\",0,VLOOKUP($CE119,'Conversion Tables'!$B$37:$C$62,2,FALSE))+IF($CF119=\"\",0,VLOOKUP($CF119,'Conversion Tables'!$B$37:$C$62,2,FALSE))","v":0},null,null,null,null,null,null,{"$f":"IFERROR(VLOOKUP(CM119,Dropdowns!A$51:B$55,2,FALSE),\"\")","v":""},null,null,null,null,null,null,null,null,null,null,{"$f":"IFERROR(VLOOKUP(AZ119,'Conversion Tables'!$G$8:$N$12,3,FALSE)/'Conversion Tables'!$I$12*Max_Point,0)","v":0},{"$f":"CY119*'Weighting Scale'!$D$9*DS119*DT119","v":0},{"$f":"IFERROR(VLOOKUP(BB119,'Conversion Tables'!$B$8:$C$32,2,FALSE),0)","v":0},{"$f":"IFERROR(VLOOKUP(BC119,'Conversion Tables'!$B$8:$C$32,2,FALSE),0)","v":0},{"$f":"(DA119-DB119)/'Conversion Tables'!$C$32*Max_Point","v":0},{"$f":"DC119*'Weighting Scale'!$D$10*DS119*DT119","v":0},{"$f":"IFERROR(VLOOKUP(BE119,'Conversion Tables'!$G$8:$N$12,2, FALSE)/'Conversion Tables'!$H$12*Max_Point,0)","v":0},{"$f":"DE119*'Weighting Scale'!$D$11*DS119*DT119","v":0},{"$f":"IFERROR(VLOOKUP(BF119,'Conversion Tables'!$G$8:$N$12,6,FALSE)/'Conversion Tables'!$L$12*Max_Point,0)","v":0},{"$f":"DG119*'Weighting Scale'!$D$14*DS119*DT119","v":0},{"$f":"IFERROR(VLOOKUP(BG119,'Conversion Tables'!$G$8:$N$12,4,FALSE)/'Conversion Tables'!$J$12*Max_Point,0)","v":0},{"$f":"DI119*'Weighting Scale'!$D$12*DS119*DT119","v":0},{"$f":"IFERROR(VLOOKUP(BH119,'Conversion Tables'!$G$8:$N$12,5,FALSE)/'Conversion Tables'!$K$12*Max_Point,0)","v":0},{"$f":"DK119*'Weighting Scale'!$D$13*DS119*DT119","v":0},{"$f":"IFERROR(VLOOKUP(BI119,'Conversion Tables'!$G$8:$N$12,7,FALSE)/'Conversion Tables'!$M$12*Max_Point,0)","v":0},{"$f":"DM119*'Weighting Scale'!$D$15*DS119*DT119","v":0},{"$f":"IF(BJ119 = \"Yes\",('Conversion Tables'!$N$12)/'Conversion Tables'!$N$12*Max_Point,0)","v":0},{"$f":"DO119*'Weighting Scale'!$D$16*DS119*DT119","v":0},0,0,0,{"$f":"IF(I119=Dropdowns!$C$7,Dropdowns!$B$7,IF(I119=Dropdowns!$C$8,Dropdowns!$B$8,IF(I119=Dropdowns!$C$9,Dropdowns!$B$9,IF(I119=Dropdowns!$C$10,Dropdowns!$B$10,IF(I119=Dropdowns!$C$11,Dropdowns!$B$11,IF(I119=Dropdowns!$C$12,Dropdowns!$B$12,IF(I119=Dropdowns!$C$13,Dropdowns!$B$13,IF(I119=Dropdowns!$C$14,Dropdowns!$B$14,IF(I119=Dropdowns!$C$15,Dropdowns!$B$15,IF(I119=Dropdowns!$C$16,Dropdowns!$B$16,IF(I119=Dropdowns!$C$17,Dropdowns!$B$17,IF(I119=Dropdowns!$C$18,Dropdowns!$B$18,IF(I119=Dropdowns!$C$19,Dropdowns!$B$19,IF(I119=Dropdowns!$C$20,Dropdowns!$B$20,IF(I119=Dropdowns!$C$21,Dropdowns!$B$21,IF(I119=Dropdowns!$C$22,Dropdowns!$B$22,IF(I119=Dropdowns!$C$23,Dropdowns!$B$23,IF(I119=Dropdowns!$C$24,Dropdowns!$B$24,IF(I119=Dropdowns!$C$25,Dropdowns!$B$25,IF(I119=Dropdowns!$C$26,Dropdowns!$B$26,IF(I119=Dropdowns!$C$27,Dropdowns!$B$27,IF(I119=Dropdowns!$C$28,Dropdowns!$B$28,IF(I119=Dropdowns!$C$29,Dropdowns!$B$29,IF(I119=Dropdowns!$C$30,Dropdowns!$B$30,IF(I119=Dropdowns!$C$31,Dropdowns!$B$31,IF(I119=Dropdowns!$C$32,Dropdowns!$B$32,IF(I119=Dropdowns!$C$33,Dropdowns!$B$33,IF(I119=Dropdowns!$C$34,Dropdowns!$B$34,IF(I119=Dropdowns!$C$35,Dropdowns!$B$35,IF(I119=Dropdowns!$C$36,Dropdowns!$B$36,IF(I119=Dropdowns!$C$37,Dropdowns!$B$37,IF(I119=Dropdowns!$C$38,Dropdowns!$B$38,IF(I119=Dropdowns!$C$39,Dropdowns!$B$39,IF(I119=Dropdowns!$C$40,Dropdowns!$B$40,IF(I119=Dropdowns!$C$41,Dropdowns!$B$41,IF(I119=Dropdowns!$C$42,Dropdowns!$B$42,IF(I119=Dropdowns!$C$43,Dropdowns!$B$43,IF(I119=Dropdowns!$C$44,Dropdowns!$B$44,IF(I119=Dropdowns!$C$45,Dropdowns!$B$45,IF(I119=Dropdowns!$C$46,Dropdowns!$B$46,IF(I119=Dropdowns!$C$47,Dropdowns!$B$47, IF(I119=Dropdowns!$C$48,Dropdowns!$B$48,\"0\"))))))))))))))))))))))))))))))))))))))))))","v":0},{"$f":"IF(AX119=Dropdowns!$F$15,Dropdowns!$G$15,IF(AX119=Dropdowns!$F$16,Dropdowns!$G$16,IF(AX119=Dropdowns!$F$17,Dropdowns!$G$17,\"0\")))","v":"0"}]
[null,null,null,null,null,null,null,null,null,null,"-",null,null,null,null,null,null,null,null,null,null,0,null,null,null,null,null,0,null,null,null,null,null,null,0,null,null,null,null,0,0,null,0,0,0,0,"-",null,null,null,null,null,null,null,null,null,null,null,null,null,null,null,0,0,0,0,0,0,0,0,0,0,1,{"$f":"IFERROR(IF(L120=Dropdowns!$F$32,\"\",IF(J120=\"Project\",AR120/BT120,IF(J120=\"Program\",AP120/BT120,\"\"))),\"\")","v":""},"",null,null,null,null,null,null,null,null,null,{"$f":"IF($CA120=\"\",0,VLOOKUP($CA120,'Conversion Tables'!$B$37:$C$62,2,FALSE))+IF($CB120=\"\",0,VLOOKUP($CB120,'Conversion Tables'!$B$37:$C$62,2,FALSE))+IF($CC120=\"\",0,VLOOKUP($CC120,'Conversion Tables'!$B$37:$C$62,2,FALSE))+IF($CD120=\"\",0,VLOOKUP($CD120,'Conversion Tables'!$B$37:$C$62,2,FALSE))+IF($CE120=\"\",0,VLOOKUP($CE120,'Conversion Tables'!$B$37:$C$62,2,FALSE))+IF($CF120=\"\",0,VLOOKUP($CF120,'Conversion Tables'!$B$37:$C$62,2,FALSE))","v":0},null,null,null,null,null,null,{"$f":"IFERROR(VLOOKUP(CM120,Dropdowns!A$51:B$55,2,FALSE),\"\")","v":""},null,null,null,null,null,null,null,null,null,null,{"$f":"IFERROR(VLOOKUP(AZ120,'Conversion Tables'!$G$8:$N$12,3,FALSE)/'Conversion Tables'!$I$12*Max_Point,0)","v":0},{"$f":"CY120*'Weighting Scale'!$D$9*DS120*DT120","v":0},{"$f":"IFERROR(VLOOKUP(BB120,'Conversion Tables'!$B$8:$C$32,2,FALSE),0)","v":0},{"$f":"IFERROR(VLOOKUP(BC120,'Conversion Tables'!$B$8:$C$32,2,FALSE),0)","v":0},{"$f":"(DA120-DB120)/'Conversion Tables'!$C$32*Max_Point","v":0},{"$f":"DC120*'Weighting Scale'!$D$10*DS120*DT120","v":0},{"$f":"IFERROR(VLOOKUP(BE120,'Conversion Tables'!$G$8:$N$12,2, FALSE)/'Conversion Tables'!$H$12*Max_Point,0)","v":0},{"$f":"DE120*'Weighting Scale'!$D$11*DS120*DT120","v":0},{"$f":"IFERROR(VLOOKUP(BF120,'Conversion Tables'!$G$8:$N$12,6,FALSE)/'Conversion Tables'!$L$12*Max_Point,0)","v":0},{"$f":"DG120*'Weighting Scale'!$D$14*DS120*DT120","v":0},{"$f":"IFERROR(VLOOKUP(BG120,'Conversion Tables'!$G$8:$N$12,4,FALSE)/'Conversion Tables'!$J$12*Max_Point,0)","v":0},{"$f":"DI120*'Weighting Scale'!$D$12*DS120*DT120","v":0},{"$f":"IFERROR(VLOOKUP(BH120,'Conversion Tables'!$G$8:$N$12,5,FALSE)/'Conversion Tables'!$K$12*Max_Point,0)","v":0},{"$f":"DK120*'Weighting Scale'!$D$13*DS120*DT120","v":0},{"$f":"IFERROR(VLOOKUP(BI120,'Conversion Tables'!$G$8:$N$12,7,FALSE)/'Conversion Tables'!$M$12*Max_Point,0)","v":0},{"$f":"DM120*'Weighting Scale'!$D$15*DS120*DT120","v":0},{"$f":"IF(BJ120 = \"Yes\",('Conversion Tables'!$N$12)/'Conversion Tables'!$N$12*Max_Point,0)","v":0},{"$f":"DO120*'Weighting Scale'!$D$16*DS120*DT120","v":0},0,0,0,{"$f":"IF(I120=Dropdowns!$C$7,Dropdowns!$B$7,IF(I120=Dropdowns!$C$8,Dropdowns!$B$8,IF(I120=Dropdowns!$C$9,Dropdowns!$B$9,IF(I120=Dropdowns!$C$10,Dropdowns!$B$10,IF(I120=Dropdowns!$C$11,Dropdowns!$B$11,IF(I120=Dropdowns!$C$12,Dropdowns!$B$12,IF(I120=Dropdowns!$C$13,Dropdowns!$B$13,IF(I120=Dropdowns!$C$14,Dropdowns!$B$14,IF(I120=Dropdowns!$C$15,Dropdowns!$B$15,IF(I120=Dropdowns!$C$16,Dropdowns!$B$16,IF(I120=Dropdowns!$C$17,Dropdowns!$B$17,IF(I120=Dropdowns!$C$18,Dropdowns!$B$18,IF(I120=Dropdowns!$C$19,Dropdowns!$B$19,IF(I120=Dropdowns!$C$20,Dropdowns!$B$20,IF(I120=Dropdowns!$C$21,Dropdowns!$B$21,IF(I120=Dropdowns!$C$22,Dropdowns!$B$22,IF(I120=Dropdowns!$C$23,Dropdowns!$B$23,IF(I120=Dropdowns!$C$24,Dropdowns!$B$24,IF(I120=Dropdowns!$C$25,Dropdowns!$B$25,IF(I120=Dropdowns!$C$26,Dropdowns!$B$26,IF(I120=Dropdowns!$C$27,Dropdowns!$B$27,IF(I120=Dropdowns!$C$28,Dropdowns!$B$28,IF(I120=Dropdowns!$C$29,Dropdowns!$B$29,IF(I120=Dropdowns!$C$30,Dropdowns!$B$30,IF(I120=Dropdowns!$C$31,Dropdowns!$B$31,IF(I120=Dropdowns!$C$32,Dropdowns!$B$32,IF(I120=Dropdowns!$C$33,Dropdowns!$B$33,IF(I120=Dropdowns!$C$34,Dropdowns!$B$34,IF(I120=Dropdowns!$C$35,Dropdowns!$B$35,IF(I120=Dropdowns!$C$36,Dropdowns!$B$36,IF(I120=Dropdowns!$C$37,Dropdowns!$B$37,IF(I120=Dropdowns!$C$38,Dropdowns!$B$38,IF(I120=Dropdowns!$C$39,Dropdowns!$B$39,IF(I120=Dropdowns!$C$40,Dropdowns!$B$40,IF(I120=Dropdowns!$C$41,Dropdowns!$B$41,IF(I120=Dropdowns!$C$42,Dropdowns!$B$42,IF(I120=Dropdowns!$C$43,Dropdowns!$B$43,IF(I120=Dropdowns!$C$44,Dropdowns!$B$44,IF(I120=Dropdowns!$C$45,Dropdowns!$B$45,IF(I120=Dropdowns!$C$46,Dropdowns!$B$46,IF(I120=Dropdowns!$C$47,Dropdowns!$B$47, IF(I120=Dropdowns!$C$48,Dropdowns!$B$48,\"0\"))))))))))))))))))))))))))))))))))))))))))","v":0},{"$f":"IF(AX120=Dropdowns!$F$15,Dropdowns!$G$15,IF(AX120=Dropdowns!$F$16,Dropdowns!$G$16,IF(AX120=Dropdowns!$F$17,Dropdowns!$G$17,\"0\")))","v":"0"}]
[null,null,null,null,null,null,null,null,null,null,"-",null,null,null,null,null,null,null,null,null,null,0,null,null,null,null,null,0,null,null,null,null,null,null,0,null,null,null,null,0,0,null,0,0,0,0,"-",null,null,null,null,null,null,null,null,null,null,null,null,null,null,null,0,0,0,0,0,0,0,0,0,0,1,{"$f":"IFERROR(IF(L121=Dropdowns!$F$32,\"\",IF(J121=\"Project\",AR121/BT121,IF(J121=\"Program\",AP121/BT121,\"\"))),\"\")","v":""},"",null,null,null,null,null,null,null,null,null,{"$f":"IF($CA121=\"\",0,VLOOKUP($CA121,'Conversion Tables'!$B$37:$C$62,2,FALSE))+IF($CB121=\"\",0,VLOOKUP($CB121,'Conversion Tables'!$B$37:$C$62,2,FALSE))+IF($CC121=\"\",0,VLOOKUP($CC121,'Conversion Tables'!$B$37:$C$62,2,FALSE))+IF($CD121=\"\",0,VLOOKUP($CD121,'Conversion Tables'!$B$37:$C$62,2,FALSE))+IF($CE121=\"\",0,VLOOKUP($CE121,'Conversion Tables'!$B$37:$C$62,2,FALSE))+IF($CF121=\"\",0,VLOOKUP($CF121,'Conversion Tables'!$B$37:$C$62,2,FALSE))","v":0},null,null,null,null,null,null,{"$f":"IFERROR(VLOOKUP(CM121,Dropdowns!A$51:B$55,2,FALSE),\"\")","v":""},null,null,null,null,null,null,null,null,null,null,{"$f":"IFERROR(VLOOKUP(AZ121,'Conversion Tables'!$G$8:$N$12,3,FALSE)/'Conversion Tables'!$I$12*Max_Point,0)","v":0},{"$f":"CY121*'Weighting Scale'!$D$9*DS121*DT121","v":0},{"$f":"IFERROR(VLOOKUP(BB121,'Conversion Tables'!$B$8:$C$32,2,FALSE),0)","v":0},{"$f":"IFERROR(VLOOKUP(BC121,'Conversion Tables'!$B$8:$C$32,2,FALSE),0)","v":0},{"$f":"(DA121-DB121)/'Conversion Tables'!$C$32*Max_Point","v":0},{"$f":"DC121*'Weighting Scale'!$D$10*DS121*DT121","v":0},{"$f":"IFERROR(VLOOKUP(BE121,'Conversion Tables'!$G$8:$N$12,2, FALSE)/'Conversion Tables'!$H$12*Max_Point,0)","v":0},{"$f":"DE121*'Weighting Scale'!$D$11*DS121*DT121","v":0},{"$f":"IFERROR(VLOOKUP(BF121,'Conversion Tables'!$G$8:$N$12,6,FALSE)/'Conversion Tables'!$L$12*Max_Point,0)","v":0},{"$f":"DG121*'Weighting Scale'!$D$14*DS121*DT121","v":0},{"$f":"IFERROR(VLOOKUP(BG121,'Conversion Tables'!$G$8:$N$12,4,FALSE)/'Conversion Tables'!$J$12*Max_Point,0)","v":0},{"$f":"DI121*'Weighting Scale'!$D$12*DS121*DT121","v":0},{"$f":"IFERROR(VLOOKUP(BH121,'Conversion Tables'!$G$8:$N$12,5,FALSE)/'Conversion Tables'!$K$12*Max_Point,0)","v":0},{"$f":"DK121*'Weighting Scale'!$D$13*DS121*DT121","v":0},{"$f":"IFERROR(VLOOKUP(BI121,'Conversion Tables'!$G$8:$N$12,7,FALSE)/'Conversion Tables'!$M$12*Max_Point,0)","v":0},{"$f":"DM121*'Weighting Scale'!$D$15*DS121*DT121","v":0},{"$f":"IF(BJ121 = \"Yes\",('Conversion Tables'!$N$12)/'Conversion Tables'!$N$12*Max_Point,0)","v":0},{"$f":"DO121*'Weighting Scale'!$D$16*DS121*DT121","v":0},0,0,0,{"$f":"IF(I121=Dropdowns!$C$7,Dropdowns!$B$7,IF(I121=Dropdowns!$C$8,Dropdowns!$B$8,IF(I121=Dropdowns!$C$9,Dropdowns!$B$9,IF(I121=Dropdowns!$C$10,Dropdowns!$B$10,IF(I121=Dropdowns!$C$11,Dropdowns!$B$11,IF(I121=Dropdowns!$C$12,Dropdowns!$B$12,IF(I121=Dropdowns!$C$13,Dropdowns!$B$13,IF(I121=Dropdowns!$C$14,Dropdowns!$B$14,IF(I121=Dropdowns!$C$15,Dropdowns!$B$15,IF(I121=Dropdowns!$C$16,Dropdowns!$B$16,IF(I121=Dropdowns!$C$17,Dropdowns!$B$17,IF(I121=Dropdowns!$C$18,Dropdowns!$B$18,IF(I121=Dropdowns!$C$19,Dropdowns!$B$19,IF(I121=Dropdowns!$C$20,Dropdowns!$B$20,IF(I121=Dropdowns!$C$21,Dropdowns!$B$21,IF(I121=Dropdowns!$C$22,Dropdowns!$B$22,IF(I121=Dropdowns!$C$23,Dropdowns!$B$23,IF(I121=Dropdowns!$C$24,Dropdowns!$B$24,IF(I121=Dropdowns!$C$25,Dropdowns!$B$25,IF(I121=Dropdowns!$C$26,Dropdowns!$B$26,IF(I121=Dropdowns!$C$27,Dropdowns!$B$27,IF(I121=Dropdowns!$C$28,Dropdowns!$B$28,IF(I121=Dropdowns!$C$29,Dropdowns!$B$29,IF(I121=Dropdowns!$C$30,Dropdowns!$B$30,IF(I121=Dropdowns!$C$31,Dropdowns!$B$31,IF(I121=Dropdowns!$C$32,Dropdowns!$B$32,IF(I121=Dropdowns!$C$33,Dropdowns!$B$33,IF(I121=Dropdowns!$C$34,Dropdowns!$B$34,IF(I121=Dropdowns!$C$35,Dropdowns!$B$35,IF(I121=Dropdowns!$C$36,Dropdowns!$B$36,IF(I121=Dropdowns!$C$37,Dropdowns!$B$37,IF(I121=Dropdowns!$C$38,Dropdowns!$B$38,IF(I121=Dropdowns!$C$39,Dropdowns!$B$39,IF(I121=Dropdowns!$C$40,Dropdowns!$B$40,IF(I121=Dropdowns!$C$41,Dropdowns!$B$41,IF(I121=Dropdowns!$C$42,Dropdowns!$B$42,IF(I121=Dropdowns!$C$43,Dropdowns!$B$43,IF(I121=Dropdowns!$C$44,Dropdowns!$B$44,IF(I121=Dropdowns!$C$45,Dropdowns!$B$45,IF(I121=Dropdowns!$C$46,Dropdowns!$B$46,IF(I121=Dropdowns!$C$47,Dropdowns!$B$47, IF(I121=Dropdowns!$C$48,Dropdowns!$B$48,\"0\"))))))))))))))))))))))))))))))))))))))))))","v":0},{"$f":"IF(AX121=Dropdowns!$F$15,Dropdowns!$G$15,IF(AX121=Dropdowns!$F$16,Dropdowns!$G$16,IF(AX121=Dropdowns!$F$17,Dropdowns!$G$17,\"0\")))","v":"0"}]
[null,null,null,null,null,null,null,null,null,null,"-",null,null,null,null,null,null,null,null,null,null,0,null,null,null,null,null,0,null,null,null,null,null,null,0,null,null,null,null,0,0,null,0,0,0,0,"-",null,null,null,null,null,null,null,null,null,null,null,null,null,null,null,0,0,0,0,0,0,0,0,0,0,1,{"$f":"IFERROR(IF(L122=Dropdowns!$F$32,\"\",IF(J122=\"Project\",AR122/BT122,IF(J122=\"Program\",AP122/BT122,\"\"))),\"\")","v":""},"",null,null,null,null,null,null,null,null,null,{"$f":"IF($CA122=\"\",0,VLOOKUP($CA122,'Conversion Tables'!$B$37:$C$62,2,FALSE))+IF($CB122=\"\",0,VLOOKUP($CB122,'Conversion Tables'!$B$37:$C$62,2,FALSE))+IF($CC122=\"\",0,VLOOKUP($CC122,'Conversion Tables'!$B$37:$C$62,2,FALSE))+IF($CD122=\"\",0,VLOOKUP($CD122,'Conversion Tables'!$B$37:$C$62,2,FALSE))+IF($CE122=\"\",0,VLOOKUP($CE122,'Conversion Tables'!$B$37:$C$62,2,FALSE))+IF($CF122=\"\",0,VLOOKUP($CF122,'Conversion Tables'!$B$37:$C$62,2,FALSE))","v":0},null,null,null,null,null,null,{"$f":"IFERROR(VLOOKUP(CM122,Dropdowns!A$51:B$55,2,FALSE),\"\")","v":""},null,null,null,null,null,null,null,null,null,null,{"$f":"IFERROR(VLOOKUP(AZ122,'Conversion Tables'!$G$8:$N$12,3,FALSE)/'Conversion Tables'!$I$12*Max_Point,0)","v":0},{"$f":"CY122*'Weighting Scale'!$D$9*DS122*DT122","v":0},{"$f":"IFERROR(VLOOKUP(BB122,'Conversion Tables'!$B$8:$C$32,2,FALSE),0)","v":0},{"$f":"IFERROR(VLOOKUP(BC122,'Conversion Tables'!$B$8:$C$32,2,FALSE),0)","v":0},{"$f":"(DA122-DB122)/'Conversion Tables'!$C$32*Max_Point","v":0},{"$f":"DC122*'Weighting Scale'!$D$10*DS122*DT122","v":0},{"$f":"IFERROR(VLOOKUP(BE122,'Conversion Tables'!$G$8:$N$12,2, FALSE)/'Conversion Tables'!$H$12*Max_Point,0)","v":0},{"$f":"DE122*'Weighting Scale'!$D$11*DS122*DT122","v":0},{"$f":"IFERROR(VLOOKUP(BF122,'Conversion Tables'!$G$8:$N$12,6,FALSE)/'Conversion Tables'!$L$12*Max_Point,0)","v":0},{"$f":"DG122*'Weighting Scale'!$D$14*DS122*DT122","v":0},{"$f":"IFERROR(VLOOKUP(BG122,'Conversion Tables'!$G$8:$N$12,4,FALSE)/'Conversion Tables'!$J$12*Max_Point,0)","v":0},{"$f":"DI122*'Weighting Scale'!$D$12*DS122*DT122","v":0},{"$f":"IFERROR(VLOOKUP(BH122,'Conversion Tables'!$G$8:$N$12,5,FALSE)/'Conversion Tables'!$K$12*Max_Point,0)","v":0},{"$f":"DK122*'Weighting Scale'!$D$13*DS122*DT122","v":0},{"$f":"IFERROR(VLOOKUP(BI122,'Conversion Tables'!$G$8:$N$12,7,FALSE)/'Conversion Tables'!$M$12*Max_Point,0)","v":0},{"$f":"DM122*'Weighting Scale'!$D$15*DS122*DT122","v":0},{"$f":"IF(BJ122 = \"Yes\",('Conversion Tables'!$N$12)/'Conversion Tables'!$N$12*Max_Point,0)","v":0},{"$f":"DO122*'Weighting Scale'!$D$16*DS122*DT122","v":0},0,0,0,{"$f":"IF(I122=Dropdowns!$C$7,Dropdowns!$B$7,IF(I122=Dropdowns!$C$8,Dropdowns!$B$8,IF(I122=Dropdowns!$C$9,Dropdowns!$B$9,IF(I122=Dropdowns!$C$10,Dropdowns!$B$10,IF(I122=Dropdowns!$C$11,Dropdowns!$B$11,IF(I122=Dropdowns!$C$12,Dropdowns!$B$12,IF(I122=Dropdowns!$C$13,Dropdowns!$B$13,IF(I122=Dropdowns!$C$14,Dropdowns!$B$14,IF(I122=Dropdowns!$C$15,Dropdowns!$B$15,IF(I122=Dropdowns!$C$16,Dropdowns!$B$16,IF(I122=Dropdowns!$C$17,Dropdowns!$B$17,IF(I122=Dropdowns!$C$18,Dropdowns!$B$18,IF(I122=Dropdowns!$C$19,Dropdowns!$B$19,IF(I122=Dropdowns!$C$20,Dropdowns!$B$20,IF(I122=Dropdowns!$C$21,Dropdowns!$B$21,IF(I122=Dropdowns!$C$22,Dropdowns!$B$22,IF(I122=Dropdowns!$C$23,Dropdowns!$B$23,IF(I122=Dropdowns!$C$24,Dropdowns!$B$24,IF(I122=Dropdowns!$C$25,Dropdowns!$B$25,IF(I122=Dropdowns!$C$26,Dropdowns!$B$26,IF(I122=Dropdowns!$C$27,Dropdowns!$B$27,IF(I122=Dropdowns!$C$28,Dropdowns!$B$28,IF(I122=Dropdowns!$C$29,Dropdowns!$B$29,IF(I122=Dropdowns!$C$30,Dropdowns!$B$30,IF(I122=Dropdowns!$C$31,Dropdowns!$B$31,IF(I122=Dropdowns!$C$32,Dropdowns!$B$32,IF(I122=Dropdowns!$C$33,Dropdowns!$B$33,IF(I122=Dropdowns!$C$34,Dropdowns!$B$34,IF(I122=Dropdowns!$C$35,Dropdowns!$B$35,IF(I122=Dropdowns!$C$36,Dropdowns!$B$36,IF(I122=Dropdowns!$C$37,Dropdowns!$B$37,IF(I122=Dropdowns!$C$38,Dropdowns!$B$38,IF(I122=Dropdowns!$C$39,Dropdowns!$B$39,IF(I122=Dropdowns!$C$40,Dropdowns!$B$40,IF(I122=Dropdowns!$C$41,Dropdowns!$B$41,IF(I122=Dropdowns!$C$42,Dropdowns!$B$42,IF(I122=Dropdowns!$C$43,Dropdowns!$B$43,IF(I122=Dropdowns!$C$44,Dropdowns!$B$44,IF(I122=Dropdowns!$C$45,Dropdowns!$B$45,IF(I122=Dropdowns!$C$46,Dropdowns!$B$46,IF(I122=Dropdowns!$C$47,Dropdowns!$B$47, IF(I122=Dropdowns!$C$48,Dropdowns!$B$48,\"0\"))))))))))))))))))))))))))))))))))))))))))","v":0},{"$f":"IF(AX122=Dropdowns!$F$15,Dropdowns!$G$15,IF(AX122=Dropdowns!$F$16,Dropdowns!$G$16,IF(AX122=Dropdowns!$F$17,Dropdowns!$G$17,\"0\")))","v":"0"}]
[null,null,null,null,null,null,null,null,null,null,"-",null,null,null,null,null,null,null,null,null,null,0,null,null,null,null,null,0,null,null,null,null,null,null,0,null,null,null,null,0,0,null,0,0,0,0,"-",null,null,null,null,null,null,null,null,null,null,null,null,null,null,null,0,0,0,0,0,0,0,0,0,0,1,{"$f":"IFERROR(IF(L123=Dropdowns!$F$32,\"\",IF(J123=\"Project\",AR123/BT123,IF(J123=\"Program\",AP123/BT123,\"\"))),\"\")","v":""},"",null,null,null,null,null,null,null,null,null,{"$f":"IF($CA123=\"\",0,VLOOKUP($CA123,'Conversion Tables'!$B$37:$C$62,2,FALSE))+IF($CB123=\"\",0,VLOOKUP($CB123,'Conversion Tables'!$B$37:$C$62,2,FALSE))+IF($CC123=\"\",0,VLOOKUP($CC123,'Conversion Tables'!$B$37:$C$62,2,FALSE))+IF($CD123=\"\",0,VLOOKUP($CD123,'Conversion Tables'!$B$37:$C$62,2,FALSE))+IF($CE123=\"\",0,VLOOKUP($CE123,'Conversion Tables'!$B$37:$C$62,2,FALSE))+IF($CF123=\"\",0,VLOOKUP($CF123,'Conversion Tables'!$B$37:$C$62,2,FALSE))","v":0},null,null,null,null,null,null,{"$f":"IFERROR(VLOOKUP(CM123,Dropdowns!A$51:B$55,2,FALSE),\"\")","v":""},null,null,null,null,null,null,null,null,null,null,{"$f":"IFERROR(VLOOKUP(AZ123,'Conversion Tables'!$G$8:$N$12,3,FALSE)/'Conversion Tables'!$I$12*Max_Point,0)","v":0},{"$f":"CY123*'Weighting Scale'!$D$9*DS123*DT123","v":0},{"$f":"IFERROR(VLOOKUP(BB123,'Conversion Tables'!$B$8:$C$32,2,FALSE),0)","v":0},{"$f":"IFERROR(VLOOKUP(BC123,'Conversion Tables'!$B$8:$C$32,2,FALSE),0)","v":0},{"$f":"(DA123-DB123)/'Conversion Tables'!$C$32*Max_Point","v":0},{"$f":"DC123*'Weighting Scale'!$D$10*DS123*DT123","v":0},{"$f":"IFERROR(VLOOKUP(BE123,'Conversion Tables'!$G$8:$N$12,2, FALSE)/'Conversion Tables'!$H$12*Max_Point,0)","v":0},{"$f":"DE123*'Weighting Scale'!$D$11*DS123*DT123","v":0},{"$f":"IFERROR(VLOOKUP(BF123,'Conversion Tables'!$G$8:$N$12,6,FALSE)/'Conversion Tables'!$L$12*Max_Point,0)","v":0},{"$f":"DG123*'Weighting Scale'!$D$14*DS123*DT123","v":0},{"$f":"IFERROR(VLOOKUP(BG123,'Conversion Tables'!$G$8:$N$12,4,FALSE)/'Conversion Tables'!$J$12*Max_Point,0)","v":0},{"$f":"DI123*'Weighting Scale'!$D$12*DS123*DT123","v":0},{"$f":"IFERROR(VLOOKUP(BH123,'Conversion Tables'!$G$8:$N$12,5,FALSE)/'Conversion Tables'!$K$12*Max_Point,0)","v":0},{"$f":"DK123*'Weighting Scale'!$D$13*DS123*DT123","v":0},{"$f":"IFERROR(VLOOKUP(BI123,'Conversion Tables'!$G$8:$N$12,7,FALSE)/'Conversion Tables'!$M$12*Max_Point,0)","v":0},{"$f":"DM123*'Weighting Scale'!$D$15*DS123*DT123","v":0},{"$f":"IF(BJ123 = \"Yes\",('Conversion Tables'!$N$12)/'Conversion Tables'!$N$12*Max_Point,0)","v":0},{"$f":"DO123*'Weighting Scale'!$D$16*DS123*DT123","v":0},0,0,0,{"$f":"IF(I123=Dropdowns!$C$7,Dropdowns!$B$7,IF(I123=Dropdowns!$C$8,Dropdowns!$B$8,IF(I123=Dropdowns!$C$9,Dropdowns!$B$9,IF(I123=Dropdowns!$C$10,Dropdowns!$B$10,IF(I123=Dropdowns!$C$11,Dropdowns!$B$11,IF(I123=Dropdowns!$C$12,Dropdowns!$B$12,IF(I123=Dropdowns!$C$13,Dropdowns!$B$13,IF(I123=Dropdowns!$C$14,Dropdowns!$B$14,IF(I123=Dropdowns!$C$15,Dropdowns!$B$15,IF(I123=Dropdowns!$C$16,Dropdowns!$B$16,IF(I123=Dropdowns!$C$17,Dropdowns!$B$17,IF(I123=Dropdowns!$C$18,Dropdowns!$B$18,IF(I123=Dropdowns!$C$19,Dropdowns!$B$19,IF(I123=Dropdowns!$C$20,Dropdowns!$B$20,IF(I123=Dropdowns!$C$21,Dropdowns!$B$21,IF(I123=Dropdowns!$C$22,Dropdowns!$B$22,IF(I123=Dropdowns!$C$23,Dropdowns!$B$23,IF(I123=Dropdowns!$C$24,Dropdowns!$B$24,IF(I123=Dropdowns!$C$25,Dropdowns!$B$25,IF(I123=Dropdowns!$C$26,Dropdowns!$B$26,IF(I123=Dropdowns!$C$27,Dropdowns!$B$27,IF(I123=Dropdowns!$C$28,Dropdowns!$B$28,IF(I123=Dropdowns!$C$29,Dropdowns!$B$29,IF(I123=Dropdowns!$C$30,Dropdowns!$B$30,IF(I123=Dropdowns!$C$31,Dropdowns!$B$31,IF(I123=Dropdowns!$C$32,Dropdowns!$B$32,IF(I123=Dropdowns!$C$33,Dropdowns!$B$33,IF(I123=Dropdowns!$C$34,Dropdowns!$B$34,IF(I123=Dropdowns!$C$35,Dropdowns!$B$35,IF(I123=Dropdowns!$C$36,Dropdowns!$B$36,IF(I123=Dropdowns!$C$37,Dropdowns!$B$37,IF(I123=Dropdowns!$C$38,Dropdowns!$B$38,IF(I123=Dropdowns!$C$39,Dropdowns!$B$39,IF(I123=Dropdowns!$C$40,Dropdowns!$B$40,IF(I123=Dropdowns!$C$41,Dropdowns!$B$41,IF(I123=Dropdowns!$C$42,Dropdowns!$B$42,IF(I123=Dropdowns!$C$43,Dropdowns!$B$43,IF(I123=Dropdowns!$C$44,Dropdowns!$B$44,IF(I123=Dropdowns!$C$45,Dropdowns!$B$45,IF(I123=Dropdowns!$C$46,Dropdowns!$B$46,IF(I123=Dropdowns!$C$47,Dropdowns!$B$47, IF(I123=Dropdowns!$C$48,Dropdowns!$B$48,\"0\"))))))))))))))))))))))))))))))))))))))))))","v":0},{"$f":"IF(AX123=Dropdowns!$F$15,Dropdowns!$G$15,IF(AX123=Dropdowns!$F$16,Dropdowns!$G$16,IF(AX123=Dropdowns!$F$17,Dropdowns!$G$17,\"0\")))","v":"0"}]
[null,null,null,null,null,null,null,null,null,null,"-",null,null,null,null,null,null,null,null,null,null,0,null,null,null,null,null,0,null,null,null,null,null,null,0,null,null,null,null,0,0,null,0,0,0,0,"-",null,null,null,null,null,null,null,null,null,null,null,null,null,null,null,0,0,0,0,0,0,0,0,0,0,1,{"$f":"IFERROR(IF(L124=Dropdowns!$F$32,\"\",IF(J124=\"Project\",AR124/BT124,IF(J124=\"Program\",AP124/BT124,\"\"))),\"\")","v":""},"",null,null,null,null,null,null,null,null,null,{"$f":"IF($CA124=\"\",0,VLOOKUP($CA124,'Conversion Tables'!$B$37:$C$62,2,FALSE))+IF($CB124=\"\",0,VLOOKUP($CB124,'Conversion Tables'!$B$37:$C$62,2,FALSE))+IF($CC124=\"\",0,VLOOKUP($CC124,'Conversion Tables'!$B$37:$C$62,2,FALSE))+IF($CD124=\"\",0,VLOOKUP($CD124,'Conversion Tables'!$B$37:$C$62,2,FALSE))+IF($CE124=\"\",0,VLOOKUP($CE124,'Conversion Tables'!$B$37:$C$62,2,FALSE))+IF($CF124=\"\",0,VLOOKUP($CF124,'Conversion Tables'!$B$37:$C$62,2,FALSE))","v":0},null,null,null,null,null,null,{"$f":"IFERROR(VLOOKUP(CM124,Dropdowns!A$51:B$55,2,FALSE),\"\")","v":""},null,null,null,null,null,null,null,null,null,null,{"$f":"IFERROR(VLOOKUP(AZ124,'Conversion Tables'!$G$8:$N$12,3,FALSE)/'Conversion Tables'!$I$12*Max_Point,0)","v":0},{"$f":"CY124*'Weighting Scale'!$D$9*DS124*DT124","v":0},{"$f":"IFERROR(VLOOKUP(BB124,'Conversion Tables'!$B$8:$C$32,2,FALSE),0)","v":0},{"$f":"IFERROR(VLOOKUP(BC124,'Conversion Tables'!$B$8:$C$32,2,FALSE),0)","v":0},{"$f":"(DA124-DB124)/'Conversion Tables'!$C$32*Max_Point","v":0},{"$f":"DC124*'Weighting Scale'!$D$10*DS124*DT124","v":0},{"$f":"IFERROR(VLOOKUP(BE124,'Conversion Tables'!$G$8:$N$12,2, FALSE)/'Conversion Tables'!$H$12*Max_Point,0)","v":0},{"$f":"DE124*'Weighting Scale'!$D$11*DS124*DT124","v":0},{"$f":"IFERROR(VLOOKUP(BF124,'Conversion Tables'!$G$8:$N$12,6,FALSE)/'Conversion Tables'!$L$12*Max_Point,0)","v":0},{"$f":"DG124*'Weighting Scale'!$D$14*DS124*DT124","v":0},{"$f":"IFERROR(VLOOKUP(BG124,'Conversion Tables'!$G$8:$N$12,4,FALSE)/'Conversion Tables'!$J$12*Max_Point,0)","v":0},{"$f":"DI124*'Weighting Scale'!$D$12*DS124*DT124","v":0},{"$f":"IFERROR(VLOOKUP(BH124,'Conversion Tables'!$G$8:$N$12,5,FALSE)/'Conversion Tables'!$K$12*Max_Point,0)","v":0},{"$f":"DK124*'Weighting Scale'!$D$13*DS124*DT124","v":0},{"$f":"IFERROR(VLOOKUP(BI124,'Conversion Tables'!$G$8:$N$12,7,FALSE)/'Conversion Tables'!$M$12*Max_Point,0)","v":0},{"$f":"DM124*'Weighting Scale'!$D$15*DS124*DT124","v":0},{"$f":"IF(BJ124 = \"Yes\",('Conversion Tables'!$N$12)/'Conversion Tables'!$N$12*Max_Point,0)","v":0},{"$f":"DO124*'Weighting Scale'!$D$16*DS124*DT124","v":0},0,0,0,{"$f":"IF(I124=Dropdowns!$C$7,Dropdowns!$B$7,IF(I124=Dropdowns!$C$8,Dropdowns!$B$8,IF(I124=Dropdowns!$C$9,Dropdowns!$B$9,IF(I124=Dropdowns!$C$10,Dropdowns!$B$10,IF(I124=Dropdowns!$C$11,Dropdowns!$B$11,IF(I124=Dropdowns!$C$12,Dropdowns!$B$12,IF(I124=Dropdowns!$C$13,Dropdowns!$B$13,IF(I124=Dropdowns!$C$14,Dropdowns!$B$14,IF(I124=Dropdowns!$C$15,Dropdowns!$B$15,IF(I124=Dropdowns!$C$16,Dropdowns!$B$16,IF(I124=Dropdowns!$C$17,Dropdowns!$B$17,IF(I124=Dropdowns!$C$18,Dropdowns!$B$18,IF(I124=Dropdowns!$C$19,Dropdowns!$B$19,IF(I124=Dropdowns!$C$20,Dropdowns!$B$20,IF(I124=Dropdowns!$C$21,Dropdowns!$B$21,IF(I124=Dropdowns!$C$22,Dropdowns!$B$22,IF(I124=Dropdowns!$C$23,Dropdowns!$B$23,IF(I124=Dropdowns!$C$24,Dropdowns!$B$24,IF(I124=Dropdowns!$C$25,Dropdowns!$B$25,IF(I124=Dropdowns!$C$26,Dropdowns!$B$26,IF(I124=Dropdowns!$C$27,Dropdowns!$B$27,IF(I124=Dropdowns!$C$28,Dropdowns!$B$28,IF(I124=Dropdowns!$C$29,Dropdowns!$B$29,IF(I124=Dropdowns!$C$30,Dropdowns!$B$30,IF(I124=Dropdowns!$C$31,Dropdowns!$B$31,IF(I124=Dropdowns!$C$32,Dropdowns!$B$32,IF(I124=Dropdowns!$C$33,Dropdowns!$B$33,IF(I124=Dropdowns!$C$34,Dropdowns!$B$34,IF(I124=Dropdowns!$C$35,Dropdowns!$B$35,IF(I124=Dropdowns!$C$36,Dropdowns!$B$36,IF(I124=Dropdowns!$C$37,Dropdowns!$B$37,IF(I124=Dropdowns!$C$38,Dropdowns!$B$38,IF(I124=Dropdowns!$C$39,Dropdowns!$B$39,IF(I124=Dropdowns!$C$40,Dropdowns!$B$40,IF(I124=Dropdowns!$C$41,Dropdowns!$B$41,IF(I124=Dropdowns!$C$42,Dropdowns!$B$42,IF(I124=Dropdowns!$C$43,Dropdowns!$B$43,IF(I124=Dropdowns!$C$44,Dropdowns!$B$44,IF(I124=Dropdowns!$C$45,Dropdowns!$B$45,IF(I124=Dropdowns!$C$46,Dropdowns!$B$46,IF(I124=Dropdowns!$C$47,Dropdowns!$B$47, IF(I124=Dropdowns!$C$48,Dropdowns!$B$48,\"0\"))))))))))))))))))))))))))))))))))))))))))","v":0},{"$f":"IF(AX124=Dropdowns!$F$15,Dropdowns!$G$15,IF(AX124=Dropdowns!$F$16,Dropdowns!$G$16,IF(AX124=Dropdowns!$F$17,Dropdowns!$G$17,\"0\")))","v":"0"}]
[null,null,null,null,null,null,null,null,null,null,"-",null,null,null,null,null,null,null,null,null,null,0,null,null,null,null,null,0,null,null,null,null,null,null,0,null,null,null,null,0,0,null,0,0,0,0,"-",null,null,null,null,null,null,null,null,null,null,null,null,null,null,null,0,0,0,0,0,0,0,0,0,0,1,{"$f":"IFERROR(IF(L125=Dropdowns!$F$32,\"\",IF(J125=\"Project\",AR125/BT125,IF(J125=\"Program\",AP125/BT125,\"\"))),\"\")","v":""},"",null,null,null,null,null,null,null,null,null,{"$f":"IF($CA125=\"\",0,VLOOKUP($CA125,'Conversion Tables'!$B$37:$C$62,2,FALSE))+IF($CB125=\"\",0,VLOOKUP($CB125,'Conversion Tables'!$B$37:$C$62,2,FALSE))+IF($CC125=\"\",0,VLOOKUP($CC125,'Conversion Tables'!$B$37:$C$62,2,FALSE))+IF($CD125=\"\",0,VLOOKUP($CD125,'Conversion Tables'!$B$37:$C$62,2,FALSE))+IF($CE125=\"\",0,VLOOKUP($CE125,'Conversion Tables'!$B$37:$C$62,2,FALSE))+IF($CF125=\"\",0,VLOOKUP($CF125,'Conversion Tables'!$B$37:$C$62,2,FALSE))","v":0},null,null,null,null,null,null,{"$f":"IFERROR(VLOOKUP(CM125,Dropdowns!A$51:B$55,2,FALSE),\"\")","v":""},null,null,null,null,null,null,null,null,null,null,{"$f":"IFERROR(VLOOKUP(AZ125,'Conversion Tables'!$G$8:$N$12,3,FALSE)/'Conversion Tables'!$I$12*Max_Point,0)","v":0},{"$f":"CY125*'Weighting Scale'!$D$9*DS125*DT125","v":0},{"$f":"IFERROR(VLOOKUP(BB125,'Conversion Tables'!$B$8:$C$32,2,FALSE),0)","v":0},{"$f":"IFERROR(VLOOKUP(BC125,'Conversion Tables'!$B$8:$C$32,2,FALSE),0)","v":0},{"$f":"(DA125-DB125)/'Conversion Tables'!$C$32*Max_Point","v":0},{"$f":"DC125*'Weighting Scale'!$D$10*DS125*DT125","v":0},{"$f":"IFERROR(VLOOKUP(BE125,'Conversion Tables'!$G$8:$N$12,2, FALSE)/'Conversion Tables'!$H$12*Max_Point,0)","v":0},{"$f":"DE125*'Weighting Scale'!$D$11*DS125*DT125","v":0},{"$f":"IFERROR(VLOOKUP(BF125,'Conversion Tables'!$G$8:$N$12,6,FALSE)/'Conversion Tables'!$L$12*Max_Point,0)","v":0},{"$f":"DG125*'Weighting Scale'!$D$14*DS125*DT125","v":0},{"$f":"IFERROR(VLOOKUP(BG125,'Conversion Tables'!$G$8:$N$12,4,FALSE)/'Conversion Tables'!$J$12*Max_Point,0)","v":0},{"$f":"DI125*'Weighting Scale'!$D$12*DS125*DT125","v":0},{"$f":"IFERROR(VLOOKUP(BH125,'Conversion Tables'!$G$8:$N$12,5,FALSE)/'Conversion Tables'!$K$12*Max_Point,0)","v":0},{"$f":"DK125*'Weighting Scale'!$D$13*DS125*DT125","v":0},{"$f":"IFERROR(VLOOKUP(BI125,'Conversion Tables'!$G$8:$N$12,7,FALSE)/'Conversion Tables'!$M$12*Max_Point,0)","v":0},{"$f":"DM125*'Weighting Scale'!$D$15*DS125*DT125","v":0},{"$f":"IF(BJ125 = \"Yes\",('Conversion Tables'!$N$12)/'Conversion Tables'!$N$12*Max_Point,0)","v":0},{"$f":"DO125*'Weighting Scale'!$D$16*DS125*DT125","v":0},0,0,0,{"$f":"IF(I125=Dropdowns!$C$7,Dropdowns!$B$7,IF(I125=Dropdowns!$C$8,Dropdowns!$B$8,IF(I125=Dropdowns!$C$9,Dropdowns!$B$9,IF(I125=Dropdowns!$C$10,Dropdowns!$B$10,IF(I125=Dropdowns!$C$11,Dropdowns!$B$11,IF(I125=Dropdowns!$C$12,Dropdowns!$B$12,IF(I125=Dropdowns!$C$13,Dropdowns!$B$13,IF(I125=Dropdowns!$C$14,Dropdowns!$B$14,IF(I125=Dropdowns!$C$15,Dropdowns!$B$15,IF(I125=Dropdowns!$C$16,Dropdowns!$B$16,IF(I125=Dropdowns!$C$17,Dropdowns!$B$17,IF(I125=Dropdowns!$C$18,Dropdowns!$B$18,IF(I125=Dropdowns!$C$19,Dropdowns!$B$19,IF(I125=Dropdowns!$C$20,Dropdowns!$B$20,IF(I125=Dropdowns!$C$21,Dropdowns!$B$21,IF(I125=Dropdowns!$C$22,Dropdowns!$B$22,IF(I125=Dropdowns!$C$23,Dropdowns!$B$23,IF(I125=Dropdowns!$C$24,Dropdowns!$B$24,IF(I125=Dropdowns!$C$25,Dropdowns!$B$25,IF(I125=Dropdowns!$C$26,Dropdowns!$B$26,IF(I125=Dropdowns!$C$27,Dropdowns!$B$27,IF(I125=Dropdowns!$C$28,Dropdowns!$B$28,IF(I125=Dropdowns!$C$29,Dropdowns!$B$29,IF(I125=Dropdowns!$C$30,Dropdowns!$B$30,IF(I125=Dropdowns!$C$31,Dropdowns!$B$31,IF(I125=Dropdowns!$C$32,Dropdowns!$B$32,IF(I125=Dropdowns!$C$33,Dropdowns!$B$33,IF(I125=Dropdowns!$C$34,Dropdowns!$B$34,IF(I125=Dropdowns!$C$35,Dropdowns!$B$35,IF(I125=Dropdowns!$C$36,Dropdowns!$B$36,IF(I125=Dropdowns!$C$37,Dropdowns!$B$37,IF(I125=Dropdowns!$C$38,Dropdowns!$B$38,IF(I125=Dropdowns!$C$39,Dropdowns!$B$39,IF(I125=Dropdowns!$C$40,Dropdowns!$B$40,IF(I125=Dropdowns!$C$41,Dropdowns!$B$41,IF(I125=Dropdowns!$C$42,Dropdowns!$B$42,IF(I125=Dropdowns!$C$43,Dropdowns!$B$43,IF(I125=Dropdowns!$C$44,Dropdowns!$B$44,IF(I125=Dropdowns!$C$45,Dropdowns!$B$45,IF(I125=Dropdowns!$C$46,Dropdowns!$B$46,IF(I125=Dropdowns!$C$47,Dropdowns!$B$47, IF(I125=Dropdowns!$C$48,Dropdowns!$B$48,\"0\"))))))))))))))))))))))))))))))))))))))))))","v":0},{"$f":"IF(AX125=Dropdowns!$F$15,Dropdowns!$G$15,IF(AX125=Dropdowns!$F$16,Dropdowns!$G$16,IF(AX125=Dropdowns!$F$17,Dropdowns!$G$17,\"0\")))","v":"0"}]
[null,null,null,null,null,null,null,null,null,null,"-",null,null,null,null,null,null,null,null,null,null,0,null,null,null,null,null,0,null,null,null,null,null,null,0,null,null,null,null,0,0,null,0,0,0,0,"-",null,null,null,null,null,null,null,null,null,null,null,null,null,null,null,0,0,0,0,0,0,0,0,0,0,1,{"$f":"IFERROR(IF(L126=Dropdowns!$F$32,\"\",IF(J126=\"Project\",AR126/BT126,IF(J126=\"Program\",AP126/BT126,\"\"))),\"\")","v":""},"",null,null,null,null,null,null,null,null,null,{"$f":"IF($CA126=\"\",0,VLOOKUP($CA126,'Conversion Tables'!$B$37:$C$62,2,FALSE))+IF($CB126=\"\",0,VLOOKUP($CB126,'Conversion Tables'!$B$37:$C$62,2,FALSE))+IF($CC126=\"\",0,VLOOKUP($CC126,'Conversion Tables'!$B$37:$C$62,2,FALSE))+IF($CD126=\"\",0,VLOOKUP($CD126,'Conversion Tables'!$B$37:$C$62,2,FALSE))+IF($CE126=\"\",0,VLOOKUP($CE126,'Conversion Tables'!$B$37:$C$62,2,FALSE))+IF($CF126=\"\",0,VLOOKUP($CF126,'Conversion Tables'!$B$37:$C$62,2,FALSE))","v":0},null,null,null,null,null,null,{"$f":"IFERROR(VLOOKUP(CM126,Dropdowns!A$51:B$55,2,FALSE),\"\")","v":""},null,null,null,null,null,null,null,null,null,null,{"$f":"IFERROR(VLOOKUP(AZ126,'Conversion Tables'!$G$8:$N$12,3,FALSE)/'Conversion Tables'!$I$12*Max_Point,0)","v":0},{"$f":"CY126*'Weighting Scale'!$D$9*DS126*DT126","v":0},{"$f":"IFERROR(VLOOKUP(BB126,'Conversion Tables'!$B$8:$C$32,2,FALSE),0)","v":0},{"$f":"IFERROR(VLOOKUP(BC126,'Conversion Tables'!$B$8:$C$32,2,FALSE),0)","v":0},{"$f":"(DA126-DB126)/'Conversion Tables'!$C$32*Max_Point","v":0},{"$f":"DC126*'Weighting Scale'!$D$10*DS126*DT126","v":0},{"$f":"IFERROR(VLOOKUP(BE126,'Conversion Tables'!$G$8:$N$12,2, FALSE)/'Conversion Tables'!$H$12*Max_Point,0)","v":0},{"$f":"DE126*'Weighting Scale'!$D$11*DS126*DT126","v":0},{"$f":"IFERROR(VLOOKUP(BF126,'Conversion Tables'!$G$8:$N$12,6,FALSE)/'Conversion Tables'!$L$12*Max_Point,0)","v":0},{"$f":"DG126*'Weighting Scale'!$D$14*DS126*DT126","v":0},{"$f":"IFERROR(VLOOKUP(BG126,'Conversion Tables'!$G$8:$N$12,4,FALSE)/'Conversion Tables'!$J$12*Max_Point,0)","v":0},{"$f":"DI126*'Weighting Scale'!$D$12*DS126*DT126","v":0},{"$f":"IFERROR(VLOOKUP(BH126,'Conversion Tables'!$G$8:$N$12,5,FALSE)/'Conversion Tables'!$K$12*Max_Point,0)","v":0},{"$f":"DK126*'Weighting Scale'!$D$13*DS126*DT126","v":0},{"$f":"IFERROR(VLOOKUP(BI126,'Conversion Tables'!$G$8:$N$12,7,FALSE)/'Conversion Tables'!$M$12*Max_Point,0)","v":0},{"$f":"DM126*'Weighting Scale'!$D$15*DS126*DT126","v":0},{"$f":"IF(BJ126 = \"Yes\",('Conversion Tables'!$N$12)/'Conversion Tables'!$N$12*Max_Point,0)","v":0},{"$f":"DO126*'Weighting Scale'!$D$16*DS126*DT126","v":0},0,0,0,{"$f":"IF(I126=Dropdowns!$C$7,Dropdowns!$B$7,IF(I126=Dropdowns!$C$8,Dropdowns!$B$8,IF(I126=Dropdowns!$C$9,Dropdowns!$B$9,IF(I126=Dropdowns!$C$10,Dropdowns!$B$10,IF(I126=Dropdowns!$C$11,Dropdowns!$B$11,IF(I126=Dropdowns!$C$12,Dropdowns!$B$12,IF(I126=Dropdowns!$C$13,Dropdowns!$B$13,IF(I126=Dropdowns!$C$14,Dropdowns!$B$14,IF(I126=Dropdowns!$C$15,Dropdowns!$B$15,IF(I126=Dropdowns!$C$16,Dropdowns!$B$16,IF(I126=Dropdowns!$C$17,Dropdowns!$B$17,IF(I126=Dropdowns!$C$18,Dropdowns!$B$18,IF(I126=Dropdowns!$C$19,Dropdowns!$B$19,IF(I126=Dropdowns!$C$20,Dropdowns!$B$20,IF(I126=Dropdowns!$C$21,Dropdowns!$B$21,IF(I126=Dropdowns!$C$22,Dropdowns!$B$22,IF(I126=Dropdowns!$C$23,Dropdowns!$B$23,IF(I126=Dropdowns!$C$24,Dropdowns!$B$24,IF(I126=Dropdowns!$C$25,Dropdowns!$B$25,IF(I126=Dropdowns!$C$26,Dropdowns!$B$26,IF(I126=Dropdowns!$C$27,Dropdowns!$B$27,IF(I126=Dropdowns!$C$28,Dropdowns!$B$28,IF(I126=Dropdowns!$C$29,Dropdowns!$B$29,IF(I126=Dropdowns!$C$30,Dropdowns!$B$30,IF(I126=Dropdowns!$C$31,Dropdowns!$B$31,IF(I126=Dropdowns!$C$32,Dropdowns!$B$32,IF(I126=Dropdowns!$C$33,Dropdowns!$B$33,IF(I126=Dropdowns!$C$34,Dropdowns!$B$34,IF(I126=Dropdowns!$C$35,Dropdowns!$B$35,IF(I126=Dropdowns!$C$36,Dropdowns!$B$36,IF(I126=Dropdowns!$C$37,Dropdowns!$B$37,IF(I126=Dropdowns!$C$38,Dropdowns!$B$38,IF(I126=Dropdowns!$C$39,Dropdowns!$B$39,IF(I126=Dropdowns!$C$40,Dropdowns!$B$40,IF(I126=Dropdowns!$C$41,Dropdowns!$B$41,IF(I126=Dropdowns!$C$42,Dropdowns!$B$42,IF(I126=Dropdowns!$C$43,Dropdowns!$B$43,IF(I126=Dropdowns!$C$44,Dropdowns!$B$44,IF(I126=Dropdowns!$C$45,Dropdowns!$B$45,IF(I126=Dropdowns!$C$46,Dropdowns!$B$46,IF(I126=Dropdowns!$C$47,Dropdowns!$B$47, IF(I126=Dropdowns!$C$48,Dropdowns!$B$48,\"0\"))))))))))))))))))))))))))))))))))))))))))","v":0},{"$f":"IF(AX126=Dropdowns!$F$15,Dropdowns!$G$15,IF(AX126=Dropdowns!$F$16,Dropdowns!$G$16,IF(AX126=Dropdowns!$F$17,Dropdowns!$G$17,\"0\")))","v":"0"}]
[null,null,null,null,null,null,null,null,null,null,"-",null,null,null,null,null,null,null,null,null,null,0,null,null,null,null,null,0,null,null,null,null,null,null,0,null,null,null,null,0,0,null,0,0,0,0,"-",null,null,null,null,null,null,null,null,null,null,null,null,null,null,null,0,0,0,0,0,0,0,0,0,0,1,{"$f":"IFERROR(IF(L127=Dropdowns!$F$32,\"\",IF(J127=\"Project\",AR127/BT127,IF(J127=\"Program\",AP127/BT127,\"\"))),\"\")","v":""},"",null,null,null,null,null,null,null,null,null,{"$f":"IF($CA127=\"\",0,VLOOKUP($CA127,'Conversion Tables'!$B$37:$C$62,2,FALSE))+IF($CB127=\"\",0,VLOOKUP($CB127,'Conversion Tables'!$B$37:$C$62,2,FALSE))+IF($CC127=\"\",0,VLOOKUP($CC127,'Conversion Tables'!$B$37:$C$62,2,FALSE))+IF($CD127=\"\",0,VLOOKUP($CD127,'Conversion Tables'!$B$37:$C$62,2,FALSE))+IF($CE127=\"\",0,VLOOKUP($CE127,'Conversion Tables'!$B$37:$C$62,2,FALSE))+IF($CF127=\"\",0,VLOOKUP($CF127,'Conversion Tables'!$B$37:$C$62,2,FALSE))","v":0},null,null,null,null,null,null,{"$f":"IFERROR(VLOOKUP(CM127,Dropdowns!A$51:B$55,2,FALSE),\"\")","v":""},null,null,null,null,null,null,null,null,null,null,{"$f":"IFERROR(VLOOKUP(AZ127,'Conversion Tables'!$G$8:$N$12,3,FALSE)/'Conversion Tables'!$I$12*Max_Point,0)","v":0},{"$f":"CY127*'Weighting Scale'!$D$9*DS127*DT127","v":0},{"$f":"IFERROR(VLOOKUP(BB127,'Conversion Tables'!$B$8:$C$32,2,FALSE),0)","v":0},{"$f":"IFERROR(VLOOKUP(BC127,'Conversion Tables'!$B$8:$C$32,2,FALSE),0)","v":0},{"$f":"(DA127-DB127)/'Conversion Tables'!$C$32*Max_Point","v":0},{"$f":"DC127*'Weighting Scale'!$D$10*DS127*DT127","v":0},{"$f":"IFERROR(VLOOKUP(BE127,'Conversion Tables'!$G$8:$N$12,2, FALSE)/'Conversion Tables'!$H$12*Max_Point,0)","v":0},{"$f":"DE127*'Weighting Scale'!$D$11*DS127*DT127","v":0},{"$f":"IFERROR(VLOOKUP(BF127,'Conversion Tables'!$G$8:$N$12,6,FALSE)/'Conversion Tables'!$L$12*Max_Point,0)","v":0},{"$f":"DG127*'Weighting Scale'!$D$14*DS127*DT127","v":0},{"$f":"IFERROR(VLOOKUP(BG127,'Conversion Tables'!$G$8:$N$12,4,FALSE)/'Conversion Tables'!$J$12*Max_Point,0)","v":0},{"$f":"DI127*'Weighting Scale'!$D$12*DS127*DT127","v":0},{"$f":"IFERROR(VLOOKUP(BH127,'Conversion Tables'!$G$8:$N$12,5,FALSE)/'Conversion Tables'!$K$12*Max_Point,0)","v":0},{"$f":"DK127*'Weighting Scale'!$D$13*DS127*DT127","v":0},{"$f":"IFERROR(VLOOKUP(BI127,'Conversion Tables'!$G$8:$N$12,7,FALSE)/'Conversion Tables'!$M$12*Max_Point,0)","v":0},{"$f":"DM127*'Weighting Scale'!$D$15*DS127*DT127","v":0},{"$f":"IF(BJ127 = \"Yes\",('Conversion Tables'!$N$12)/'Conversion Tables'!$N$12*Max_Point,0)","v":0},{"$f":"DO127*'Weighting Scale'!$D$16*DS127*DT127","v":0},0,0,0,{"$f":"IF(I127=Dropdowns!$C$7,Dropdowns!$B$7,IF(I127=Dropdowns!$C$8,Dropdowns!$B$8,IF(I127=Dropdowns!$C$9,Dropdowns!$B$9,IF(I127=Dropdowns!$C$10,Dropdowns!$B$10,IF(I127=Dropdowns!$C$11,Dropdowns!$B$11,IF(I127=Dropdowns!$C$12,Dropdowns!$B$12,IF(I127=Dropdowns!$C$13,Dropdowns!$B$13,IF(I127=Dropdowns!$C$14,Dropdowns!$B$14,IF(I127=Dropdowns!$C$15,Dropdowns!$B$15,IF(I127=Dropdowns!$C$16,Dropdowns!$B$16,IF(I127=Dropdowns!$C$17,Dropdowns!$B$17,IF(I127=Dropdowns!$C$18,Dropdowns!$B$18,IF(I127=Dropdowns!$C$19,Dropdowns!$B$19,IF(I127=Dropdowns!$C$20,Dropdowns!$B$20,IF(I127=Dropdowns!$C$21,Dropdowns!$B$21,IF(I127=Dropdowns!$C$22,Dropdowns!$B$22,IF(I127=Dropdowns!$C$23,Dropdowns!$B$23,IF(I127=Dropdowns!$C$24,Dropdowns!$B$24,IF(I127=Dropdowns!$C$25,Dropdowns!$B$25,IF(I127=Dropdowns!$C$26,Dropdowns!$B$26,IF(I127=Dropdowns!$C$27,Dropdowns!$B$27,IF(I127=Dropdowns!$C$28,Dropdowns!$B$28,IF(I127=Dropdowns!$C$29,Dropdowns!$B$29,IF(I127=Dropdowns!$C$30,Dropdowns!$B$30,IF(I127=Dropdowns!$C$31,Dropdowns!$B$31,IF(I127=Dropdowns!$C$32,Dropdowns!$B$32,IF(I127=Dropdowns!$C$33,Dropdowns!$B$33,IF(I127=Dropdowns!$C$34,Dropdowns!$B$34,IF(I127=Dropdowns!$C$35,Dropdowns!$B$35,IF(I127=Dropdowns!$C$36,Dropdowns!$B$36,IF(I127=Dropdowns!$C$37,Dropdowns!$B$37,IF(I127=Dropdowns!$C$38,Dropdowns!$B$38,IF(I127=Dropdowns!$C$39,Dropdowns!$B$39,IF(I127=Dropdowns!$C$40,Dropdowns!$B$40,IF(I127=Dropdowns!$C$41,Dropdowns!$B$41,IF(I127=Dropdowns!$C$42,Dropdowns!$B$42,IF(I127=Dropdowns!$C$43,Dropdowns!$B$43,IF(I127=Dropdowns!$C$44,Dropdowns!$B$44,IF(I127=Dropdowns!$C$45,Dropdowns!$B$45,IF(I127=Dropdowns!$C$46,Dropdowns!$B$46,IF(I127=Dropdowns!$C$47,Dropdowns!$B$47, IF(I127=Dropdowns!$C$48,Dropdowns!$B$48,\"0\"))))))))))))))))))))))))))))))))))))))))))","v":0},{"$f":"IF(AX127=Dropdowns!$F$15,Dropdowns!$G$15,IF(AX127=Dropdowns!$F$16,Dropdowns!$G$16,IF(AX127=Dropdowns!$F$17,Dropdowns!$G$17,\"0\")))","v":"0"}]
[null,null,null,null,null,null,null,null,null,null,"-",null,null,null,null,null,null,null,null,null,null,0,null,null,null,null,null,0,null,null,null,null,null,null,0,null,null,null,null,0,0,null,0,0,0,0,"-",null,null,null,null,null,null,null,null,null,null,null,null,null,null,null,0,0,0,0,0,0,0,0,0,0,1,{"$f":"IFERROR(IF(L128=Dropdowns!$F$32,\"\",IF(J128=\"Project\",AR128/BT128,IF(J128=\"Program\",AP128/BT128,\"\"))),\"\")","v":""},"",null,null,null,null,null,null,null,null,null,{"$f":"IF($CA128=\"\",0,VLOOKUP($CA128,'Conversion Tables'!$B$37:$C$62,2,FALSE))+IF($CB128=\"\",0,VLOOKUP($CB128,'Conversion Tables'!$B$37:$C$62,2,FALSE))+IF($CC128=\"\",0,VLOOKUP($CC128,'Conversion Tables'!$B$37:$C$62,2,FALSE))+IF($CD128=\"\",0,VLOOKUP($CD128,'Conversion Tables'!$B$37:$C$62,2,FALSE))+IF($CE128=\"\",0,VLOOKUP($CE128,'Conversion Tables'!$B$37:$C$62,2,FALSE))+IF($CF128=\"\",0,VLOOKUP($CF128,'Conversion Tables'!$B$37:$C$62,2,FALSE))","v":0},null,null,null,null,null,null,{"$f":"IFERROR(VLOOKUP(CM128,Dropdowns!A$51:B$55,2,FALSE),\"\")","v":""},null,null,null,null,null,null,null,null,null,null,{"$f":"IFERROR(VLOOKUP(AZ128,'Conversion Tables'!$G$8:$N$12,3,FALSE)/'Conversion Tables'!$I$12*Max_Point,0)","v":0},{"$f":"CY128*'Weighting Scale'!$D$9*DS128*DT128","v":0},{"$f":"IFERROR(VLOOKUP(BB128,'Conversion Tables'!$B$8:$C$32,2,FALSE),0)","v":0},{"$f":"IFERROR(VLOOKUP(BC128,'Conversion Tables'!$B$8:$C$32,2,FALSE),0)","v":0},{"$f":"(DA128-DB128)/'Conversion Tables'!$C$32*Max_Point","v":0},{"$f":"DC128*'Weighting Scale'!$D$10*DS128*DT128","v":0},{"$f":"IFERROR(VLOOKUP(BE128,'Conversion Tables'!$G$8:$N$12,2, FALSE)/'Conversion Tables'!$H$12*Max_Point,0)","v":0},{"$f":"DE128*'Weighting Scale'!$D$11*DS128*DT128","v":0},{"$f":"IFERROR(VLOOKUP(BF128,'Conversion Tables'!$G$8:$N$12,6,FALSE)/'Conversion Tables'!$L$12*Max_Point,0)","v":0},{"$f":"DG128*'Weighting Scale'!$D$14*DS128*DT128","v":0},{"$f":"IFERROR(VLOOKUP(BG128,'Conversion Tables'!$G$8:$N$12,4,FALSE)/'Conversion Tables'!$J$12*Max_Point,0)","v":0},{"$f":"DI128*'Weighting Scale'!$D$12*DS128*DT128","v":0},{"$f":"IFERROR(VLOOKUP(BH128,'Conversion Tables'!$G$8:$N$12,5,FALSE)/'Conversion Tables'!$K$12*Max_Point,0)","v":0},{"$f":"DK128*'Weighting Scale'!$D$13*DS128*DT128","v":0},{"$f":"IFERROR(VLOOKUP(BI128,'Conversion Tables'!$G$8:$N$12,7,FALSE)/'Conversion Tables'!$M$12*Max_Point,0)","v":0},{"$f":"DM128*'Weighting Scale'!$D$15*DS128*DT128","v":0},{"$f":"IF(BJ128 = \"Yes\",('Conversion Tables'!$N$12)/'Conversion Tables'!$N$12*Max_Point,0)","v":0},{"$f":"DO128*'Weighting Scale'!$D$16*DS128*DT128","v":0},0,0,0,{"$f":"IF(I128=Dropdowns!$C$7,Dropdowns!$B$7,IF(I128=Dropdowns!$C$8,Dropdowns!$B$8,IF(I128=Dropdowns!$C$9,Dropdowns!$B$9,IF(I128=Dropdowns!$C$10,Dropdowns!$B$10,IF(I128=Dropdowns!$C$11,Dropdowns!$B$11,IF(I128=Dropdowns!$C$12,Dropdowns!$B$12,IF(I128=Dropdowns!$C$13,Dropdowns!$B$13,IF(I128=Dropdowns!$C$14,Dropdowns!$B$14,IF(I128=Dropdowns!$C$15,Dropdowns!$B$15,IF(I128=Dropdowns!$C$16,Dropdowns!$B$16,IF(I128=Dropdowns!$C$17,Dropdowns!$B$17,IF(I128=Dropdowns!$C$18,Dropdowns!$B$18,IF(I128=Dropdowns!$C$19,Dropdowns!$B$19,IF(I128=Dropdowns!$C$20,Dropdowns!$B$20,IF(I128=Dropdowns!$C$21,Dropdowns!$B$21,IF(I128=Dropdowns!$C$22,Dropdowns!$B$22,IF(I128=Dropdowns!$C$23,Dropdowns!$B$23,IF(I128=Dropdowns!$C$24,Dropdowns!$B$24,IF(I128=Dropdowns!$C$25,Dropdowns!$B$25,IF(I128=Dropdowns!$C$26,Dropdowns!$B$26,IF(I128=Dropdowns!$C$27,Dropdowns!$B$27,IF(I128=Dropdowns!$C$28,Dropdowns!$B$28,IF(I128=Dropdowns!$C$29,Dropdowns!$B$29,IF(I128=Dropdowns!$C$30,Dropdowns!$B$30,IF(I128=Dropdowns!$C$31,Dropdowns!$B$31,IF(I128=Dropdowns!$C$32,Dropdowns!$B$32,IF(I128=Dropdowns!$C$33,Dropdowns!$B$33,IF(I128=Dropdowns!$C$34,Dropdowns!$B$34,IF(I128=Dropdowns!$C$35,Dropdowns!$B$35,IF(I128=Dropdowns!$C$36,Dropdowns!$B$36,IF(I128=Dropdowns!$C$37,Dropdowns!$B$37,IF(I128=Dropdowns!$C$38,Dropdowns!$B$38,IF(I128=Dropdowns!$C$39,Dropdowns!$B$39,IF(I128=Dropdowns!$C$40,Dropdowns!$B$40,IF(I128=Dropdowns!$C$41,Dropdowns!$B$41,IF(I128=Dropdowns!$C$42,Dropdowns!$B$42,IF(I128=Dropdowns!$C$43,Dropdowns!$B$43,IF(I128=Dropdowns!$C$44,Dropdowns!$B$44,IF(I128=Dropdowns!$C$45,Dropdowns!$B$45,IF(I128=Dropdowns!$C$46,Dropdowns!$B$46,IF(I128=Dropdowns!$C$47,Dropdowns!$B$47, IF(I128=Dropdowns!$C$48,Dropdowns!$B$48,\"0\"))))))))))))))))))))))))))))))))))))))))))","v":0},{"$f":"IF(AX128=Dropdowns!$F$15,Dropdowns!$G$15,IF(AX128=Dropdowns!$F$16,Dropdowns!$G$16,IF(AX128=Dropdowns!$F$17,Dropdowns!$G$17,\"0\")))","v":"0"}]
[null,null,null,null,null,null,null,null,null,null,"-",null,null,null,null,null,null,null,null,null,null,0,null,null,null,null,null,0,null,null,null,null,null,null,0,null,null,null,null,0,0,null,0,0,0,0,"-",null,null,null,null,null,null,null,null,null,null,null,null,null,null,null,0,0,0,0,0,0,0,0,0,0,1,{"$f":"IFERROR(IF(L129=Dropdowns!$F$32,\"\",IF(J129=\"Project\",AR129/BT129,IF(J129=\"Program\",AP129/BT129,\"\"))),\"\")","v":""},"",null,null,null,null,null,null,null,null,null,{"$f":"IF($CA129=\"\",0,VLOOKUP($CA129,'Conversion Tables'!$B$37:$C$62,2,FALSE))+IF($CB129=\"\",0,VLOOKUP($CB129,'Conversion Tables'!$B$37:$C$62,2,FALSE))+IF($CC129=\"\",0,VLOOKUP($CC129,'Conversion Tables'!$B$37:$C$62,2,FALSE))+IF($CD129=\"\",0,VLOOKUP($CD129,'Conversion Tables'!$B$37:$C$62,2,FALSE))+IF($CE129=\"\",0,VLOOKUP($CE129,'Conversion Tables'!$B$37:$C$62,2,FALSE))+IF($CF129=\"\",0,VLOOKUP($CF129,'Conversion Tables'!$B$37:$C$62,2,FALSE))","v":0},null,null,null,null,null,null,{"$f":"IFERROR(VLOOKUP(CM129,Dropdowns!A$51:B$55,2,FALSE),\"\")","v":""},null,null,null,null,null,null,null,null,null,null,{"$f":"IFERROR(VLOOKUP(AZ129,'Conversion Tables'!$G$8:$N$12,3,FALSE)/'Conversion Tables'!$I$12*Max_Point,0)","v":0},{"$f":"CY129*'Weighting Scale'!$D$9*DS129*DT129","v":0},{"$f":"IFERROR(VLOOKUP(BB129,'Conversion Tables'!$B$8:$C$32,2,FALSE),0)","v":0},{"$f":"IFERROR(VLOOKUP(BC129,'Conversion Tables'!$B$8:$C$32,2,FALSE),0)","v":0},{"$f":"(DA129-DB129)/'Conversion Tables'!$C$32*Max_Point","v":0},{"$f":"DC129*'Weighting Scale'!$D$10*DS129*DT129","v":0},{"$f":"IFERROR(VLOOKUP(BE129,'Conversion Tables'!$G$8:$N$12,2, FALSE)/'Conversion Tables'!$H$12*Max_Point,0)","v":0},{"$f":"DE129*'Weighting Scale'!$D$11*DS129*DT129","v":0},{"$f":"IFERROR(VLOOKUP(BF129,'Conversion Tables'!$G$8:$N$12,6,FALSE)/'Conversion Tables'!$L$12*Max_Point,0)","v":0},{"$f":"DG129*'Weighting Scale'!$D$14*DS129*DT129","v":0},{"$f":"IFERROR(VLOOKUP(BG129,'Conversion Tables'!$G$8:$N$12,4,FALSE)/'Conversion Tables'!$J$12*Max_Point,0)","v":0},{"$f":"DI129*'Weighting Scale'!$D$12*DS129*DT129","v":0},{"$f":"IFERROR(VLOOKUP(BH129,'Conversion Tables'!$G$8:$N$12,5,FALSE)/'Conversion Tables'!$K$12*Max_Point,0)","v":0},{"$f":"DK129*'Weighting Scale'!$D$13*DS129*DT129","v":0},{"$f":"IFERROR(VLOOKUP(BI129,'Conversion Tables'!$G$8:$N$12,7,FALSE)/'Conversion Tables'!$M$12*Max_Point,0)","v":0},{"$f":"DM129*'Weighting Scale'!$D$15*DS129*DT129","v":0},{"$f":"IF(BJ129 = \"Yes\",('Conversion Tables'!$N$12)/'Conversion Tables'!$N$12*Max_Point,0)","v":0},{"$f":"DO129*'Weighting Scale'!$D$16*DS129*DT129","v":0},0,0,0,{"$f":"IF(I129=Dropdowns!$C$7,Dropdowns!$B$7,IF(I129=Dropdowns!$C$8,Dropdowns!$B$8,IF(I129=Dropdowns!$C$9,Dropdowns!$B$9,IF(I129=Dropdowns!$C$10,Dropdowns!$B$10,IF(I129=Dropdowns!$C$11,Dropdowns!$B$11,IF(I129=Dropdowns!$C$12,Dropdowns!$B$12,IF(I129=Dropdowns!$C$13,Dropdowns!$B$13,IF(I129=Dropdowns!$C$14,Dropdowns!$B$14,IF(I129=Dropdowns!$C$15,Dropdowns!$B$15,IF(I129=Dropdowns!$C$16,Dropdowns!$B$16,IF(I129=Dropdowns!$C$17,Dropdowns!$B$17,IF(I129=Dropdowns!$C$18,Dropdowns!$B$18,IF(I129=Dropdowns!$C$19,Dropdowns!$B$19,IF(I129=Dropdowns!$C$20,Dropdowns!$B$20,IF(I129=Dropdowns!$C$21,Dropdowns!$B$21,IF(I129=Dropdowns!$C$22,Dropdowns!$B$22,IF(I129=Dropdowns!$C$23,Dropdowns!$B$23,IF(I129=Dropdowns!$C$24,Dropdowns!$B$24,IF(I129=Dropdowns!$C$25,Dropdowns!$B$25,IF(I129=Dropdowns!$C$26,Dropdowns!$B$26,IF(I129=Dropdowns!$C$27,Dropdowns!$B$27,IF(I129=Dropdowns!$C$28,Dropdowns!$B$28,IF(I129=Dropdowns!$C$29,Dropdowns!$B$29,IF(I129=Dropdowns!$C$30,Dropdowns!$B$30,IF(I129=Dropdowns!$C$31,Dropdowns!$B$31,IF(I129=Dropdowns!$C$32,Dropdowns!$B$32,IF(I129=Dropdowns!$C$33,Dropdowns!$B$33,IF(I129=Dropdowns!$C$34,Dropdowns!$B$34,IF(I129=Dropdowns!$C$35,Dropdowns!$B$35,IF(I129=Dropdowns!$C$36,Dropdowns!$B$36,IF(I129=Dropdowns!$C$37,Dropdowns!$B$37,IF(I129=Dropdowns!$C$38,Dropdowns!$B$38,IF(I129=Dropdowns!$C$39,Dropdowns!$B$39,IF(I129=Dropdowns!$C$40,Dropdowns!$B$40,IF(I129=Dropdowns!$C$41,Dropdowns!$B$41,IF(I129=Dropdowns!$C$42,Dropdowns!$B$42,IF(I129=Dropdowns!$C$43,Dropdowns!$B$43,IF(I129=Dropdowns!$C$44,Dropdowns!$B$44,IF(I129=Dropdowns!$C$45,Dropdowns!$B$45,IF(I129=Dropdowns!$C$46,Dropdowns!$B$46,IF(I129=Dropdowns!$C$47,Dropdowns!$B$47, IF(I129=Dropdowns!$C$48,Dropdowns!$B$48,\"0\"))))))))))))))))))))))))))))))))))))))))))","v":0},{"$f":"IF(AX129=Dropdowns!$F$15,Dropdowns!$G$15,IF(AX129=Dropdowns!$F$16,Dropdowns!$G$16,IF(AX129=Dropdowns!$F$17,Dropdowns!$G$17,\"0\")))","v":"0"}]
[null,null,null,null,null,null,null,null,null,null,"-",null,null,null,null,null,null,null,null,null,null,0,null,null,null,null,null,0,null,null,null,null,null,null,0,null,null,null,null,0,0,null,0,0,0,0,"-",null,null,null,null,null,null,null,null,null,null,null,null,null,null,null,0,0,0,0,0,0,0,0,0,0,1,{"$f":"IFERROR(IF(L130=Dropdowns!$F$32,\"\",IF(J130=\"Project\",AR130/BT130,IF(J130=\"Program\",AP130/BT130,\"\"))),\"\")","v":""},"",null,null,null,null,null,null,null,null,null,{"$f":"IF($CA130=\"\",0,VLOOKUP($CA130,'Conversion Tables'!$B$37:$C$62,2,FALSE))+IF($CB130=\"\",0,VLOOKUP($CB130,'Conversion Tables'!$B$37:$C$62,2,FALSE))+IF($CC130=\"\",0,VLOOKUP($CC130,'Conversion Tables'!$B$37:$C$62,2,FALSE))+IF($CD130=\"\",0,VLOOKUP($CD130,'Conversion Tables'!$B$37:$C$62,2,FALSE))+IF($CE130=\"\",0,VLOOKUP($CE130,'Conversion Tables'!$B$37:$C$62,2,FALSE))+IF($CF130=\"\",0,VLOOKUP($CF130,'Conversion Tables'!$B$37:$C$62,2,FALSE))","v":0},null,null,null,null,null,null,{"$f":"IFERROR(VLOOKUP(CM130,Dropdowns!A$51:B$55,2,FALSE),\"\")","v":""},null,null,null,null,null,null,null,null,null,null,{"$f":"IFERROR(VLOOKUP(AZ130,'Conversion Tables'!$G$8:$N$12,3,FALSE)/'Conversion Tables'!$I$12*Max_Point,0)","v":0},{"$f":"CY130*'Weighting Scale'!$D$9*DS130*DT130","v":0},{"$f":"IFERROR(VLOOKUP(BB130,'Conversion Tables'!$B$8:$C$32,2,FALSE),0)","v":0},{"$f":"IFERROR(VLOOKUP(BC130,'Conversion Tables'!$B$8:$C$32,2,FALSE),0)","v":0},{"$f":"(DA130-DB130)/'Conversion Tables'!$C$32*Max_Point","v":0},{"$f":"DC130*'Weighting Scale'!$D$10*DS130*DT130","v":0},{"$f":"IFERROR(VLOOKUP(BE130,'Conversion Tables'!$G$8:$N$12,2, FALSE)/'Conversion Tables'!$H$12*Max_Point,0)","v":0},{"$f":"DE130*'Weighting Scale'!$D$11*DS130*DT130","v":0},{"$f":"IFERROR(VLOOKUP(BF130,'Conversion Tables'!$G$8:$N$12,6,FALSE)/'Conversion Tables'!$L$12*Max_Point,0)","v":0},{"$f":"DG130*'Weighting Scale'!$D$14*DS130*DT130","v":0},{"$f":"IFERROR(VLOOKUP(BG130,'Conversion Tables'!$G$8:$N$12,4,FALSE)/'Conversion Tables'!$J$12*Max_Point,0)","v":0},{"$f":"DI130*'Weighting Scale'!$D$12*DS130*DT130","v":0},{"$f":"IFERROR(VLOOKUP(BH130,'Conversion Tables'!$G$8:$N$12,5,FALSE)/'Conversion Tables'!$K$12*Max_Point,0)","v":0},{"$f":"DK130*'Weighting Scale'!$D$13*DS130*DT130","v":0},{"$f":"IFERROR(VLOOKUP(BI130,'Conversion Tables'!$G$8:$N$12,7,FALSE)/'Conversion Tables'!$M$12*Max_Point,0)","v":0},{"$f":"DM130*'Weighting Scale'!$D$15*DS130*DT130","v":0},{"$f":"IF(BJ130 = \"Yes\",('Conversion Tables'!$N$12)/'Conversion Tables'!$N$12*Max_Point,0)","v":0},{"$f":"DO130*'Weighting Scale'!$D$16*DS130*DT130","v":0},0,0,0,{"$f":"IF(I130=Dropdowns!$C$7,Dropdowns!$B$7,IF(I130=Dropdowns!$C$8,Dropdowns!$B$8,IF(I130=Dropdowns!$C$9,Dropdowns!$B$9,IF(I130=Dropdowns!$C$10,Dropdowns!$B$10,IF(I130=Dropdowns!$C$11,Dropdowns!$B$11,IF(I130=Dropdowns!$C$12,Dropdowns!$B$12,IF(I130=Dropdowns!$C$13,Dropdowns!$B$13,IF(I130=Dropdowns!$C$14,Dropdowns!$B$14,IF(I130=Dropdowns!$C$15,Dropdowns!$B$15,IF(I130=Dropdowns!$C$16,Dropdowns!$B$16,IF(I130=Dropdowns!$C$17,Dropdowns!$B$17,IF(I130=Dropdowns!$C$18,Dropdowns!$B$18,IF(I130=Dropdowns!$C$19,Dropdowns!$B$19,IF(I130=Dropdowns!$C$20,Dropdowns!$B$20,IF(I130=Dropdowns!$C$21,Dropdowns!$B$21,IF(I130=Dropdowns!$C$22,Dropdowns!$B$22,IF(I130=Dropdowns!$C$23,Dropdowns!$B$23,IF(I130=Dropdowns!$C$24,Dropdowns!$B$24,IF(I130=Dropdowns!$C$25,Dropdowns!$B$25,IF(I130=Dropdowns!$C$26,Dropdowns!$B$26,IF(I130=Dropdowns!$C$27,Dropdowns!$B$27,IF(I130=Dropdowns!$C$28,Dropdowns!$B$28,IF(I130=Dropdowns!$C$29,Dropdowns!$B$29,IF(I130=Dropdowns!$C$30,Dropdowns!$B$30,IF(I130=Dropdowns!$C$31,Dropdowns!$B$31,IF(I130=Dropdowns!$C$32,Dropdowns!$B$32,IF(I130=Dropdowns!$C$33,Dropdowns!$B$33,IF(I130=Dropdowns!$C$34,Dropdowns!$B$34,IF(I130=Dropdowns!$C$35,Dropdowns!$B$35,IF(I130=Dropdowns!$C$36,Dropdowns!$B$36,IF(I130=Dropdowns!$C$37,Dropdowns!$B$37,IF(I130=Dropdowns!$C$38,Dropdowns!$B$38,IF(I130=Dropdowns!$C$39,Dropdowns!$B$39,IF(I130=Dropdowns!$C$40,Dropdowns!$B$40,IF(I130=Dropdowns!$C$41,Dropdowns!$B$41,IF(I130=Dropdowns!$C$42,Dropdowns!$B$42,IF(I130=Dropdowns!$C$43,Dropdowns!$B$43,IF(I130=Dropdowns!$C$44,Dropdowns!$B$44,IF(I130=Dropdowns!$C$45,Dropdowns!$B$45,IF(I130=Dropdowns!$C$46,Dropdowns!$B$46,IF(I130=Dropdowns!$C$47,Dropdowns!$B$47, IF(I130=Dropdowns!$C$48,Dropdowns!$B$48,\"0\"))))))))))))))))))))))))))))))))))))))))))","v":0},{"$f":"IF(AX130=Dropdowns!$F$15,Dropdowns!$G$15,IF(AX130=Dropdowns!$F$16,Dropdowns!$G$16,IF(AX130=Dropdowns!$F$17,Dropdowns!$G$17,\"0\")))","v":"0"}]
[null,null,null,null,null,null,null,null,null,null,"-",null,null,null,null,null,null,null,null,null,null,0,null,null,null,null,null,0,null,null,null,null,null,null,0,null,null,null,null,0,0,null,0,0,0,0,"-",null,null,null,null,null,null,null,null,null,null,null,null,null,null,null,0,0,0,0,0,0,0,0,0,0,1,{"$f":"IFERROR(IF(L131=Dropdowns!$F$32,\"\",IF(J131=\"Project\",AR131/BT131,IF(J131=\"Program\",AP131/BT131,\"\"))),\"\")","v":""},"",null,null,null,null,null,null,null,null,null,{"$f":"IF($CA131=\"\",0,VLOOKUP($CA131,'Conversion Tables'!$B$37:$C$62,2,FALSE))+IF($CB131=\"\",0,VLOOKUP($CB131,'Conversion Tables'!$B$37:$C$62,2,FALSE))+IF($CC131=\"\",0,VLOOKUP($CC131,'Conversion Tables'!$B$37:$C$62,2,FALSE))+IF($CD131=\"\",0,VLOOKUP($CD131,'Conversion Tables'!$B$37:$C$62,2,FALSE))+IF($CE131=\"\",0,VLOOKUP($CE131,'Conversion Tables'!$B$37:$C$62,2,FALSE))+IF($CF131=\"\",0,VLOOKUP($CF131,'Conversion Tables'!$B$37:$C$62,2,FALSE))","v":0},null,null,null,null,null,null,{"$f":"IFERROR(VLOOKUP(CM131,Dropdowns!A$51:B$55,2,FALSE),\"\")","v":""},null,null,null,null,null,null,null,null,null,null,{"$f":"IFERROR(VLOOKUP(AZ131,'Conversion Tables'!$G$8:$N$12,3,FALSE)/'Conversion Tables'!$I$12*Max_Point,0)","v":0},{"$f":"CY131*'Weighting Scale'!$D$9*DS131*DT131","v":0},{"$f":"IFERROR(VLOOKUP(BB131,'Conversion Tables'!$B$8:$C$32,2,FALSE),0)","v":0},{"$f":"IFERROR(VLOOKUP(BC131,'Conversion Tables'!$B$8:$C$32,2,FALSE),0)","v":0},{"$f":"(DA131-DB131)/'Conversion Tables'!$C$32*Max_Point","v":0},{"$f":"DC131*'Weighting Scale'!$D$10*DS131*DT131","v":0},{"$f":"IFERROR(VLOOKUP(BE131,'Conversion Tables'!$G$8:$N$12,2, FALSE)/'Conversion Tables'!$H$12*Max_Point,0)","v":0},{"$f":"DE131*'Weighting Scale'!$D$11*DS131*DT131","v":0},{"$f":"IFERROR(VLOOKUP(BF131,'Conversion Tables'!$G$8:$N$12,6,FALSE)/'Conversion Tables'!$L$12*Max_Point,0)","v":0},{"$f":"DG131*'Weighting Scale'!$D$14*DS131*DT131","v":0},{"$f":"IFERROR(VLOOKUP(BG131,'Conversion Tables'!$G$8:$N$12,4,FALSE)/'Conversion Tables'!$J$12*Max_Point,0)","v":0},{"$f":"DI131*'Weighting Scale'!$D$12*DS131*DT131","v":0},{"$f":"IFERROR(VLOOKUP(BH131,'Conversion Tables'!$G$8:$N$12,5,FALSE)/'Conversion Tables'!$K$12*Max_Point,0)","v":0},{"$f":"DK131*'Weighting Scale'!$D$13*DS131*DT131","v":0},{"$f":"IFERROR(VLOOKUP(BI131,'Conversion Tables'!$G$8:$N$12,7,FALSE)/'Conversion Tables'!$M$12*Max_Point,0)","v":0},{"$f":"DM131*'Weighting Scale'!$D$15*DS131*DT131","v":0},{"$f":"IF(BJ131 = \"Yes\",('Conversion Tables'!$N$12)/'Conversion Tables'!$N$12*Max_Point,0)","v":0},{"$f":"DO131*'Weighting Scale'!$D$16*DS131*DT131","v":0},0,0,0,{"$f":"IF(I131=Dropdowns!$C$7,Dropdowns!$B$7,IF(I131=Dropdowns!$C$8,Dropdowns!$B$8,IF(I131=Dropdowns!$C$9,Dropdowns!$B$9,IF(I131=Dropdowns!$C$10,Dropdowns!$B$10,IF(I131=Dropdowns!$C$11,Dropdowns!$B$11,IF(I131=Dropdowns!$C$12,Dropdowns!$B$12,IF(I131=Dropdowns!$C$13,Dropdowns!$B$13,IF(I131=Dropdowns!$C$14,Dropdowns!$B$14,IF(I131=Dropdowns!$C$15,Dropdowns!$B$15,IF(I131=Dropdowns!$C$16,Dropdowns!$B$16,IF(I131=Dropdowns!$C$17,Dropdowns!$B$17,IF(I131=Dropdowns!$C$18,Dropdowns!$B$18,IF(I131=Dropdowns!$C$19,Dropdowns!$B$19,IF(I131=Dropdowns!$C$20,Dropdowns!$B$20,IF(I131=Dropdowns!$C$21,Dropdowns!$B$21,IF(I131=Dropdowns!$C$22,Dropdowns!$B$22,IF(I131=Dropdowns!$C$23,Dropdowns!$B$23,IF(I131=Dropdowns!$C$24,Dropdowns!$B$24,IF(I131=Dropdowns!$C$25,Dropdowns!$B$25,IF(I131=Dropdowns!$C$26,Dropdowns!$B$26,IF(I131=Dropdowns!$C$27,Dropdowns!$B$27,IF(I131=Dropdowns!$C$28,Dropdowns!$B$28,IF(I131=Dropdowns!$C$29,Dropdowns!$B$29,IF(I131=Dropdowns!$C$30,Dropdowns!$B$30,IF(I131=Dropdowns!$C$31,Dropdowns!$B$31,IF(I131=Dropdowns!$C$32,Dropdowns!$B$32,IF(I131=Dropdowns!$C$33,Dropdowns!$B$33,IF(I131=Dropdowns!$C$34,Dropdowns!$B$34,IF(I131=Dropdowns!$C$35,Dropdowns!$B$35,IF(I131=Dropdowns!$C$36,Dropdowns!$B$36,IF(I131=Dropdowns!$C$37,Dropdowns!$B$37,IF(I131=Dropdowns!$C$38,Dropdowns!$B$38,IF(I131=Dropdowns!$C$39,Dropdowns!$B$39,IF(I131=Dropdowns!$C$40,Dropdowns!$B$40,IF(I131=Dropdowns!$C$41,Dropdowns!$B$41,IF(I131=Dropdowns!$C$42,Dropdowns!$B$42,IF(I131=Dropdowns!$C$43,Dropdowns!$B$43,IF(I131=Dropdowns!$C$44,Dropdowns!$B$44,IF(I131=Dropdowns!$C$45,Dropdowns!$B$45,IF(I131=Dropdowns!$C$46,Dropdowns!$B$46,IF(I131=Dropdowns!$C$47,Dropdowns!$B$47, IF(I131=Dropdowns!$C$48,Dropdowns!$B$48,\"0\"))))))))))))))))))))))))))))))))))))))))))","v":0},{"$f":"IF(AX131=Dropdowns!$F$15,Dropdowns!$G$15,IF(AX131=Dropdowns!$F$16,Dropdowns!$G$16,IF(AX131=Dropdowns!$F$17,Dropdowns!$G$17,\"0\")))","v":"0"}]
[null,null,null,null,null,null,null,null,null,null,"-",null,null,null,null,null,null,null,null,null,null,0,null,null,null,null,null,0,null,null,null,null,null,null,0,null,null,null,null,0,0,null,0,0,0,0,"-",null,null,null,null,null,null,null,null,null,null,null,null,null,null,null,0,0,0,0,0,0,0,0,0,0,1,{"$f":"IFERROR(IF(L132=Dropdowns!$F$32,\"\",IF(J132=\"Project\",AR132/BT132,IF(J132=\"Program\",AP132/BT132,\"\"))),\"\")","v":""},"",null,null,null,null,null,null,null,null,null,{"$f":"IF($CA132=\"\",0,VLOOKUP($CA132,'Conversion Tables'!$B$37:$C$62,2,FALSE))+IF($CB132=\"\",0,VLOOKUP($CB132,'Conversion Tables'!$B$37:$C$62,2,FALSE))+IF($CC132=\"\",0,VLOOKUP($CC132,'Conversion Tables'!$B$37:$C$62,2,FALSE))+IF($CD132=\"\",0,VLOOKUP($CD132,'Conversion Tables'!$B$37:$C$62,2,FALSE))+IF($CE132=\"\",0,VLOOKUP($CE132,'Conversion Tables'!$B$37:$C$62,2,FALSE))+IF($CF132=\"\",0,VLOOKUP($CF132,'Conversion Tables'!$B$37:$C$62,2,FALSE))","v":0},null,null,null,null,null,null,{"$f":"IFERROR(VLOOKUP(CM132,Dropdowns!A$51:B$55,2,FALSE),\"\")","v":""},null,null,null,null,null,null,null,null,null,null,{"$f":"IFERROR(VLOOKUP(AZ132,'Conversion Tables'!$G$8:$N$12,3,FALSE)/'Conversion Tables'!$I$12*Max_Point,0)","v":0},{"$f":"CY132*'Weighting Scale'!$D$9*DS132*DT132","v":0},{"$f":"IFERROR(VLOOKUP(BB132,'Conversion Tables'!$B$8:$C$32,2,FALSE),0)","v":0},{"$f":"IFERROR(VLOOKUP(BC132,'Conversion Tables'!$B$8:$C$32,2,FALSE),0)","v":0},{"$f":"(DA132-DB132)/'Conversion Tables'!$C$32*Max_Point","v":0},{"$f":"DC132*'Weighting Scale'!$D$10*DS132*DT132","v":0},{"$f":"IFERROR(VLOOKUP(BE132,'Conversion Tables'!$G$8:$N$12,2, FALSE)/'Conversion Tables'!$H$12*Max_Point,0)","v":0},{"$f":"DE132*'Weighting Scale'!$D$11*DS132*DT132","v":0},{"$f":"IFERROR(VLOOKUP(BF132,'Conversion Tables'!$G$8:$N$12,6,FALSE)/'Conversion Tables'!$L$12*Max_Point,0)","v":0},{"$f":"DG132*'Weighting Scale'!$D$14*DS132*DT132","v":0},{"$f":"IFERROR(VLOOKUP(BG132,'Conversion Tables'!$G$8:$N$12,4,FALSE)/'Conversion Tables'!$J$12*Max_Point,0)","v":0},{"$f":"DI132*'Weighting Scale'!$D$12*DS132*DT132","v":0},{"$f":"IFERROR(VLOOKUP(BH132,'Conversion Tables'!$G$8:$N$12,5,FALSE)/'Conversion Tables'!$K$12*Max_Point,0)","v":0},{"$f":"DK132*'Weighting Scale'!$D$13*DS132*DT132","v":0},{"$f":"IFERROR(VLOOKUP(BI132,'Conversion Tables'!$G$8:$N$12,7,FALSE)/'Conversion Tables'!$M$12*Max_Point,0)","v":0},{"$f":"DM132*'Weighting Scale'!$D$15*DS132*DT132","v":0},{"$f":"IF(BJ132 = \"Yes\",('Conversion Tables'!$N$12)/'Conversion Tables'!$N$12*Max_Point,0)","v":0},{"$f":"DO132*'Weighting Scale'!$D$16*DS132*DT132","v":0},0,0,0,{"$f":"IF(I132=Dropdowns!$C$7,Dropdowns!$B$7,IF(I132=Dropdowns!$C$8,Dropdowns!$B$8,IF(I132=Dropdowns!$C$9,Dropdowns!$B$9,IF(I132=Dropdowns!$C$10,Dropdowns!$B$10,IF(I132=Dropdowns!$C$11,Dropdowns!$B$11,IF(I132=Dropdowns!$C$12,Dropdowns!$B$12,IF(I132=Dropdowns!$C$13,Dropdowns!$B$13,IF(I132=Dropdowns!$C$14,Dropdowns!$B$14,IF(I132=Dropdowns!$C$15,Dropdowns!$B$15,IF(I132=Dropdowns!$C$16,Dropdowns!$B$16,IF(I132=Dropdowns!$C$17,Dropdowns!$B$17,IF(I132=Dropdowns!$C$18,Dropdowns!$B$18,IF(I132=Dropdowns!$C$19,Dropdowns!$B$19,IF(I132=Dropdowns!$C$20,Dropdowns!$B$20,IF(I132=Dropdowns!$C$21,Dropdowns!$B$21,IF(I132=Dropdowns!$C$22,Dropdowns!$B$22,IF(I132=Dropdowns!$C$23,Dropdowns!$B$23,IF(I132=Dropdowns!$C$24,Dropdowns!$B$24,IF(I132=Dropdowns!$C$25,Dropdowns!$B$25,IF(I132=Dropdowns!$C$26,Dropdowns!$B$26,IF(I132=Dropdowns!$C$27,Dropdowns!$B$27,IF(I132=Dropdowns!$C$28,Dropdowns!$B$28,IF(I132=Dropdowns!$C$29,Dropdowns!$B$29,IF(I132=Dropdowns!$C$30,Dropdowns!$B$30,IF(I132=Dropdowns!$C$31,Dropdowns!$B$31,IF(I132=Dropdowns!$C$32,Dropdowns!$B$32,IF(I132=Dropdowns!$C$33,Dropdowns!$B$33,IF(I132=Dropdowns!$C$34,Dropdowns!$B$34,IF(I132=Dropdowns!$C$35,Dropdowns!$B$35,IF(I132=Dropdowns!$C$36,Dropdowns!$B$36,IF(I132=Dropdowns!$C$37,Dropdowns!$B$37,IF(I132=Dropdowns!$C$38,Dropdowns!$B$38,IF(I132=Dropdowns!$C$39,Dropdowns!$B$39,IF(I132=Dropdowns!$C$40,Dropdowns!$B$40,IF(I132=Dropdowns!$C$41,Dropdowns!$B$41,IF(I132=Dropdowns!$C$42,Dropdowns!$B$42,IF(I132=Dropdowns!$C$43,Dropdowns!$B$43,IF(I132=Dropdowns!$C$44,Dropdowns!$B$44,IF(I132=Dropdowns!$C$45,Dropdowns!$B$45,IF(I132=Dropdowns!$C$46,Dropdowns!$B$46,IF(I132=Dropdowns!$C$47,Dropdowns!$B$47, IF(I132=Dropdowns!$C$48,Dropdowns!$B$48,\"0\"))))))))))))))))))))))))))))))))))))))))))","v":0},{"$f":"IF(AX132=Dropdowns!$F$15,Dropdowns!$G$15,IF(AX132=Dropdowns!$F$16,Dropdowns!$G$16,IF(AX132=Dropdowns!$F$17,Dropdowns!$G$17,\"0\")))","v":"0"}]
[null,null,null,null,null,null,null,null,null,null,"-",null,null,null,null,null,null,null,null,null,null,0,null,null,null,null,null,0,null,null,null,null,null,null,0,null,null,null,null,0,0,null,0,0,0,0,"-",null,null,null,null,null,null,null,null,null,null,null,null,null,null,null,0,0,0,0,0,0,0,0,0,0,1,{"$f":"IFERROR(IF(L133=Dropdowns!$F$32,\"\",IF(J133=\"Project\",AR133/BT133,IF(J133=\"Program\",AP133/BT133,\"\"))),\"\")","v":""},"",null,null,null,null,null,null,null,null,null,{"$f":"IF($CA133=\"\",0,VLOOKUP($CA133,'Conversion Tables'!$B$37:$C$62,2,FALSE))+IF($CB133=\"\",0,VLOOKUP($CB133,'Conversion Tables'!$B$37:$C$62,2,FALSE))+IF($CC133=\"\",0,VLOOKUP($CC133,'Conversion Tables'!$B$37:$C$62,2,FALSE))+IF($CD133=\"\",0,VLOOKUP($CD133,'Conversion Tables'!$B$37:$C$62,2,FALSE))+IF($CE133=\"\",0,VLOOKUP($CE133,'Conversion Tables'!$B$37:$C$62,2,FALSE))+IF($CF133=\"\",0,VLOOKUP($CF133,'Conversion Tables'!$B$37:$C$62,2,FALSE))","v":0},null,null,null,null,null,null,{"$f":"IFERROR(VLOOKUP(CM133,Dropdowns!A$51:B$55,2,FALSE),\"\")","v":""},null,null,null,null,null,null,null,null,null,null,{"$f":"IFERROR(VLOOKUP(AZ133,'Conversion Tables'!$G$8:$N$12,3,FALSE)/'Conversion Tables'!$I$12*Max_Point,0)","v":0},{"$f":"CY133*'Weighting Scale'!$D$9*DS133*DT133","v":0},{"$f":"IFERROR(VLOOKUP(BB133,'Conversion Tables'!$B$8:$C$32,2,FALSE),0)","v":0},{"$f":"IFERROR(VLOOKUP(BC133,'Conversion Tables'!$B$8:$C$32,2,FALSE),0)","v":0},{"$f":"(DA133-DB133)/'Conversion Tables'!$C$32*Max_Point","v":0},{"$f":"DC133*'Weighting Scale'!$D$10*DS133*DT133","v":0},{"$f":"IFERROR(VLOOKUP(BE133,'Conversion Tables'!$G$8:$N$12,2, FALSE)/'Conversion Tables'!$H$12*Max_Point,0)","v":0},{"$f":"DE133*'Weighting Scale'!$D$11*DS133*DT133","v":0},{"$f":"IFERROR(VLOOKUP(BF133,'Conversion Tables'!$G$8:$N$12,6,FALSE)/'Conversion Tables'!$L$12*Max_Point,0)","v":0},{"$f":"DG133*'Weighting Scale'!$D$14*DS133*DT133","v":0},{"$f":"IFERROR(VLOOKUP(BG133,'Conversion Tables'!$G$8:$N$12,4,FALSE)/'Conversion Tables'!$J$12*Max_Point,0)","v":0},{"$f":"DI133*'Weighting Scale'!$D$12*DS133*DT133","v":0},{"$f":"IFERROR(VLOOKUP(BH133,'Conversion Tables'!$G$8:$N$12,5,FALSE)/'Conversion Tables'!$K$12*Max_Point,0)","v":0},{"$f":"DK133*'Weighting Scale'!$D$13*DS133*DT133","v":0},{"$f":"IFERROR(VLOOKUP(BI133,'Conversion Tables'!$G$8:$N$12,7,FALSE)/'Conversion Tables'!$M$12*Max_Point,0)","v":0},{"$f":"DM133*'Weighting Scale'!$D$15*DS133*DT133","v":0},{"$f":"IF(BJ133 = \"Yes\",('Conversion Tables'!$N$12)/'Conversion Tables'!$N$12*Max_Point,0)","v":0},{"$f":"DO133*'Weighting Scale'!$D$16*DS133*DT133","v":0},0,0,0,{"$f":"IF(I133=Dropdowns!$C$7,Dropdowns!$B$7,IF(I133=Dropdowns!$C$8,Dropdowns!$B$8,IF(I133=Dropdowns!$C$9,Dropdowns!$B$9,IF(I133=Dropdowns!$C$10,Dropdowns!$B$10,IF(I133=Dropdowns!$C$11,Dropdowns!$B$11,IF(I133=Dropdowns!$C$12,Dropdowns!$B$12,IF(I133=Dropdowns!$C$13,Dropdowns!$B$13,IF(I133=Dropdowns!$C$14,Dropdowns!$B$14,IF(I133=Dropdowns!$C$15,Dropdowns!$B$15,IF(I133=Dropdowns!$C$16,Dropdowns!$B$16,IF(I133=Dropdowns!$C$17,Dropdowns!$B$17,IF(I133=Dropdowns!$C$18,Dropdowns!$B$18,IF(I133=Dropdowns!$C$19,Dropdowns!$B$19,IF(I133=Dropdowns!$C$20,Dropdowns!$B$20,IF(I133=Dropdowns!$C$21,Dropdowns!$B$21,IF(I133=Dropdowns!$C$22,Dropdowns!$B$22,IF(I133=Dropdowns!$C$23,Dropdowns!$B$23,IF(I133=Dropdowns!$C$24,Dropdowns!$B$24,IF(I133=Dropdowns!$C$25,Dropdowns!$B$25,IF(I133=Dropdowns!$C$26,Dropdowns!$B$26,IF(I133=Dropdowns!$C$27,Dropdowns!$B$27,IF(I133=Dropdowns!$C$28,Dropdowns!$B$28,IF(I133=Dropdowns!$C$29,Dropdowns!$B$29,IF(I133=Dropdowns!$C$30,Dropdowns!$B$30,IF(I133=Dropdowns!$C$31,Dropdowns!$B$31,IF(I133=Dropdowns!$C$32,Dropdowns!$B$32,IF(I133=Dropdowns!$C$33,Dropdowns!$B$33,IF(I133=Dropdowns!$C$34,Dropdowns!$B$34,IF(I133=Dropdowns!$C$35,Dropdowns!$B$35,IF(I133=Dropdowns!$C$36,Dropdowns!$B$36,IF(I133=Dropdowns!$C$37,Dropdowns!$B$37,IF(I133=Dropdowns!$C$38,Dropdowns!$B$38,IF(I133=Dropdowns!$C$39,Dropdowns!$B$39,IF(I133=Dropdowns!$C$40,Dropdowns!$B$40,IF(I133=Dropdowns!$C$41,Dropdowns!$B$41,IF(I133=Dropdowns!$C$42,Dropdowns!$B$42,IF(I133=Dropdowns!$C$43,Dropdowns!$B$43,IF(I133=Dropdowns!$C$44,Dropdowns!$B$44,IF(I133=Dropdowns!$C$45,Dropdowns!$B$45,IF(I133=Dropdowns!$C$46,Dropdowns!$B$46,IF(I133=Dropdowns!$C$47,Dropdowns!$B$47, IF(I133=Dropdowns!$C$48,Dropdowns!$B$48,\"0\"))))))))))))))))))))))))))))))))))))))))))","v":0},{"$f":"IF(AX133=Dropdowns!$F$15,Dropdowns!$G$15,IF(AX133=Dropdowns!$F$16,Dropdowns!$G$16,IF(AX133=Dropdowns!$F$17,Dropdowns!$G$17,\"0\")))","v":"0"}]
[null,null,null,null,null,null,null,null,null,null,"-",null,null,null,null,null,null,null,null,null,null,0,null,null,null,null,null,0,null,null,null,null,null,null,0,null,null,null,null,0,0,null,0,0,0,0,"-",null,null,null,null,null,null,null,null,null,null,null,null,null,null,null,0,0,0,0,0,0,0,0,0,0,1,{"$f":"IFERROR(IF(L134=Dropdowns!$F$32,\"\",IF(J134=\"Project\",AR134/BT134,IF(J134=\"Program\",AP134/BT134,\"\"))),\"\")","v":""},"",null,null,null,null,null,null,null,null,null,{"$f":"IF($CA134=\"\",0,VLOOKUP($CA134,'Conversion Tables'!$B$37:$C$62,2,FALSE))+IF($CB134=\"\",0,VLOOKUP($CB134,'Conversion Tables'!$B$37:$C$62,2,FALSE))+IF($CC134=\"\",0,VLOOKUP($CC134,'Conversion Tables'!$B$37:$C$62,2,FALSE))+IF($CD134=\"\",0,VLOOKUP($CD134,'Conversion Tables'!$B$37:$C$62,2,FALSE))+IF($CE134=\"\",0,VLOOKUP($CE134,'Conversion Tables'!$B$37:$C$62,2,FALSE))+IF($CF134=\"\",0,VLOOKUP($CF134,'Conversion Tables'!$B$37:$C$62,2,FALSE))","v":0},null,null,null,null,null,null,{"$f":"IFERROR(VLOOKUP(CM134,Dropdowns!A$51:B$55,2,FALSE),\"\")","v":""},null,null,null,null,null,null,null,null,null,null,{"$f":"IFERROR(VLOOKUP(AZ134,'Conversion Tables'!$G$8:$N$12,3,FALSE)/'Conversion Tables'!$I$12*Max_Point,0)","v":0},{"$f":"CY134*'Weighting Scale'!$D$9*DS134*DT134","v":0},{"$f":"IFERROR(VLOOKUP(BB134,'Conversion Tables'!$B$8:$C$32,2,FALSE),0)","v":0},{"$f":"IFERROR(VLOOKUP(BC134,'Conversion Tables'!$B$8:$C$32,2,FALSE),0)","v":0},{"$f":"(DA134-DB134)/'Conversion Tables'!$C$32*Max_Point","v":0},{"$f":"DC134*'Weighting Scale'!$D$10*DS134*DT134","v":0},{"$f":"IFERROR(VLOOKUP(BE134,'Conversion Tables'!$G$8:$N$12,2, FALSE)/'Conversion Tables'!$H$12*Max_Point,0)","v":0},{"$f":"DE134*'Weighting Scale'!$D$11*DS134*DT134","v":0},{"$f":"IFERROR(VLOOKUP(BF134,'Conversion Tables'!$G$8:$N$12,6,FALSE)/'Conversion Tables'!$L$12*Max_Point,0)","v":0},{"$f":"DG134*'Weighting Scale'!$D$14*DS134*DT134","v":0},{"$f":"IFERROR(VLOOKUP(BG134,'Conversion Tables'!$G$8:$N$12,4,FALSE)/'Conversion Tables'!$J$12*Max_Point,0)","v":0},{"$f":"DI134*'Weighting Scale'!$D$12*DS134*DT134","v":0},{"$f":"IFERROR(VLOOKUP(BH134,'Conversion Tables'!$G$8:$N$12,5,FALSE)/'Conversion Tables'!$K$12*Max_Point,0)","v":0},{"$f":"DK134*'Weighting Scale'!$D$13*DS134*DT134","v":0},{"$f":"IFERROR(VLOOKUP(BI134,'Conversion Tables'!$G$8:$N$12,7,FALSE)/'Conversion Tables'!$M$12*Max_Point,0)","v":0},{"$f":"DM134*'Weighting Scale'!$D$15*DS134*DT134","v":0},{"$f":"IF(BJ134 = \"Yes\",('Conversion Tables'!$N$12)/'Conversion Tables'!$N$12*Max_Point,0)","v":0},{"$f":"DO134*'Weighting Scale'!$D$16*DS134*DT134","v":0},0,0,0,{"$f":"IF(I134=Dropdowns!$C$7,Dropdowns!$B$7,IF(I134=Dropdowns!$C$8,Dropdowns!$B$8,IF(I134=Dropdowns!$C$9,Dropdowns!$B$9,IF(I134=Dropdowns!$C$10,Dropdowns!$B$10,IF(I134=Dropdowns!$C$11,Dropdowns!$B$11,IF(I134=Dropdowns!$C$12,Dropdowns!$B$12,IF(I134=Dropdowns!$C$13,Dropdowns!$B$13,IF(I134=Dropdowns!$C$14,Dropdowns!$B$14,IF(I134=Dropdowns!$C$15,Dropdowns!$B$15,IF(I134=Dropdowns!$C$16,Dropdowns!$B$16,IF(I134=Dropdowns!$C$17,Dropdowns!$B$17,IF(I134=Dropdowns!$C$18,Dropdowns!$B$18,IF(I134=Dropdowns!$C$19,Dropdowns!$B$19,IF(I134=Dropdowns!$C$20,Dropdowns!$B$20,IF(I134=Dropdowns!$C$21,Dropdowns!$B$21,IF(I134=Dropdowns!$C$22,Dropdowns!$B$22,IF(I134=Dropdowns!$C$23,Dropdowns!$B$23,IF(I134=Dropdowns!$C$24,Dropdowns!$B$24,IF(I134=Dropdowns!$C$25,Dropdowns!$B$25,IF(I134=Dropdowns!$C$26,Dropdowns!$B$26,IF(I134=Dropdowns!$C$27,Dropdowns!$B$27,IF(I134=Dropdowns!$C$28,Dropdowns!$B$28,IF(I134=Dropdowns!$C$29,Dropdowns!$B$29,IF(I134=Dropdowns!$C$30,Dropdowns!$B$30,IF(I134=Dropdowns!$C$31,Dropdowns!$B$31,IF(I134=Dropdowns!$C$32,Dropdowns!$B$32,IF(I134=Dropdowns!$C$33,Dropdowns!$B$33,IF(I134=Dropdowns!$C$34,Dropdowns!$B$34,IF(I134=Dropdowns!$C$35,Dropdowns!$B$35,IF(I134=Dropdowns!$C$36,Dropdowns!$B$36,IF(I134=Dropdowns!$C$37,Dropdowns!$B$37,IF(I134=Dropdowns!$C$38,Dropdowns!$B$38,IF(I134=Dropdowns!$C$39,Dropdowns!$B$39,IF(I134=Dropdowns!$C$40,Dropdowns!$B$40,IF(I134=Dropdowns!$C$41,Dropdowns!$B$41,IF(I134=Dropdowns!$C$42,Dropdowns!$B$42,IF(I134=Dropdowns!$C$43,Dropdowns!$B$43,IF(I134=Dropdowns!$C$44,Dropdowns!$B$44,IF(I134=Dropdowns!$C$45,Dropdowns!$B$45,IF(I134=Dropdowns!$C$46,Dropdowns!$B$46,IF(I134=Dropdowns!$C$47,Dropdowns!$B$47, IF(I134=Dropdowns!$C$48,Dropdowns!$B$48,\"0\"))))))))))))))))))))))))))))))))))))))))))","v":0},{"$f":"IF(AX134=Dropdowns!$F$15,Dropdowns!$G$15,IF(AX134=Dropdowns!$F$16,Dropdowns!$G$16,IF(AX134=Dropdowns!$F$17,Dropdowns!$G$17,\"0\")))","v":"0"}]
[null,null,null,null,null,null,null,null,null,null,"-",null,null,null,null,null,null,null,null,null,null,0,null,null,null,null,null,0,null,null,null,null,null,null,0,null,null,null,null,0,0,null,0,0,0,0,"-",null,null,null,null,null,null,null,null,null,null,null,null,null,null,null,0,0,0,0,0,0,0,0,0,0,1,{"$f":"IFERROR(IF(L135=Dropdowns!$F$32,\"\",IF(J135=\"Project\",AR135/BT135,IF(J135=\"Program\",AP135/BT135,\"\"))),\"\")","v":""},"",null,null,null,null,null,null,null,null,null,{"$f":"IF($CA135=\"\",0,VLOOKUP($CA135,'Conversion Tables'!$B$37:$C$62,2,FALSE))+IF($CB135=\"\",0,VLOOKUP($CB135,'Conversion Tables'!$B$37:$C$62,2,FALSE))+IF($CC135=\"\",0,VLOOKUP($CC135,'Conversion Tables'!$B$37:$C$62,2,FALSE))+IF($CD135=\"\",0,VLOOKUP($CD135,'Conversion Tables'!$B$37:$C$62,2,FALSE))+IF($CE135=\"\",0,VLOOKUP($CE135,'Conversion Tables'!$B$37:$C$62,2,FALSE))+IF($CF135=\"\",0,VLOOKUP($CF135,'Conversion Tables'!$B$37:$C$62,2,FALSE))","v":0},null,null,null,null,null,null,{"$f":"IFERROR(VLOOKUP(CM135,Dropdowns!A$51:B$55,2,FALSE),\"\")","v":""},null,null,null,null,null,null,null,null,null,null,{"$f":"IFERROR(VLOOKUP(AZ135,'Conversion Tables'!$G$8:$N$12,3,FALSE)/'Conversion Tables'!$I$12*Max_Point,0)","v":0},{"$f":"CY135*'Weighting Scale'!$D$9*DS135*DT135","v":0},{"$f":"IFERROR(VLOOKUP(BB135,'Conversion Tables'!$B$8:$C$32,2,FALSE),0)","v":0},{"$f":"IFERROR(VLOOKUP(BC135,'Conversion Tables'!$B$8:$C$32,2,FALSE),0)","v":0},{"$f":"(DA135-DB135)/'Conversion Tables'!$C$32*Max_Point","v":0},{"$f":"DC135*'Weighting Scale'!$D$10*DS135*DT135","v":0},{"$f":"IFERROR(VLOOKUP(BE135,'Conversion Tables'!$G$8:$N$12,2, FALSE)/'Conversion Tables'!$H$12*Max_Point,0)","v":0},{"$f":"DE135*'Weighting Scale'!$D$11*DS135*DT135","v":0},{"$f":"IFERROR(VLOOKUP(BF135,'Conversion Tables'!$G$8:$N$12,6,FALSE)/'Conversion Tables'!$L$12*Max_Point,0)","v":0},{"$f":"DG135*'Weighting Scale'!$D$14*DS135*DT135","v":0},{"$f":"IFERROR(VLOOKUP(BG135,'Conversion Tables'!$G$8:$N$12,4,FALSE)/'Conversion Tables'!$J$12*Max_Point,0)","v":0},{"$f":"DI135*'Weighting Scale'!$D$12*DS135*DT135","v":0},{"$f":"IFERROR(VLOOKUP(BH135,'Conversion Tables'!$G$8:$N$12,5,FALSE)/'Conversion Tables'!$K$12*Max_Point,0)","v":0},{"$f":"DK135*'Weighting Scale'!$D$13*DS135*DT135","v":0},{"$f":"IFERROR(VLOOKUP(BI135,'Conversion Tables'!$G$8:$N$12,7,FALSE)/'Conversion Tables'!$M$12*Max_Point,0)","v":0},{"$f":"DM135*'Weighting Scale'!$D$15*DS135*DT135","v":0},{"$f":"IF(BJ135 = \"Yes\",('Conversion Tables'!$N$12)/'Conversion Tables'!$N$12*Max_Point,0)","v":0},{"$f":"DO135*'Weighting Scale'!$D$16*DS135*DT135","v":0},0,0,0,{"$f":"IF(I135=Dropdowns!$C$7,Dropdowns!$B$7,IF(I135=Dropdowns!$C$8,Dropdowns!$B$8,IF(I135=Dropdowns!$C$9,Dropdowns!$B$9,IF(I135=Dropdowns!$C$10,Dropdowns!$B$10,IF(I135=Dropdowns!$C$11,Dropdowns!$B$11,IF(I135=Dropdowns!$C$12,Dropdowns!$B$12,IF(I135=Dropdowns!$C$13,Dropdowns!$B$13,IF(I135=Dropdowns!$C$14,Dropdowns!$B$14,IF(I135=Dropdowns!$C$15,Dropdowns!$B$15,IF(I135=Dropdowns!$C$16,Dropdowns!$B$16,IF(I135=Dropdowns!$C$17,Dropdowns!$B$17,IF(I135=Dropdowns!$C$18,Dropdowns!$B$18,IF(I135=Dropdowns!$C$19,Dropdowns!$B$19,IF(I135=Dropdowns!$C$20,Dropdowns!$B$20,IF(I135=Dropdowns!$C$21,Dropdowns!$B$21,IF(I135=Dropdowns!$C$22,Dropdowns!$B$22,IF(I135=Dropdowns!$C$23,Dropdowns!$B$23,IF(I135=Dropdowns!$C$24,Dropdowns!$B$24,IF(I135=Dropdowns!$C$25,Dropdowns!$B$25,IF(I135=Dropdowns!$C$26,Dropdowns!$B$26,IF(I135=Dropdowns!$C$27,Dropdowns!$B$27,IF(I135=Dropdowns!$C$28,Dropdowns!$B$28,IF(I135=Dropdowns!$C$29,Dropdowns!$B$29,IF(I135=Dropdowns!$C$30,Dropdowns!$B$30,IF(I135=Dropdowns!$C$31,Dropdowns!$B$31,IF(I135=Dropdowns!$C$32,Dropdowns!$B$32,IF(I135=Dropdowns!$C$33,Dropdowns!$B$33,IF(I135=Dropdowns!$C$34,Dropdowns!$B$34,IF(I135=Dropdowns!$C$35,Dropdowns!$B$35,IF(I135=Dropdowns!$C$36,Dropdowns!$B$36,IF(I135=Dropdowns!$C$37,Dropdowns!$B$37,IF(I135=Dropdowns!$C$38,Dropdowns!$B$38,IF(I135=Dropdowns!$C$39,Dropdowns!$B$39,IF(I135=Dropdowns!$C$40,Dropdowns!$B$40,IF(I135=Dropdowns!$C$41,Dropdowns!$B$41,IF(I135=Dropdowns!$C$42,Dropdowns!$B$42,IF(I135=Dropdowns!$C$43,Dropdowns!$B$43,IF(I135=Dropdowns!$C$44,Dropdowns!$B$44,IF(I135=Dropdowns!$C$45,Dropdowns!$B$45,IF(I135=Dropdowns!$C$46,Dropdowns!$B$46,IF(I135=Dropdowns!$C$47,Dropdowns!$B$47, IF(I135=Dropdowns!$C$48,Dropdowns!$B$48,\"0\"))))))))))))))))))))))))))))))))))))))))))","v":0},{"$f":"IF(AX135=Dropdowns!$F$15,Dropdowns!$G$15,IF(AX135=Dropdowns!$F$16,Dropdowns!$G$16,IF(AX135=Dropdowns!$F$17,Dropdowns!$G$17,\"0\")))","v":"0"}]
[null,null,null,null,null,null,null,null,null,null,"-",null,null,null,null,null,null,null,null,null,null,0,null,null,null,null,null,0,null,null,null,null,null,null,0,null,null,null,null,0,0,null,0,0,0,0,"-",null,null,null,null,null,null,null,null,null,null,null,null,null,null,null,0,0,0,0,0,0,0,0,0,0,1,{"$f":"IFERROR(IF(L136=Dropdowns!$F$32,\"\",IF(J136=\"Project\",AR136/BT136,IF(J136=\"Program\",AP136/BT136,\"\"))),\"\")","v":""},"",null,null,null,null,null,null,null,null,null,{"$f":"IF($CA136=\"\",0,VLOOKUP($CA136,'Conversion Tables'!$B$37:$C$62,2,FALSE))+IF($CB136=\"\",0,VLOOKUP($CB136,'Conversion Tables'!$B$37:$C$62,2,FALSE))+IF($CC136=\"\",0,VLOOKUP($CC136,'Conversion Tables'!$B$37:$C$62,2,FALSE))+IF($CD136=\"\",0,VLOOKUP($CD136,'Conversion Tables'!$B$37:$C$62,2,FALSE))+IF($CE136=\"\",0,VLOOKUP($CE136,'Conversion Tables'!$B$37:$C$62,2,FALSE))+IF($CF136=\"\",0,VLOOKUP($CF136,'Conversion Tables'!$B$37:$C$62,2,FALSE))","v":0},null,null,null,null,null,null,{"$f":"IFERROR(VLOOKUP(CM136,Dropdowns!A$51:B$55,2,FALSE),\"\")","v":""},null,null,null,null,null,null,null,null,null,null,{"$f":"IFERROR(VLOOKUP(AZ136,'Conversion Tables'!$G$8:$N$12,3,FALSE)/'Conversion Tables'!$I$12*Max_Point,0)","v":0},{"$f":"CY136*'Weighting Scale'!$D$9*DS136*DT136","v":0},{"$f":"IFERROR(VLOOKUP(BB136,'Conversion Tables'!$B$8:$C$32,2,FALSE),0)","v":0},{"$f":"IFERROR(VLOOKUP(BC136,'Conversion Tables'!$B$8:$C$32,2,FALSE),0)","v":0},{"$f":"(DA136-DB136)/'Conversion Tables'!$C$32*Max_Point","v":0},{"$f":"DC136*'Weighting Scale'!$D$10*DS136*DT136","v":0},{"$f":"IFERROR(VLOOKUP(BE136,'Conversion Tables'!$G$8:$N$12,2, FALSE)/'Conversion Tables'!$H$12*Max_Point,0)","v":0},{"$f":"DE136*'Weighting Scale'!$D$11*DS136*DT136","v":0},{"$f":"IFERROR(VLOOKUP(BF136,'Conversion Tables'!$G$8:$N$12,6,FALSE)/'Conversion Tables'!$L$12*Max_Point,0)","v":0},{"$f":"DG136*'Weighting Scale'!$D$14*DS136*DT136","v":0},{"$f":"IFERROR(VLOOKUP(BG136,'Conversion Tables'!$G$8:$N$12,4,FALSE)/'Conversion Tables'!$J$12*Max_Point,0)","v":0},{"$f":"DI136*'Weighting Scale'!$D$12*DS136*DT136","v":0},{"$f":"IFERROR(VLOOKUP(BH136,'Conversion Tables'!$G$8:$N$12,5,FALSE)/'Conversion Tables'!$K$12*Max_Point,0)","v":0},{"$f":"DK136*'Weighting Scale'!$D$13*DS136*DT136","v":0},{"$f":"IFERROR(VLOOKUP(BI136,'Conversion Tables'!$G$8:$N$12,7,FALSE)/'Conversion Tables'!$M$12*Max_Point,0)","v":0},{"$f":"DM136*'Weighting Scale'!$D$15*DS136*DT136","v":0},{"$f":"IF(BJ136 = \"Yes\",('Conversion Tables'!$N$12)/'Conversion Tables'!$N$12*Max_Point,0)","v":0},{"$f":"DO136*'Weighting Scale'!$D$16*DS136*DT136","v":0},0,0,0,{"$f":"IF(I136=Dropdowns!$C$7,Dropdowns!$B$7,IF(I136=Dropdowns!$C$8,Dropdowns!$B$8,IF(I136=Dropdowns!$C$9,Dropdowns!$B$9,IF(I136=Dropdowns!$C$10,Dropdowns!$B$10,IF(I136=Dropdowns!$C$11,Dropdowns!$B$11,IF(I136=Dropdowns!$C$12,Dropdowns!$B$12,IF(I136=Dropdowns!$C$13,Dropdowns!$B$13,IF(I136=Dropdowns!$C$14,Dropdowns!$B$14,IF(I136=Dropdowns!$C$15,Dropdowns!$B$15,IF(I136=Dropdowns!$C$16,Dropdowns!$B$16,IF(I136=Dropdowns!$C$17,Dropdowns!$B$17,IF(I136=Dropdowns!$C$18,Dropdowns!$B$18,IF(I136=Dropdowns!$C$19,Dropdowns!$B$19,IF(I136=Dropdowns!$C$20,Dropdowns!$B$20,IF(I136=Dropdowns!$C$21,Dropdowns!$B$21,IF(I136=Dropdowns!$C$22,Dropdowns!$B$22,IF(I136=Dropdowns!$C$23,Dropdowns!$B$23,IF(I136=Dropdowns!$C$24,Dropdowns!$B$24,IF(I136=Dropdowns!$C$25,Dropdowns!$B$25,IF(I136=Dropdowns!$C$26,Dropdowns!$B$26,IF(I136=Dropdowns!$C$27,Dropdowns!$B$27,IF(I136=Dropdowns!$C$28,Dropdowns!$B$28,IF(I136=Dropdowns!$C$29,Dropdowns!$B$29,IF(I136=Dropdowns!$C$30,Dropdowns!$B$30,IF(I136=Dropdowns!$C$31,Dropdowns!$B$31,IF(I136=Dropdowns!$C$32,Dropdowns!$B$32,IF(I136=Dropdowns!$C$33,Dropdowns!$B$33,IF(I136=Dropdowns!$C$34,Dropdowns!$B$34,IF(I136=Dropdowns!$C$35,Dropdowns!$B$35,IF(I136=Dropdowns!$C$36,Dropdowns!$B$36,IF(I136=Dropdowns!$C$37,Dropdowns!$B$37,IF(I136=Dropdowns!$C$38,Dropdowns!$B$38,IF(I136=Dropdowns!$C$39,Dropdowns!$B$39,IF(I136=Dropdowns!$C$40,Dropdowns!$B$40,IF(I136=Dropdowns!$C$41,Dropdowns!$B$41,IF(I136=Dropdowns!$C$42,Dropdowns!$B$42,IF(I136=Dropdowns!$C$43,Dropdowns!$B$43,IF(I136=Dropdowns!$C$44,Dropdowns!$B$44,IF(I136=Dropdowns!$C$45,Dropdowns!$B$45,IF(I136=Dropdowns!$C$46,Dropdowns!$B$46,IF(I136=Dropdowns!$C$47,Dropdowns!$B$47, IF(I136=Dropdowns!$C$48,Dropdowns!$B$48,\"0\"))))))))))))))))))))))))))))))))))))))))))","v":0},{"$f":"IF(AX136=Dropdowns!$F$15,Dropdowns!$G$15,IF(AX136=Dropdowns!$F$16,Dropdowns!$G$16,IF(AX136=Dropdowns!$F$17,Dropdowns!$G$17,\"0\")))","v":"0"}]
[null,null,null,null,null,null,null,null,null,null,"-",null,null,null,null,null,null,null,null,null,null,0,null,null,null,null,null,0,null,null,null,null,null,null,0,null,null,null,null,0,0,null,0,0,0,0,"-",null,null,null,null,null,null,null,null,null,null,null,null,null,null,null,0,0,0,0,0,0,0,0,0,0,1,{"$f":"IFERROR(IF(L137=Dropdowns!$F$32,\"\",IF(J137=\"Project\",AR137/BT137,IF(J137=\"Program\",AP137/BT137,\"\"))),\"\")","v":""},"",null,null,null,null,null,null,null,null,null,{"$f":"IF($CA137=\"\",0,VLOOKUP($CA137,'Conversion Tables'!$B$37:$C$62,2,FALSE))+IF($CB137=\"\",0,VLOOKUP($CB137,'Conversion Tables'!$B$37:$C$62,2,FALSE))+IF($CC137=\"\",0,VLOOKUP($CC137,'Conversion Tables'!$B$37:$C$62,2,FALSE))+IF($CD137=\"\",0,VLOOKUP($CD137,'Conversion Tables'!$B$37:$C$62,2,FALSE))+IF($CE137=\"\",0,VLOOKUP($CE137,'Conversion Tables'!$B$37:$C$62,2,FALSE))+IF($CF137=\"\",0,VLOOKUP($CF137,'Conversion Tables'!$B$37:$C$62,2,FALSE))","v":0},null,null,null,null,null,null,{"$f":"IFERROR(VLOOKUP(CM137,Dropdowns!A$51:B$55,2,FALSE),\"\")","v":""},null,null,null,null,null,null,null,null,null,null,{"$f":"IFERROR(VLOOKUP(AZ137,'Conversion Tables'!$G$8:$N$12,3,FALSE)/'Conversion Tables'!$I$12*Max_Point,0)","v":0},{"$f":"CY137*'Weighting Scale'!$D$9*DS137*DT137","v":0},{"$f":"IFERROR(VLOOKUP(BB137,'Conversion Tables'!$B$8:$C$32,2,FALSE),0)","v":0},{"$f":"IFERROR(VLOOKUP(BC137,'Conversion Tables'!$B$8:$C$32,2,FALSE),0)","v":0},{"$f":"(DA137-DB137)/'Conversion Tables'!$C$32*Max_Point","v":0},{"$f":"DC137*'Weighting Scale'!$D$10*DS137*DT137","v":0},{"$f":"IFERROR(VLOOKUP(BE137,'Conversion Tables'!$G$8:$N$12,2, FALSE)/'Conversion Tables'!$H$12*Max_Point,0)","v":0},{"$f":"DE137*'Weighting Scale'!$D$11*DS137*DT137","v":0},{"$f":"IFERROR(VLOOKUP(BF137,'Conversion Tables'!$G$8:$N$12,6,FALSE)/'Conversion Tables'!$L$12*Max_Point,0)","v":0},{"$f":"DG137*'Weighting Scale'!$D$14*DS137*DT137","v":0},{"$f":"IFERROR(VLOOKUP(BG137,'Conversion Tables'!$G$8:$N$12,4,FALSE)/'Conversion Tables'!$J$12*Max_Point,0)","v":0},{"$f":"DI137*'Weighting Scale'!$D$12*DS137*DT137","v":0},{"$f":"IFERROR(VLOOKUP(BH137,'Conversion Tables'!$G$8:$N$12,5,FALSE)/'Conversion Tables'!$K$12*Max_Point,0)","v":0},{"$f":"DK137*'Weighting Scale'!$D$13*DS137*DT137","v":0},{"$f":"IFERROR(VLOOKUP(BI137,'Conversion Tables'!$G$8:$N$12,7,FALSE)/'Conversion Tables'!$M$12*Max_Point,0)","v":0},{"$f":"DM137*'Weighting Scale'!$D$15*DS137*DT137","v":0},{"$f":"IF(BJ137 = \"Yes\",('Conversion Tables'!$N$12)/'Conversion Tables'!$N$12*Max_Point,0)","v":0},{"$f":"DO137*'Weighting Scale'!$D$16*DS137*DT137","v":0},0,0,0,{"$f":"IF(I137=Dropdowns!$C$7,Dropdowns!$B$7,IF(I137=Dropdowns!$C$8,Dropdowns!$B$8,IF(I137=Dropdowns!$C$9,Dropdowns!$B$9,IF(I137=Dropdowns!$C$10,Dropdowns!$B$10,IF(I137=Dropdowns!$C$11,Dropdowns!$B$11,IF(I137=Dropdowns!$C$12,Dropdowns!$B$12,IF(I137=Dropdowns!$C$13,Dropdowns!$B$13,IF(I137=Dropdowns!$C$14,Dropdowns!$B$14,IF(I137=Dropdowns!$C$15,Dropdowns!$B$15,IF(I137=Dropdowns!$C$16,Dropdowns!$B$16,IF(I137=Dropdowns!$C$17,Dropdowns!$B$17,IF(I137=Dropdowns!$C$18,Dropdowns!$B$18,IF(I137=Dropdowns!$C$19,Dropdowns!$B$19,IF(I137=Dropdowns!$C$20,Dropdowns!$B$20,IF(I137=Dropdowns!$C$21,Dropdowns!$B$21,IF(I137=Dropdowns!$C$22,Dropdowns!$B$22,IF(I137=Dropdowns!$C$23,Dropdowns!$B$23,IF(I137=Dropdowns!$C$24,Dropdowns!$B$24,IF(I137=Dropdowns!$C$25,Dropdowns!$B$25,IF(I137=Dropdowns!$C$26,Dropdowns!$B$26,IF(I137=Dropdowns!$C$27,Dropdowns!$B$27,IF(I137=Dropdowns!$C$28,Dropdowns!$B$28,IF(I137=Dropdowns!$C$29,Dropdowns!$B$29,IF(I137=Dropdowns!$C$30,Dropdowns!$B$30,IF(I137=Dropdowns!$C$31,Dropdowns!$B$31,IF(I137=Dropdowns!$C$32,Dropdowns!$B$32,IF(I137=Dropdowns!$C$33,Dropdowns!$B$33,IF(I137=Dropdowns!$C$34,Dropdowns!$B$34,IF(I137=Dropdowns!$C$35,Dropdowns!$B$35,IF(I137=Dropdowns!$C$36,Dropdowns!$B$36,IF(I137=Dropdowns!$C$37,Dropdowns!$B$37,IF(I137=Dropdowns!$C$38,Dropdowns!$B$38,IF(I137=Dropdowns!$C$39,Dropdowns!$B$39,IF(I137=Dropdowns!$C$40,Dropdowns!$B$40,IF(I137=Dropdowns!$C$41,Dropdowns!$B$41,IF(I137=Dropdowns!$C$42,Dropdowns!$B$42,IF(I137=Dropdowns!$C$43,Dropdowns!$B$43,IF(I137=Dropdowns!$C$44,Dropdowns!$B$44,IF(I137=Dropdowns!$C$45,Dropdowns!$B$45,IF(I137=Dropdowns!$C$46,Dropdowns!$B$46,IF(I137=Dropdowns!$C$47,Dropdowns!$B$47, IF(I137=Dropdowns!$C$48,Dropdowns!$B$48,\"0\"))))))))))))))))))))))))))))))))))))))))))","v":0},{"$f":"IF(AX137=Dropdowns!$F$15,Dropdowns!$G$15,IF(AX137=Dropdowns!$F$16,Dropdowns!$G$16,IF(AX137=Dropdowns!$F$17,Dropdowns!$G$17,\"0\")))","v":"0"}]
[null,null,null,null,null,null,null,null,null,null,"-",null,null,null,null,null,null,null,null,null,null,0,null,null,null,null,null,0,null,null,null,null,null,null,0,null,null,null,null,0,0,null,0,0,0,0,"-",null,null,null,null,null,null,null,null,null,null,null,null,null,null,null,0,0,0,0,0,0,0,0,0,0,1,{"$f":"IFERROR(IF(L138=Dropdowns!$F$32,\"\",IF(J138=\"Project\",AR138/BT138,IF(J138=\"Program\",AP138/BT138,\"\"))),\"\")","v":""},"",null,null,null,null,null,null,null,null,null,{"$f":"IF($CA138=\"\",0,VLOOKUP($CA138,'Conversion Tables'!$B$37:$C$62,2,FALSE))+IF($CB138=\"\",0,VLOOKUP($CB138,'Conversion Tables'!$B$37:$C$62,2,FALSE))+IF($CC138=\"\",0,VLOOKUP($CC138,'Conversion Tables'!$B$37:$C$62,2,FALSE))+IF($CD138=\"\",0,VLOOKUP($CD138,'Conversion Tables'!$B$37:$C$62,2,FALSE))+IF($CE138=\"\",0,VLOOKUP($CE138,'Conversion Tables'!$B$37:$C$62,2,FALSE))+IF($CF138=\"\",0,VLOOKUP($CF138,'Conversion Tables'!$B$37:$C$62,2,FALSE))","v":0},null,null,null,null,null,null,{"$f":"IFERROR(VLOOKUP(CM138,Dropdowns!A$51:B$55,2,FALSE),\"\")","v":""},null,null,null,null,null,null,null,null,null,null,{"$f":"IFERROR(VLOOKUP(AZ138,'Conversion Tables'!$G$8:$N$12,3,FALSE)/'Conversion Tables'!$I$12*Max_Point,0)","v":0},{"$f":"CY138*'Weighting Scale'!$D$9*DS138*DT138","v":0},{"$f":"IFERROR(VLOOKUP(BB138,'Conversion Tables'!$B$8:$C$32,2,FALSE),0)","v":0},{"$f":"IFERROR(VLOOKUP(BC138,'Conversion Tables'!$B$8:$C$32,2,FALSE),0)","v":0},{"$f":"(DA138-DB138)/'Conversion Tables'!$C$32*Max_Point","v":0},{"$f":"DC138*'Weighting Scale'!$D$10*DS138*DT138","v":0},{"$f":"IFERROR(VLOOKUP(BE138,'Conversion Tables'!$G$8:$N$12,2, FALSE)/'Conversion Tables'!$H$12*Max_Point,0)","v":0},{"$f":"DE138*'Weighting Scale'!$D$11*DS138*DT138","v":0},{"$f":"IFERROR(VLOOKUP(BF138,'Conversion Tables'!$G$8:$N$12,6,FALSE)/'Conversion Tables'!$L$12*Max_Point,0)","v":0},{"$f":"DG138*'Weighting Scale'!$D$14*DS138*DT138","v":0},{"$f":"IFERROR(VLOOKUP(BG138,'Conversion Tables'!$G$8:$N$12,4,FALSE)/'Conversion Tables'!$J$12*Max_Point,0)","v":0},{"$f":"DI138*'Weighting Scale'!$D$12*DS138*DT138","v":0},{"$f":"IFERROR(VLOOKUP(BH138,'Conversion Tables'!$G$8:$N$12,5,FALSE)/'Conversion Tables'!$K$12*Max_Point,0)","v":0},{"$f":"DK138*'Weighting Scale'!$D$13*DS138*DT138","v":0},{"$f":"IFERROR(VLOOKUP(BI138,'Conversion Tables'!$G$8:$N$12,7,FALSE)/'Conversion Tables'!$M$12*Max_Point,0)","v":0},{"$f":"DM138*'Weighting Scale'!$D$15*DS138*DT138","v":0},{"$f":"IF(BJ138 = \"Yes\",('Conversion Tables'!$N$12)/'Conversion Tables'!$N$12*Max_Point,0)","v":0},{"$f":"DO138*'Weighting Scale'!$D$16*DS138*DT138","v":0},0,0,0,{"$f":"IF(I138=Dropdowns!$C$7,Dropdowns!$B$7,IF(I138=Dropdowns!$C$8,Dropdowns!$B$8,IF(I138=Dropdowns!$C$9,Dropdowns!$B$9,IF(I138=Dropdowns!$C$10,Dropdowns!$B$10,IF(I138=Dropdowns!$C$11,Dropdowns!$B$11,IF(I138=Dropdowns!$C$12,Dropdowns!$B$12,IF(I138=Dropdowns!$C$13,Dropdowns!$B$13,IF(I138=Dropdowns!$C$14,Dropdowns!$B$14,IF(I138=Dropdowns!$C$15,Dropdowns!$B$15,IF(I138=Dropdowns!$C$16,Dropdowns!$B$16,IF(I138=Dropdowns!$C$17,Dropdowns!$B$17,IF(I138=Dropdowns!$C$18,Dropdowns!$B$18,IF(I138=Dropdowns!$C$19,Dropdowns!$B$19,IF(I138=Dropdowns!$C$20,Dropdowns!$B$20,IF(I138=Dropdowns!$C$21,Dropdowns!$B$21,IF(I138=Dropdowns!$C$22,Dropdowns!$B$22,IF(I138=Dropdowns!$C$23,Dropdowns!$B$23,IF(I138=Dropdowns!$C$24,Dropdowns!$B$24,IF(I138=Dropdowns!$C$25,Dropdowns!$B$25,IF(I138=Dropdowns!$C$26,Dropdowns!$B$26,IF(I138=Dropdowns!$C$27,Dropdowns!$B$27,IF(I138=Dropdowns!$C$28,Dropdowns!$B$28,IF(I138=Dropdowns!$C$29,Dropdowns!$B$29,IF(I138=Dropdowns!$C$30,Dropdowns!$B$30,IF(I138=Dropdowns!$C$31,Dropdowns!$B$31,IF(I138=Dropdowns!$C$32,Dropdowns!$B$32,IF(I138=Dropdowns!$C$33,Dropdowns!$B$33,IF(I138=Dropdowns!$C$34,Dropdowns!$B$34,IF(I138=Dropdowns!$C$35,Dropdowns!$B$35,IF(I138=Dropdowns!$C$36,Dropdowns!$B$36,IF(I138=Dropdowns!$C$37,Dropdowns!$B$37,IF(I138=Dropdowns!$C$38,Dropdowns!$B$38,IF(I138=Dropdowns!$C$39,Dropdowns!$B$39,IF(I138=Dropdowns!$C$40,Dropdowns!$B$40,IF(I138=Dropdowns!$C$41,Dropdowns!$B$41,IF(I138=Dropdowns!$C$42,Dropdowns!$B$42,IF(I138=Dropdowns!$C$43,Dropdowns!$B$43,IF(I138=Dropdowns!$C$44,Dropdowns!$B$44,IF(I138=Dropdowns!$C$45,Dropdowns!$B$45,IF(I138=Dropdowns!$C$46,Dropdowns!$B$46,IF(I138=Dropdowns!$C$47,Dropdowns!$B$47, IF(I138=Dropdowns!$C$48,Dropdowns!$B$48,\"0\"))))))))))))))))))))))))))))))))))))))))))","v":0},{"$f":"IF(AX138=Dropdowns!$F$15,Dropdowns!$G$15,IF(AX138=Dropdowns!$F$16,Dropdowns!$G$16,IF(AX138=Dropdowns!$F$17,Dropdowns!$G$17,\"0\")))","v":"0"}]
[null,null,null,null,null,null,null,null,null,null,"-",null,null,null,null,null,null,null,null,null,null,0,null,null,null,null,null,0,null,null,null,null,null,null,0,null,null,null,null,0,0,null,0,0,0,0,"-",null,null,null,null,null,null,null,null,null,null,null,null,null,null,null,0,0,0,0,0,0,0,0,0,0,1,{"$f":"IFERROR(IF(L139=Dropdowns!$F$32,\"\",IF(J139=\"Project\",AR139/BT139,IF(J139=\"Program\",AP139/BT139,\"\"))),\"\")","v":""},"",null,null,null,null,null,null,null,null,null,{"$f":"IF($CA139=\"\",0,VLOOKUP($CA139,'Conversion Tables'!$B$37:$C$62,2,FALSE))+IF($CB139=\"\",0,VLOOKUP($CB139,'Conversion Tables'!$B$37:$C$62,2,FALSE))+IF($CC139=\"\",0,VLOOKUP($CC139,'Conversion Tables'!$B$37:$C$62,2,FALSE))+IF($CD139=\"\",0,VLOOKUP($CD139,'Conversion Tables'!$B$37:$C$62,2,FALSE))+IF($CE139=\"\",0,VLOOKUP($CE139,'Conversion Tables'!$B$37:$C$62,2,FALSE))+IF($CF139=\"\",0,VLOOKUP($CF139,'Conversion Tables'!$B$37:$C$62,2,FALSE))","v":0},null,null,null,null,null,null,{"$f":"IFERROR(VLOOKUP(CM139,Dropdowns!A$51:B$55,2,FALSE),\"\")","v":""},null,null,null,null,null,null,null,null,null,null,{"$f":"IFERROR(VLOOKUP(AZ139,'Conversion Tables'!$G$8:$N$12,3,FALSE)/'Conversion Tables'!$I$12*Max_Point,0)","v":0},{"$f":"CY139*'Weighting Scale'!$D$9*DS139*DT139","v":0},{"$f":"IFERROR(VLOOKUP(BB139,'Conversion Tables'!$B$8:$C$32,2,FALSE),0)","v":0},{"$f":"IFERROR(VLOOKUP(BC139,'Conversion Tables'!$B$8:$C$32,2,FALSE),0)","v":0},{"$f":"(DA139-DB139)/'Conversion Tables'!$C$32*Max_Point","v":0},{"$f":"DC139*'Weighting Scale'!$D$10*DS139*DT139","v":0},{"$f":"IFERROR(VLOOKUP(BE139,'Conversion Tables'!$G$8:$N$12,2, FALSE)/'Conversion Tables'!$H$12*Max_Point,0)","v":0},{"$f":"DE139*'Weighting Scale'!$D$11*DS139*DT139","v":0},{"$f":"IFERROR(VLOOKUP(BF139,'Conversion Tables'!$G$8:$N$12,6,FALSE)/'Conversion Tables'!$L$12*Max_Point,0)","v":0},{"$f":"DG139*'Weighting Scale'!$D$14*DS139*DT139","v":0},{"$f":"IFERROR(VLOOKUP(BG139,'Conversion Tables'!$G$8:$N$12,4,FALSE)/'Conversion Tables'!$J$12*Max_Point,0)","v":0},{"$f":"DI139*'Weighting Scale'!$D$12*DS139*DT139","v":0},{"$f":"IFERROR(VLOOKUP(BH139,'Conversion Tables'!$G$8:$N$12,5,FALSE)/'Conversion Tables'!$K$12*Max_Point,0)","v":0},{"$f":"DK139*'Weighting Scale'!$D$13*DS139*DT139","v":0},{"$f":"IFERROR(VLOOKUP(BI139,'Conversion Tables'!$G$8:$N$12,7,FALSE)/'Conversion Tables'!$M$12*Max_Point,0)","v":0},{"$f":"DM139*'Weighting Scale'!$D$15*DS139*DT139","v":0},{"$f":"IF(BJ139 = \"Yes\",('Conversion Tables'!$N$12)/'Conversion Tables'!$N$12*Max_Point,0)","v":0},{"$f":"DO139*'Weighting Scale'!$D$16*DS139*DT139","v":0},0,0,0,{"$f":"IF(I139=Dropdowns!$C$7,Dropdowns!$B$7,IF(I139=Dropdowns!$C$8,Dropdowns!$B$8,IF(I139=Dropdowns!$C$9,Dropdowns!$B$9,IF(I139=Dropdowns!$C$10,Dropdowns!$B$10,IF(I139=Dropdowns!$C$11,Dropdowns!$B$11,IF(I139=Dropdowns!$C$12,Dropdowns!$B$12,IF(I139=Dropdowns!$C$13,Dropdowns!$B$13,IF(I139=Dropdowns!$C$14,Dropdowns!$B$14,IF(I139=Dropdowns!$C$15,Dropdowns!$B$15,IF(I139=Dropdowns!$C$16,Dropdowns!$B$16,IF(I139=Dropdowns!$C$17,Dropdowns!$B$17,IF(I139=Dropdowns!$C$18,Dropdowns!$B$18,IF(I139=Dropdowns!$C$19,Dropdowns!$B$19,IF(I139=Dropdowns!$C$20,Dropdowns!$B$20,IF(I139=Dropdowns!$C$21,Dropdowns!$B$21,IF(I139=Dropdowns!$C$22,Dropdowns!$B$22,IF(I139=Dropdowns!$C$23,Dropdowns!$B$23,IF(I139=Dropdowns!$C$24,Dropdowns!$B$24,IF(I139=Dropdowns!$C$25,Dropdowns!$B$25,IF(I139=Dropdowns!$C$26,Dropdowns!$B$26,IF(I139=Dropdowns!$C$27,Dropdowns!$B$27,IF(I139=Dropdowns!$C$28,Dropdowns!$B$28,IF(I139=Dropdowns!$C$29,Dropdowns!$B$29,IF(I139=Dropdowns!$C$30,Dropdowns!$B$30,IF(I139=Dropdowns!$C$31,Dropdowns!$B$31,IF(I139=Dropdowns!$C$32,Dropdowns!$B$32,IF(I139=Dropdowns!$C$33,Dropdowns!$B$33,IF(I139=Dropdowns!$C$34,Dropdowns!$B$34,IF(I139=Dropdowns!$C$35,Dropdowns!$B$35,IF(I139=Dropdowns!$C$36,Dropdowns!$B$36,IF(I139=Dropdowns!$C$37,Dropdowns!$B$37,IF(I139=Dropdowns!$C$38,Dropdowns!$B$38,IF(I139=Dropdowns!$C$39,Dropdowns!$B$39,IF(I139=Dropdowns!$C$40,Dropdowns!$B$40,IF(I139=Dropdowns!$C$41,Dropdowns!$B$41,IF(I139=Dropdowns!$C$42,Dropdowns!$B$42,IF(I139=Dropdowns!$C$43,Dropdowns!$B$43,IF(I139=Dropdowns!$C$44,Dropdowns!$B$44,IF(I139=Dropdowns!$C$45,Dropdowns!$B$45,IF(I139=Dropdowns!$C$46,Dropdowns!$B$46,IF(I139=Dropdowns!$C$47,Dropdowns!$B$47, IF(I139=Dropdowns!$C$48,Dropdowns!$B$48,\"0\"))))))))))))))))))))))))))))))))))))))))))","v":0},{"$f":"IF(AX139=Dropdowns!$F$15,Dropdowns!$G$15,IF(AX139=Dropdowns!$F$16,Dropdowns!$G$16,IF(AX139=Dropdowns!$F$17,Dropdowns!$G$17,\"0\")))","v":"0"}]
[null,null,null,null,null,null,null,null,null,null,"-",null,null,null,null,null,null,null,null,null,null,0,null,null,null,null,null,0,null,null,null,null,null,null,0,null,null,null,null,0,0,null,0,0,0,0,"-",null,null,null,null,null,null,null,null,null,null,null,null,null,null,null,0,0,0,0,0,0,0,0,0,0,1,{"$f":"IFERROR(IF(L140=Dropdowns!$F$32,\"\",IF(J140=\"Project\",AR140/BT140,IF(J140=\"Program\",AP140/BT140,\"\"))),\"\")","v":""},"",null,null,null,null,null,null,null,null,null,{"$f":"IF($CA140=\"\",0,VLOOKUP($CA140,'Conversion Tables'!$B$37:$C$62,2,FALSE))+IF($CB140=\"\",0,VLOOKUP($CB140,'Conversion Tables'!$B$37:$C$62,2,FALSE))+IF($CC140=\"\",0,VLOOKUP($CC140,'Conversion Tables'!$B$37:$C$62,2,FALSE))+IF($CD140=\"\",0,VLOOKUP($CD140,'Conversion Tables'!$B$37:$C$62,2,FALSE))+IF($CE140=\"\",0,VLOOKUP($CE140,'Conversion Tables'!$B$37:$C$62,2,FALSE))+IF($CF140=\"\",0,VLOOKUP($CF140,'Conversion Tables'!$B$37:$C$62,2,FALSE))","v":0},null,null,null,null,null,null,{"$f":"IFERROR(VLOOKUP(CM140,Dropdowns!A$51:B$55,2,FALSE),\"\")","v":""},null,null,null,null,null,null,null,null,null,null,{"$f":"IFERROR(VLOOKUP(AZ140,'Conversion Tables'!$G$8:$N$12,3,FALSE)/'Conversion Tables'!$I$12*Max_Point,0)","v":0},{"$f":"CY140*'Weighting Scale'!$D$9*DS140*DT140","v":0},{"$f":"IFERROR(VLOOKUP(BB140,'Conversion Tables'!$B$8:$C$32,2,FALSE),0)","v":0},{"$f":"IFERROR(VLOOKUP(BC140,'Conversion Tables'!$B$8:$C$32,2,FALSE),0)","v":0},{"$f":"(DA140-DB140)/'Conversion Tables'!$C$32*Max_Point","v":0},{"$f":"DC140*'Weighting Scale'!$D$10*DS140*DT140","v":0},{"$f":"IFERROR(VLOOKUP(BE140,'Conversion Tables'!$G$8:$N$12,2, FALSE)/'Conversion Tables'!$H$12*Max_Point,0)","v":0},{"$f":"DE140*'Weighting Scale'!$D$11*DS140*DT140","v":0},{"$f":"IFERROR(VLOOKUP(BF140,'Conversion Tables'!$G$8:$N$12,6,FALSE)/'Conversion Tables'!$L$12*Max_Point,0)","v":0},{"$f":"DG140*'Weighting Scale'!$D$14*DS140*DT140","v":0},{"$f":"IFERROR(VLOOKUP(BG140,'Conversion Tables'!$G$8:$N$12,4,FALSE)/'Conversion Tables'!$J$12*Max_Point,0)","v":0},{"$f":"DI140*'Weighting Scale'!$D$12*DS140*DT140","v":0},{"$f":"IFERROR(VLOOKUP(BH140,'Conversion Tables'!$G$8:$N$12,5,FALSE)/'Conversion Tables'!$K$12*Max_Point,0)","v":0},{"$f":"DK140*'Weighting Scale'!$D$13*DS140*DT140","v":0},{"$f":"IFERROR(VLOOKUP(BI140,'Conversion Tables'!$G$8:$N$12,7,FALSE)/'Conversion Tables'!$M$12*Max_Point,0)","v":0},{"$f":"DM140*'Weighting Scale'!$D$15*DS140*DT140","v":0},{"$f":"IF(BJ140 = \"Yes\",('Conversion Tables'!$N$12)/'Conversion Tables'!$N$12*Max_Point,0)","v":0},{"$f":"DO140*'Weighting Scale'!$D$16*DS140*DT140","v":0},0,0,0,{"$f":"IF(I140=Dropdowns!$C$7,Dropdowns!$B$7,IF(I140=Dropdowns!$C$8,Dropdowns!$B$8,IF(I140=Dropdowns!$C$9,Dropdowns!$B$9,IF(I140=Dropdowns!$C$10,Dropdowns!$B$10,IF(I140=Dropdowns!$C$11,Dropdowns!$B$11,IF(I140=Dropdowns!$C$12,Dropdowns!$B$12,IF(I140=Dropdowns!$C$13,Dropdowns!$B$13,IF(I140=Dropdowns!$C$14,Dropdowns!$B$14,IF(I140=Dropdowns!$C$15,Dropdowns!$B$15,IF(I140=Dropdowns!$C$16,Dropdowns!$B$16,IF(I140=Dropdowns!$C$17,Dropdowns!$B$17,IF(I140=Dropdowns!$C$18,Dropdowns!$B$18,IF(I140=Dropdowns!$C$19,Dropdowns!$B$19,IF(I140=Dropdowns!$C$20,Dropdowns!$B$20,IF(I140=Dropdowns!$C$21,Dropdowns!$B$21,IF(I140=Dropdowns!$C$22,Dropdowns!$B$22,IF(I140=Dropdowns!$C$23,Dropdowns!$B$23,IF(I140=Dropdowns!$C$24,Dropdowns!$B$24,IF(I140=Dropdowns!$C$25,Dropdowns!$B$25,IF(I140=Dropdowns!$C$26,Dropdowns!$B$26,IF(I140=Dropdowns!$C$27,Dropdowns!$B$27,IF(I140=Dropdowns!$C$28,Dropdowns!$B$28,IF(I140=Dropdowns!$C$29,Dropdowns!$B$29,IF(I140=Dropdowns!$C$30,Dropdowns!$B$30,IF(I140=Dropdowns!$C$31,Dropdowns!$B$31,IF(I140=Dropdowns!$C$32,Dropdowns!$B$32,IF(I140=Dropdowns!$C$33,Dropdowns!$B$33,IF(I140=Dropdowns!$C$34,Dropdowns!$B$34,IF(I140=Dropdowns!$C$35,Dropdowns!$B$35,IF(I140=Dropdowns!$C$36,Dropdowns!$B$36,IF(I140=Dropdowns!$C$37,Dropdowns!$B$37,IF(I140=Dropdowns!$C$38,Dropdowns!$B$38,IF(I140=Dropdowns!$C$39,Dropdowns!$B$39,IF(I140=Dropdowns!$C$40,Dropdowns!$B$40,IF(I140=Dropdowns!$C$41,Dropdowns!$B$41,IF(I140=Dropdowns!$C$42,Dropdowns!$B$42,IF(I140=Dropdowns!$C$43,Dropdowns!$B$43,IF(I140=Dropdowns!$C$44,Dropdowns!$B$44,IF(I140=Dropdowns!$C$45,Dropdowns!$B$45,IF(I140=Dropdowns!$C$46,Dropdowns!$B$46,IF(I140=Dropdowns!$C$47,Dropdowns!$B$47, IF(I140=Dropdowns!$C$48,Dropdowns!$B$48,\"0\"))))))))))))))))))))))))))))))))))))))))))","v":0},{"$f":"IF(AX140=Dropdowns!$F$15,Dropdowns!$G$15,IF(AX140=Dropdowns!$F$16,Dropdowns!$G$16,IF(AX140=Dropdowns!$F$17,Dropdowns!$G$17,\"0\")))","v":"0"}]
[null,null,null,null,null,null,null,null,null,null,{"$f":"IF(AND(J141=\"Project\", AO141>24999),\"Yes\",\"-\")","v":"-"},null,null,null,null,null,null,null,null,null,null,{"$f":"SUM(O141:U141)","v":0},null,null,null,null,null,{"$f":"SUM(W141:AA141)","v":0},null,null,null,null,null,null,{"$f":"SUM(AC141:AH141)","v":0},null,null,null,null,{"$f":"SUM(AJ141:AM141)","v":0},{"$f":"(V141+AB141+AI141+AN141)","v":0},null,0,{"$f":"(AO141-AQ141)","v":0},0,{"$f":"AO141-AS141","v":0},"-",null,null,null,null,null,null,null,null,null,null,null,null,null,null,null,0,0,0,0,0,0,0,0,0,0,{"$f":"IFERROR(RANK(BT141,$BT$13:$BT$143,0),\"\")","v":1},{"$f":"IFERROR(IF(L141=Dropdowns!$F$32,\"\",IF(J141=\"Project\",AR141/BT141,IF(J141=\"Program\",AP141/BT141,\"\"))),\"\")","v":""},{"$f":"IFERROR(RANK(BV141,$BV$13:$BV$143,1),\"\")","v":""},null,null,null,null,null,null,null,null,null,{"$f":"IF($CA141=\"\",0,VLOOKUP($CA141,'Conversion Tables'!$B$37:$C$62,2,FALSE))+IF($CB141=\"\",0,VLOOKUP($CB141,'Conversion Tables'!$B$37:$C$62,2,FALSE))+IF($CC141=\"\",0,VLOOKUP($CC141,'Conversion Tables'!$B$37:$C$62,2,FALSE))+IF($CD141=\"\",0,VLOOKUP($CD141,'Conversion Tables'!$B$37:$C$62,2,FALSE))+IF($CE141=\"\",0,VLOOKUP($CE141,'Conversion Tables'!$B$37:$C$62,2,FALSE))+IF($CF141=\"\",0,VLOOKUP($CF141,'Conversion Tables'!$B$37:$C$62,2,FALSE))","v":0},null,null,null,null,null,null,{"$f":"IFERROR(VLOOKUP(CM141,Dropdowns!A$51:B$55,2,FALSE),\"\")","v":""},null,null,null,null,null,null,null,null,null,null,{"$f":"IFERROR(VLOOKUP(AZ141,'Conversion Tables'!$G$8:$N$12,3,FALSE)/'Conversion Tables'!$I$12*Max_Point,0)","v":0},{"$f":"CY141*'Weighting Scale'!$D$9*DS141*DT141","v":0},{"$f":"IFERROR(VLOOKUP(BB141,'Conversion Tables'!$B$8:$C$32,2,FALSE),0)","v":0},{"$f":"IFERROR(VLOOKUP(BC141,'Conversion Tables'!$B$8:$C$32,2,FALSE),0)","v":0},{"$f":"(DA141-DB141)/'Conversion Tables'!$C$32*Max_Point","v":0},{"$f":"DC141*'Weighting Scale'!$D$10*DS141*DT141","v":0},{"$f":"IFERROR(VLOOKUP(BE141,'Conversion Tables'!$G$8:$N$12,2, FALSE)/'Conversion Tables'!$H$12*Max_Point,0)","v":0},{"$f":"DE141*'Weighting Scale'!$D$11*DS141*DT141","v":0},{"$f":"IFERROR(VLOOKUP(BF141,'Conversion Tables'!$G$8:$N$12,6,FALSE)/'Conversion Tables'!$L$12*Max_Point,0)","v":0},{"$f":"DG141*'Weighting Scale'!$D$14*DS141*DT141","v":0},{"$f":"IFERROR(VLOOKUP(BG141,'Conversion Tables'!$G$8:$N$12,4,FALSE)/'Conversion Tables'!$J$12*Max_Point,0)","v":0},{"$f":"DI141*'Weighting Scale'!$D$12*DS141*DT141","v":0},{"$f":"IFERROR(VLOOKUP(BH141,'Conversion Tables'!$G$8:$N$12,5,FALSE)/'Conversion Tables'!$K$12*Max_Point,0)","v":0},{"$f":"DK141*'Weighting Scale'!$D$13*DS141*DT141","v":0},{"$f":"IFERROR(VLOOKUP(BI141,'Conversion Tables'!$G$8:$N$12,7,FALSE)/'Conversion Tables'!$M$12*Max_Point,0)","v":0},{"$f":"DM141*'Weighting Scale'!$D$15*DS141*DT141","v":0},{"$f":"IF(BJ141 = \"Yes\",('Conversion Tables'!$N$12)/'Conversion Tables'!$N$12*Max_Point,0)","v":0},{"$f":"DO141*'Weighting Scale'!$D$16*DS141*DT141","v":0},{"$f":"CZ141+DD141+DF141+DH141+DJ141+DL141+DN141+DP141","v":0},{"$f":"DQ141*DU141","v":0},0,{"$f":"IF(I141=Dropdowns!$C$7,Dropdowns!$B$7,IF(I141=Dropdowns!$C$8,Dropdowns!$B$8,IF(I141=Dropdowns!$C$9,Dropdowns!$B$9,IF(I141=Dropdowns!$C$10,Dropdowns!$B$10,IF(I141=Dropdowns!$C$11,Dropdowns!$B$11,IF(I141=Dropdowns!$C$12,Dropdowns!$B$12,IF(I141=Dropdowns!$C$13,Dropdowns!$B$13,IF(I141=Dropdowns!$C$14,Dropdowns!$B$14,IF(I141=Dropdowns!$C$15,Dropdowns!$B$15,IF(I141=Dropdowns!$C$16,Dropdowns!$B$16,IF(I141=Dropdowns!$C$17,Dropdowns!$B$17,IF(I141=Dropdowns!$C$18,Dropdowns!$B$18,IF(I141=Dropdowns!$C$19,Dropdowns!$B$19,IF(I141=Dropdowns!$C$20,Dropdowns!$B$20,IF(I141=Dropdowns!$C$21,Dropdowns!$B$21,IF(I141=Dropdowns!$C$22,Dropdowns!$B$22,IF(I141=Dropdowns!$C$23,Dropdowns!$B$23,IF(I141=Dropdowns!$C$24,Dropdowns!$B$24,IF(I141=Dropdowns!$C$25,Dropdowns!$B$25,IF(I141=Dropdowns!$C$26,Dropdowns!$B$26,IF(I141=Dropdowns!$C$27,Dropdowns!$B$27,IF(I141=Dropdowns!$C$28,Dropdowns!$B$28,IF(I141=Dropdowns!$C$29,Dropdowns!$B$29,IF(I141=Dropdowns!$C$30,Dropdowns!$B$30,IF(I141=Dropdowns!$C$31,Dropdowns!$B$31,IF(I141=Dropdowns!$C$32,Dropdowns!$B$32,IF(I141=Dropdowns!$C$33,Dropdowns!$B$33,IF(I141=Dropdowns!$C$34,Dropdowns!$B$34,IF(I141=Dropdowns!$C$35,Dropdowns!$B$35,IF(I141=Dropdowns!$C$36,Dropdowns!$B$36,IF(I141=Dropdowns!$C$37,Dropdowns!$B$37,IF(I141=Dropdowns!$C$38,Dropdowns!$B$38,IF(I141=Dropdowns!$C$39,Dropdowns!$B$39,IF(I141=Dropdowns!$C$40,Dropdowns!$B$40,IF(I141=Dropdowns!$C$41,Dropdowns!$B$41,IF(I141=Dropdowns!$C$42,Dropdowns!$B$42,IF(I141=Dropdowns!$C$43,Dropdowns!$B$43,IF(I141=Dropdowns!$C$44,Dropdowns!$B$44,IF(I141=Dropdowns!$C$45,Dropdowns!$B$45,IF(I141=Dropdowns!$C$46,Dropdowns!$B$46,IF(I141=Dropdowns!$C$47,Dropdowns!$B$47, IF(I141=Dropdowns!$C$48,Dropdowns!$B$48,\"0\"))))))))))))))))))))))))))))))))))))))))))","v":0},{"$f":"IF(AX141=Dropdowns!$F$15,Dropdowns!$G$15,IF(AX141=Dropdowns!$F$16,Dropdowns!$G$16,IF(AX141=Dropdowns!$F$17,Dropdowns!$G$17,\"0\")))","v":"0"}]
[null,null,null,null,null,null,null,null,null,null,"-",null,null,null,null,null,null,null,null,null,null,0,null,null,null,null,null,0,null,null,null,null,null,null,0,null,null,null,null,0,0,null,0,0,0,0,"-",null,null,null,null,null,null,null,null,null,null,null,null,null,null,null,0,0,0,0,0,0,0,0,0,0,1,{"$f":"IFERROR(IF(L142=Dropdowns!$F$32,\"\",IF(J142=\"Project\",AR142/BT142,IF(J142=\"Program\",AP142/BT142,\"\"))),\"\")","v":""},"",null,null,null,null,null,null,null,null,null,{"$f":"IF($CA142=\"\",0,VLOOKUP($CA142,'Conversion Tables'!$B$37:$C$62,2,FALSE))+IF($CB142=\"\",0,VLOOKUP($CB142,'Conversion Tables'!$B$37:$C$62,2,FALSE))+IF($CC142=\"\",0,VLOOKUP($CC142,'Conversion Tables'!$B$37:$C$62,2,FALSE))+IF($CD142=\"\",0,VLOOKUP($CD142,'Conversion Tables'!$B$37:$C$62,2,FALSE))+IF($CE142=\"\",0,VLOOKUP($CE142,'Conversion Tables'!$B$37:$C$62,2,FALSE))+IF($CF142=\"\",0,VLOOKUP($CF142,'Conversion Tables'!$B$37:$C$62,2,FALSE))","v":0},null,null,null,null,null,null,{"$f":"IFERROR(VLOOKUP(CM142,Dropdowns!A$51:B$55,2,FALSE),\"\")","v":""},null,null,null,null,null,null,null,null,null,null,{"$f":"IFERROR(VLOOKUP(AZ142,'Conversion Tables'!$G$8:$N$12,3,FALSE)/'Conversion Tables'!$I$12*Max_Point,0)","v":0},{"$f":"CY142*'Weighting Scale'!$D$9*DS142*DT142","v":0},{"$f":"IFERROR(VLOOKUP(BB142,'Conversion Tables'!$B$8:$C$32,2,FALSE),0)","v":0},{"$f":"IFERROR(VLOOKUP(BC142,'Conversion Tables'!$B$8:$C$32,2,FALSE),0)","v":0},{"$f":"(DA142-DB142)/'Conversion Tables'!$C$32*Max_Point","v":0},{"$f":"DC142*'Weighting Scale'!$D$10*DS142*DT142","v":0},{"$f":"IFERROR(VLOOKUP(BE142,'Conversion Tables'!$G$8:$N$12,2, FALSE)/'Conversion Tables'!$H$12*Max_Point,0)","v":0},{"$f":"DE142*'Weighting Scale'!$D$11*DS142*DT142","v":0},{"$f":"IFERROR(VLOOKUP(BF142,'Conversion Tables'!$G$8:$N$12,6,FALSE)/'Conversion Tables'!$L$12*Max_Point,0)","v":0},{"$f":"DG142*'Weighting Scale'!$D$14*DS142*DT142","v":0},{"$f":"IFERROR(VLOOKUP(BG142,'Conversion Tables'!$G$8:$N$12,4,FALSE)/'Conversion Tables'!$J$12*Max_Point,0)","v":0},{"$f":"DI142*'Weighting Scale'!$D$12*DS142*DT142","v":0},{"$f":"IFERROR(VLOOKUP(BH142,'Conversion Tables'!$G$8:$N$12,5,FALSE)/'Conversion Tables'!$K$12*Max_Point,0)","v":0},{"$f":"DK142*'Weighting Scale'!$D$13*DS142*DT142","v":0},{"$f":"IFERROR(VLOOKUP(BI142,'Conversion Tables'!$G$8:$N$12,7,FALSE)/'Conversion Tables'!$M$12*Max_Point,0)","v":0},{"$f":"DM142*'Weighting Scale'!$D$15*DS142*DT142","v":0},{"$f":"IF(BJ142 = \"Yes\",('Conversion Tables'!$N$12)/'Conversion Tables'!$N$12*Max_Point,0)","v":0},{"$f":"DO142*'Weighting Scale'!$D$16*DS142*DT142","v":0},0,0,0,{"$f":"IF(I142=Dropdowns!$C$7,Dropdowns!$B$7,IF(I142=Dropdowns!$C$8,Dropdowns!$B$8,IF(I142=Dropdowns!$C$9,Dropdowns!$B$9,IF(I142=Dropdowns!$C$10,Dropdowns!$B$10,IF(I142=Dropdowns!$C$11,Dropdowns!$B$11,IF(I142=Dropdowns!$C$12,Dropdowns!$B$12,IF(I142=Dropdowns!$C$13,Dropdowns!$B$13,IF(I142=Dropdowns!$C$14,Dropdowns!$B$14,IF(I142=Dropdowns!$C$15,Dropdowns!$B$15,IF(I142=Dropdowns!$C$16,Dropdowns!$B$16,IF(I142=Dropdowns!$C$17,Dropdowns!$B$17,IF(I142=Dropdowns!$C$18,Dropdowns!$B$18,IF(I142=Dropdowns!$C$19,Dropdowns!$B$19,IF(I142=Dropdowns!$C$20,Dropdowns!$B$20,IF(I142=Dropdowns!$C$21,Dropdowns!$B$21,IF(I142=Dropdowns!$C$22,Dropdowns!$B$22,IF(I142=Dropdowns!$C$23,Dropdowns!$B$23,IF(I142=Dropdowns!$C$24,Dropdowns!$B$24,IF(I142=Dropdowns!$C$25,Dropdowns!$B$25,IF(I142=Dropdowns!$C$26,Dropdowns!$B$26,IF(I142=Dropdowns!$C$27,Dropdowns!$B$27,IF(I142=Dropdowns!$C$28,Dropdowns!$B$28,IF(I142=Dropdowns!$C$29,Dropdowns!$B$29,IF(I142=Dropdowns!$C$30,Dropdowns!$B$30,IF(I142=Dropdowns!$C$31,Dropdowns!$B$31,IF(I142=Dropdowns!$C$32,Dropdowns!$B$32,IF(I142=Dropdowns!$C$33,Dropdowns!$B$33,IF(I142=Dropdowns!$C$34,Dropdowns!$B$34,IF(I142=Dropdowns!$C$35,Dropdowns!$B$35,IF(I142=Dropdowns!$C$36,Dropdowns!$B$36,IF(I142=Dropdowns!$C$37,Dropdowns!$B$37,IF(I142=Dropdowns!$C$38,Dropdowns!$B$38,IF(I142=Dropdowns!$C$39,Dropdowns!$B$39,IF(I142=Dropdowns!$C$40,Dropdowns!$B$40,IF(I142=Dropdowns!$C$41,Dropdowns!$B$41,IF(I142=Dropdowns!$C$42,Dropdowns!$B$42,IF(I142=Dropdowns!$C$43,Dropdowns!$B$43,IF(I142=Dropdowns!$C$44,Dropdowns!$B$44,IF(I142=Dropdowns!$C$45,Dropdowns!$B$45,IF(I142=Dropdowns!$C$46,Dropdowns!$B$46,IF(I142=Dropdowns!$C$47,Dropdowns!$B$47, IF(I142=Dropdowns!$C$48,Dropdowns!$B$48,\"0\"))))))))))))))))))))))))))))))))))))))))))","v":0},{"$f":"IF(AX142=Dropdowns!$F$15,Dropdowns!$G$15,IF(AX142=Dropdowns!$F$16,Dropdowns!$G$16,IF(AX142=Dropdowns!$F$17,Dropdowns!$G$17,\"0\")))","v":"0"}]
[null,null,null,null,null,null,null,null,null,null,"-",null,null,null,null,null,null,null,null,null,null,0,null,null,null,null,null,0,null,null,null,null,null,null,0,null,null,null,null,0,0,null,0,0,0,0,"-",null,null,null,null,null,null,null,null,null,null,null,null,null,null,null,0,0,0,0,0,0,0,0,0,0,1,{"$f":"IFERROR(IF(L143=Dropdowns!$F$32,\"\",IF(J143=\"Project\",AR143/BT143,IF(J143=\"Program\",AP143/BT143,\"\"))),\"\")","v":""},"",null,null,null,null,null,null,null,null,null,{"$f":"IF($CA143=\"\",0,VLOOKUP($CA143,'Conversion Tables'!$B$37:$C$62,2,FALSE))+IF($CB143=\"\",0,VLOOKUP($CB143,'Conversion Tables'!$B$37:$C$62,2,FALSE))+IF($CC143=\"\",0,VLOOKUP($CC143,'Conversion Tables'!$B$37:$C$62,2,FALSE))+IF($CD143=\"\",0,VLOOKUP($CD143,'Conversion Tables'!$B$37:$C$62,2,FALSE))+IF($CE143=\"\",0,VLOOKUP($CE143,'Conversion Tables'!$B$37:$C$62,2,FALSE))+IF($CF143=\"\",0,VLOOKUP($CF143,'Conversion Tables'!$B$37:$C$62,2,FALSE))","v":0},null,null,null,null,null,null,{"$f":"IFERROR(VLOOKUP(CM143,Dropdowns!A$51:B$55,2,FALSE),\"\")","v":""},null,null,null,null,null,null,null,null,null,null,{"$f":"IFERROR(VLOOKUP(AZ143,'Conversion Tables'!$G$8:$N$12,3,FALSE)/'Conversion Tables'!$I$12*Max_Point,0)","v":0},{"$f":"CY143*'Weighting Scale'!$D$9*DS143*DT143","v":0},{"$f":"IFERROR(VLOOKUP(BB143,'Conversion Tables'!$B$8:$C$32,2,FALSE),0)","v":0},{"$f":"IFERROR(VLOOKUP(BC143,'Conversion Tables'!$B$8:$C$32,2,FALSE),0)","v":0},{"$f":"(DA143-DB143)/'Conversion Tables'!$C$32*Max_Point","v":0},{"$f":"DC143*'Weighting Scale'!$D$10*DS143*DT143","v":0},{"$f":"IFERROR(VLOOKUP(BE143,'Conversion Tables'!$G$8:$N$12,2, FALSE)/'Conversion Tables'!$H$12*Max_Point,0)","v":0},{"$f":"DE143*'Weighting Scale'!$D$11*DS143*DT143","v":0},{"$f":"IFERROR(VLOOKUP(BF143,'Conversion Tables'!$G$8:$N$12,6,FALSE)/'Conversion Tables'!$L$12*Max_Point,0)","v":0},{"$f":"DG143*'Weighting Scale'!$D$14*DS143*DT143","v":0},{"$f":"IFERROR(VLOOKUP(BG143,'Conversion Tables'!$G$8:$N$12,4,FALSE)/'Conversion Tables'!$J$12*Max_Point,0)","v":0},{"$f":"DI143*'Weighting Scale'!$D$12*DS143*DT143","v":0},{"$f":"IFERROR(VLOOKUP(BH143,'Conversion Tables'!$G$8:$N$12,5,FALSE)/'Conversion Tables'!$K$12*Max_Point,0)","v":0},{"$f":"DK143*'Weighting Scale'!$D$13*DS143*DT143","v":0},{"$f":"IFERROR(VLOOKUP(BI143,'Conversion Tables'!$G$8:$N$12,7,FALSE)/'Conversion Tables'!$M$12*Max_Point,0)","v":0},{"$f":"DM143*'Weighting Scale'!$D$15*DS143*DT143","v":0},{"$f":"IF(BJ143 = \"Yes\",('Conversion Tables'!$N$12)/'Conversion Tables'!$N$12*Max_Point,0)","v":0},{"$f":"DO143*'Weighting Scale'!$D$16*DS143*DT143","v":0},0,0,0,{"$f":"IF(I143=Dropdowns!$C$7,Dropdowns!$B$7,IF(I143=Dropdowns!$C$8,Dropdowns!$B$8,IF(I143=Dropdowns!$C$9,Dropdowns!$B$9,IF(I143=Dropdowns!$C$10,Dropdowns!$B$10,IF(I143=Dropdowns!$C$11,Dropdowns!$B$11,IF(I143=Dropdowns!$C$12,Dropdowns!$B$12,IF(I143=Dropdowns!$C$13,Dropdowns!$B$13,IF(I143=Dropdowns!$C$14,Dropdowns!$B$14,IF(I143=Dropdowns!$C$15,Dropdowns!$B$15,IF(I143=Dropdowns!$C$16,Dropdowns!$B$16,IF(I143=Dropdowns!$C$17,Dropdowns!$B$17,IF(I143=Dropdowns!$C$18,Dropdowns!$B$18,IF(I143=Dropdowns!$C$19,Dropdowns!$B$19,IF(I143=Dropdowns!$C$20,Dropdowns!$B$20,IF(I143=Dropdowns!$C$21,Dropdowns!$B$21,IF(I143=Dropdowns!$C$22,Dropdowns!$B$22,IF(I143=Dropdowns!$C$23,Dropdowns!$B$23,IF(I143=Dropdowns!$C$24,Dropdowns!$B$24,IF(I143=Dropdowns!$C$25,Dropdowns!$B$25,IF(I143=Dropdowns!$C$26,Dropdowns!$B$26,IF(I143=Dropdowns!$C$27,Dropdowns!$B$27,IF(I143=Dropdowns!$C$28,Dropdowns!$B$28,IF(I143=Dropdowns!$C$29,Dropdowns!$B$29,IF(I143=Dropdowns!$C$30,Dropdowns!$B$30,IF(I143=Dropdowns!$C$31,Dropdowns!$B$31,IF(I143=Dropdowns!$C$32,Dropdowns!$B$32,IF(I143=Dropdowns!$C$33,Dropdowns!$B$33,IF(I143=Dropdowns!$C$34,Dropdowns!$B$34,IF(I143=Dropdowns!$C$35,Dropdowns!$B$35,IF(I143=Dropdowns!$C$36,Dropdowns!$B$36,IF(I143=Dropdowns!$C$37,Dropdowns!$B$37,IF(I143=Dropdowns!$C$38,Dropdowns!$B$38,IF(I143=Dropdowns!$C$39,Dropdowns!$B$39,IF(I143=Dropdowns!$C$40,Dropdowns!$B$40,IF(I143=Dropdowns!$C$41,Dropdowns!$B$41,IF(I143=Dropdowns!$C$42,Dropdowns!$B$42,IF(I143=Dropdowns!$C$43,Dropdowns!$B$43,IF(I143=Dropdowns!$C$44,Dropdowns!$B$44,IF(I143=Dropdowns!$C$45,Dropdowns!$B$45,IF(I143=Dropdowns!$C$46,Dropdowns!$B$46,IF(I143=Dropdowns!$C$47,Dropdowns!$B$47, IF(I143=Dropdowns!$C$48,Dropdowns!$B$48,\"0\"))))))))))))))))))))))))))))))))))))))))))","v":0},{"$f":"IF(AX143=Dropdowns!$F$15,Dropdowns!$G$15,IF(AX143=Dropdowns!$F$16,Dropdowns!$G$16,IF(AX143=Dropdowns!$F$17,Dropdowns!$G$17,\"0\")))","v":"0"}]

{"sheet":"Residual Risk Rating Matrix","index":2,"n_rows":17,"n_cols":7,"rows_kept":17,"cut":false,"hidden":false,"merged":[[15,0,16,0],[4,0,4,1],[11,0,12,0],[13,0,13,1],[13,2,13,6],[4,2,4,6]]}
["City of Winnipeg"]
["Asset Management Prioritization "]
["Residual Risk Rating Matrix"]
[]
["Types of Impact",null,"Consequence Ratings"]
["Group","Measure","VL","L","M","H","VH"]
["Economic","Financial Impact","<$100K","$100K-$500K","$500K - $1M","$1M-$10M",">$10M"]
["Environmental ","Environmental Impact","Managed incident with negligible impact on public amenity.","Localize and short term effects on local ecosystem/amenity value/commerce","Widespread but short term effects on local ecosystem/amenity value/commerce","Widespread and long-term effects on local ecosystem/ amenity value / commerce. Likely to lead to prosecution and fines.","Widespread and persistent effects requiring specialist and extensive long term clean up and/or rehabilitation plan."]
["Social","Damage to Reputation","Adverse Internal communications only - within own BU","Adverse corporate communications. Short term local media interest.","Negative local media reports. Adverse contact from Regulators, Councilors, etc. but manageable.","Negative reports on national media. Significant adverse contact from Regulators, Councilors.","Prolonged adverse local and national media coverage. Sustained criticism of organization by regulators and politicians."]
["Legislative","Compliance with Existing Legislation","Minor breach. Adverse internal communications only within own Department.","Statutory body notification but no further action. Raise to senior management team and triggers investigation.","Statutory body notification with further external investigation. Criticism of organization with requirements for localized  corrective actions.","Statutory/regulatory instruction requiring fundamental change in strategic objectives or global management practices.","Major breach. Potential for prosecution with severe fines and/or imprisonment. Potential revocation of regulatory licence."]
["Health & Safety","Safety","Minor injury(s) with no associated lost time","Reportable injury with lost time","Significant injury requiring short term hospitalization","Serious injury or work related illness causing long term disability","Fatality of one or more people or long term disability affecting several people."]
["Functional","Condition","Asset in \"Very Good\" condition","Asset in \"Good\" condition","Asset in \"Fair\" condition","Asset in \"Poor Condition\"","Asset in \"Very Poor\" condition"]
[null,"Level of Service (LOS)","Minor LOS deficiency in single area.","Minor LOS deficiencies in multiple areas.","Moderate LOS deficiencies in multiple areas","Major LOS deficiency in single area","Major LOS deficiency in multiple areas"]
["Types of Impact",null,"Likelihood Ratings"]
["Group","Measure","VL","L","M","H","VH"]
["Base Maintenance","Horizon","Likely to occur beyond 10 years","Likely to occur within 5 to 10 years","Likely to occur within 4 to 5 years","Likely to occur within 3 to 4 years","Occurred or occurrence imminent"]
[null,"Likelihood of Occurrence","≤5%","≤10%","≤25%","≤50%","≤100%"]

{"sheet":"AMP Plan or Strategy Legend","index":3,"n_rows":60,"n_cols":5,"rows_kept":60,"cut":false,"hidden":false,"merged":[[38,0,42,0],[43,0,46,0],[47,0,52,0],[53,0,58,0],[1,0,9,0],[10,0,17,0],[18,0,21,0],[22,0,31,0],[32,0,34,0],[35,0,37,0]]}
["Category","Plan/Strategy","Code"]
["City planning","OurWinnipeg 2045 Development Plan","C1"]
[null,"Complete Communities Direction Strategy 2.0","C2"]
[null,"Land Monitoring Report","C3"]
[null,"Land Development Policies & Guidelines","C4"]
[null,"Local Area Plans","C5"]
[null,"Residential Development Guidelines for Mature Communities","C6"]
[null,"Strategic Priorities Action Plan","C7"]
[null,"Social Procurement Framework","C8"]
[null,"Social Procurement Action Plan","C9"]
["Financial plans","Corporate Finance Strategic Plan","F1"]
[null,"City of Winnipeg Debt Management Policy","F2"]
[null,"City of Winnipeg Debt Strategy","F3"]
[null,"City of Winnipeg Financial Management Plan","F4"]
[null,"Materials Management Policy","F5"]
[null,"Multi-year budget","F6"]
[null,"Multi-year budget: 2022 update","F7"]
[null,"Corporate Strategic Plan","F8"]
["Infrastructure","City Asset Management Plan","I1"]
[null,"City of Winnipeg Infrastructure Plan 2020","I2"]
[null,"City of Winnipeg State of Infrastructure Report 2018","I3"]
[null,"Strategic Facilities Master Plan*","I4"]
["Living in Winnipeg","City of Winnipeg Accessibility Plan","L1"]
[null,"Age Friendly Winnipeg Action Plan","L2"]
[null,"Homelessness Partnering Strategy","L3"]
[null,"Oshki Annishinabe Nigaaniwak (Indigenous Youth Strategy)","L4"]
[null,"Mayor’s Task Force on Heritage, Culture, & Arts","L5"]
[null,"Newcomer Welcome & Inclusion Policy","L6"]
[null,"Poverty Reduction Strategy","L7"]
[null,"Universal Design Policy","L8"]
[null,"Welcoming Winnipeg","L9"]
[null,"Winnipeg Public Library Strategic Plan* ","L10"]
["Open government","Open Government Policy","O1"]
[null,"Engage Winnipeg Policy","O2"]
[null,"Open Data Policy","O3"]
["Public safety","Community Safety Strategic Action Plan","P1"]
[null,"Winnipeg Fire Paramedic Service Master Plan","P2"]
[null,"Winnipeg Police Service Strategic Plan 2020-2024","P3"]
["Recreation & parks","Library Redevelopment Plan","R1"]
[null,"Off Leash Dog Areas Master Plan","R2"]
[null,"Winnipeg Recreation Strategy ","R3"]
[null,"Winnipeg Parks Strategies","R4"]
[null,"Winnipeg Urban Forest Strategy*","R5"]
["Special Operating Agency annual business plans","Animal Services 2022 Business Plan","S1"]
[null,"Fleet Management 2022 Business Plan","S2"]
[null,"Golf Services 2022 Business Plan","S3"]
[null,"Parking Authority 2022 Business Plan","S4"]
["Streets & transportation","Pedestrian and Cycling Strategies and Action Plan","ST1"]
[null,"Road Safety Strategic Action Plan","ST2"]
[null,"Transportation Master Plan 2011","ST3"]
[null,"Transportation Master Plan 2050* ","ST4"]
[null,"Transit Master Plan","ST5"]
[null,"Winnipeg Parking Strategy","ST6"]
["Water, waste & climate","Biosolids Master Plan","W1"]
[null,"Climate Action Plan","W2"]
[null,"Community Energy Investment Roadmap","W3"]
[null,"Combined Sewer Overflow Master Plan","W4"]
[null,"Garbage and Recycling Master Plan","W5"]
[null,"Recycling Strategy for Apartments and Condos*","W6",null,"*Under development"]
["Other","Please specify the title of the master plan or strategy in the Investment Detail Sheet"]

{"sheet":"Conversion Tables","index":4,"n_rows":63,"n_cols":17,"rows_kept":63,"cut":false,"hidden":true,"merged":[[35,1,35,2],[14,6,14,8],[4,15,4,16],[5,6,6,6],[5,10,6,10],[5,1,6,1],[5,13,6,13],[5,12,6,12],[5,11,6,11],[5,7,6,7],[5,8,6,8],[4,6,4,13],[5,9,6,9],[5,2,5,4]]}
["City of Winnipeg"]
["Asset Management Prioritization"]
["Conversion Tables"]
[]
[null,"Maintain LOS Benefits",null,null,null,null,"Other Benefits",null,null,null,null,null,null,null,null,"Residual Risk"]
[null,"Score","Maintain LOS",null,null,null,"Score","Enhance LOS","New Regulation","Enable Growth","Economy","Environment","Operational Efficiency","Culture/ Heritage",null,"Rating","Score"]
[null,null,"Essential","Quality","Image",null,null,null,null,null,null,null,null,null,null,"VLVL",1]
[null,"VLVL",1,1,1,null,"VL",1,1,1,1,1,1,1,null,"VLL",3]
[null,"VLL",3,3,3,null,"L",3,3,3,3,3,3,3,null,"VLM",10]
[null,"VLM",10,10,10,null,"M",10,10,10,10,10,10,10,null,"VLH",30]
[null,"VLH",30,30,30,null,"H",30,30,30,30,30,30,30,null,"VLVH",100]
[null,"VLVH",100,100,100,null,"VH",100,100,100,100,100,100,100,null,"LVL",3]
[null,"LVL",3,3,3,null,null,null,null,null,null,null,null,null,null,"LL",9]
[null,"LL",9,9,9,null,null,null,null,null,null,null,null,null,null,"LM",30]
[null,"LM",30,30,30,null,"Service Usage Maximum",null,null,null,null,null,null,null,null,"LH",90]
[null,"LH",90,90,90,null,"Year","MAX USAGE","Department",null,null,null,null,null,null,"LVH",300]
[null,"LVH",300,300,300,null,2019,158475797,"Water & Waste",null,null,null,null,null,null,"MVL",10]
[null,"MVL",10,10,10,null,null,null,null,null,null,null,null,null,null,"ML",30]
[null,"ML",30,30,30,null,null,null,null,null,null,null,null,null,null,"MM",100]
[null,"MM",100,100,100,null,null,null,null,null,null,null,null,null,null,"MH",300]
[null,"MH",300,300,300,null,null,null,null,null,null,null,null,null,null,"MVH",1000]
[null,"MVH",1000,1000,1000,null,null,null,null,null,null,null,null,null,null,"HVL",30]
[null,"HVL",30,30,30,null,null,null,null,null,null,null,null,null,null,"HL",90]
[null,"HL",90,90,90,null,null,null,null,null,null,null,null,null,null,"HM",300]
[null,"HM",300,300,300,null,null,null,null,null,null,null,null,null,null,"HH",900]
[null,"HH",900,900,900,null,null,null,null,null,null,null,null,null,null,"HVH",3000]
[null,"HVH",3000,3000,3000,null,null,null,null,null,null,null,null,null,null,"VHVL",100]
[null,"VHVL",100,100,100,null,null,null,null,null,null,null,null,null,null,"VHL",300]
[null,"VHL",300,300,300,null,null,null,null,null,null,null,null,null,null,"VHM",1000]
[null,"VHM",1000,1000,1000,null,null,null,null,null,null,null,null,null,null,"VHH",3000]
[null,"VHH",3000,3000,3000,null,null,null,null,null,null,null,null,null,null,"VHVH",10000]
[null,"VHVH",10000,10000,10000,null,null,null,null,null,null,null,null,null,null,"\"\"",0]
[]
[]
[]
[null,"Residual Risk"]
[null,"Rating","Score"]
[null,"VLVL",1]
[null,"VLL",2]
[null,"VLM",4]
[null,"VLH",7]
[null,"VLVH",10]
[null,"LVL",2]
[null,"LL",4]
[null,"LM",8]
[null,"LH",14]
[null,"LVH",20]
[null,"MVL",4]
[null,"ML",8]
[null,"MM",16]
[null,"MH",28]
[null,"MVH",40]
[null,"HVL",7]
[null,"HL",14]
[null,"HM",28]
[null,"HH",49]
[null,"HVH",70]
[null,"VHVL",10]
[null,"VHL",20]
[null,"VHM",40]
[null,"VHH",70]
[null,"VHVH",100]
[null,"\"\"",0]

{"sheet":"Dropdowns","index":5,"n_rows":58,"n_cols":16,"rows_kept":58,"cut":false,"hidden":true,"merged":[]}
["City of Winnipeg"]
["Asset Management Prioritization"]
["Dropdown Menus"]
[]
[null,"BASE 3"]
["Select from list (DEPARTMENT)","Base3","Select from list (SERVICE)",null,null,"Select from list"]
["Assessment & Taxation",441,"Active Transportation",null,null,"Project"]
["Assets and Project Management",143,"Animal Services (SOA)",null,null,"Program"]
["Audit",10,"Arts, Entertainment & Culture",null,null,"Commitments",null,null,"Select from list",null,null,null,null,null,"Matrix","Scale"]
["Chief Administrative Offices",441,"Assessment, Taxation and Corporate",null,null,"Select from list",null,null,"Maintain LOS",null,null,"Quality",null,null,"VLVL","VL"]
["Chief Financial Officer",441,"Bridges - Local",null,null,"Yes",null,null,null,null,null,"Reliability",null,null,"VLL","L"]
["City Clerks",664,"Bridges - Regional",null,null,"No",null,null,null,null,null,"Condition",null,null,"VLM","M"]
["Community Services",10,"Cemeteries",null,null,null,null,null,null,null,null,null,null,null,"VLH","H"]
["Corporate Finance",143,"City Beautification",null,null,"Service Impact",null,null,"Enhance LOS",null,null,"Quality",null,null,"VLVH","VH"]
["Customer Service and Communications",441,"City Planning",null,null,"Direct",1,null,null,null,null,"Reliability",null,null,"LVL"]
["Emergency Preparedness Program",441,"Community Liveability",null,null,"Indirect",0.5,null,null,null,null,null,null,null,"LL"]
["Employee Benefits",441,"Contact Centre - 311",null,null,"Supplemental/Support",0.1,null,null,null,null,null,null,null,"LM"]
["Fire Paramedic Service",441,"Development Approvals, Building Permits & Inspections",null,null,null,null,null,null,null,null,null,null,null,"LH"]
["Innovation and Technology",143,"Economic Development",null,null,"Select from List",null,null,null,null,null,null,null,null,"LVH"]
["Legal Services",903,"Emergency Management",null,null,1,null,null,null,null,null,null,null,null,"MVL"]
["Mayor's Office",903,"Fire & Injury Prevention",null,null,2,null,null,null,null,null,null,null,null,"ML"]
["Planning, Property, and Development",903,"Fire & Rescue Response",null,null,3,null,null,null,null,null,null,null,null,"MM"]
["Public Works",10,"Golf Services (SOA)",null,null,4,null,null,null,null,null,null,null,null,"MH"]
["Water and Waste",10,"Heritage Conservation",null,null,5,null,null,null,null,null,null,null,null,"MVH"]
["Winnipeg Police Service",143,"Insect Control",null,null,"N/A",null,null,null,null,null,null,null,null,"HVL"]
["Winnipeg Transit",664,"Land Drainage & Flood Control",null,null,"Select from list",null,null,null,null,null,null,null,null,"HL"]
[null,143,"Libraries",null,null,"Funded",null,null,null,null,null,null,null,null,"HM"]
["INTERNAL SERVICES",903,"Medical Response",null,null,"Partially Funded",null,null,null,null,null,null,null,null,"HH"]
[null,664,"Multiple Organizational Support Services",null,null,"Unfunded",null,null,null,null,null,null,null,null,"HVH"]
[null,143,"Neighborhood Revitalization",null,null,"Select from list",null,null,null,null,null,null,null,null,"VHVL"]
[null,143,"Parking (SOA)",null,null,"Type 1: Like Service & Like Projects/Assets",null,null,null,null,null,null,null,null,"VHL"]
[null,143,"Parks - Local",null,null,"Type 2: Like Service & Unlike Projects/Assets",null,null,null,null,null,null,null,null,"VHM"]
[null,441,"Parks - Regional",null,null,"Type 3: Unlike Services & Like Projects/Assets",null,null,null,null,null,null,null,null,"VHH"]
[null,903,"Police Response/Crime Prevention",null,null,null,null,null,null,null,null,null,null,null,"VHVH"]
[null,441,"Property Asset Management"]
[null,664,"Public Transit",null,null,"Select from list"]
[null,143,"Recreation",null,null,"Leadership & Good Governance"]
[null,143,"Recycling & Waste Diversion",null,null,"Environmental Resilience"]
[null,441,"Roads - Local",null,null,"Economic Prosperity"]
["INTERNAL SERVICES",664,"Roads - Regional",null,null,"Good Health and Wellbeing"]
[null,664,"Solid Waste Collection",null,null,"Social Equity"]
[null,664,"Solid Waste Disposal",null,null,"City Building"]
[null,441,"Transportation Planning and Traffic Management"]
[null,441,"Urban Forestry"]
[null,1000,"Wastewater",null,null,"Select from list"]
[null,1000,"Water",null,null,"Growth"]
[null,null,null,null,null,"Disposal"]
[null,null,null,null,null,"Upgrade"]
[null,null,null,null,null,"Renewal"]
["Lifecycle","LOS",null,null,null,"Operations & Maintenance"]
["Growth","Capacity and Use"]
["Disposal","Capacity and Use",null,null,null,"SPAP Themes"]
["Upgrade","Legal Regulatory and Service Priorities",null,null,null,"A City that Works for Residents"]
["Renewal","Quality and Function",null,null,null,"A Strong Economy "]
["Operations & Maintenance","Quality and Function",null,null,null,"A Livable, Safe, Healthy, Happy City "]
[null,null,null,null,null,"The Downtown "]
[null,null,null,null,null,"A Green and Growing City "]
[null,null,null,null,null,"Corporate Management & Support"]

{"sheet":"Weighting Scale","index":6,"n_rows":37,"n_cols":15,"rows_kept":37,"cut":false,"hidden":true,"merged":[[34,8,34,9],[8,0,8,1],[5,8,5,10],[17,2,18,4],[7,2,7,3]]}
["City of Winnipeg"]
["Multi Criteria Project Prioritization"]
["Weighting Criteria"]
[]
[null,null,"Multiplying Factor (f) - Original",2469]
[null,null,"Multiplying Factor (f) - Modified",{"$f":"J7","v":10000},null,null,null,null,"Exponential Distribution w/ Usage and Importance"]
[null,null,null,null,null,null,null,null,"Factor (f)",10000]
[null,null,"Benefit Criteria Weightings "]
[null,null,"New Regulation",0.31,{"$f":"D9/$D$17","v":0.30999999999999994},null,null,null,"Weight",0.31]
[null,null,"Maintain LOS",0.31,0.30999999999999994,null,null,null,"New Regulation",null,{"$f":"((100)/100)*$J$7*J9*$O$15*$O$16","v":3100000}]
[null,null,"Enhance Level of Service",7.0000000000000007E-2,6.9999999999999993E-2,null,null,null,null,"f=1",{"$f":"((100)/100)*1*J9*$O$15*$O$16","v":310}]
[null,null,"Growth",7.0000000000000007E-2,6.9999999999999993E-2,null,null,null,"Weight",0.31]
[null,null,"Economy",7.0000000000000007E-2,6.9999999999999993E-2,null,null,null,"Maintain LOS",null,{"$f":"((10000-1)/10000)*$J$7*J12*$O$15*$O$16","v":3099690}]
[null,null,"Environmental",7.0000000000000007E-2,6.9999999999999993E-2,null,null,null,null,"f=1",{"$f":"((10000-1)/10000)*1*J12*$O$15*$O$16","v":309.96899999999999},null,null,null,"MAX"]
[null,null,"Operational Efficiency",7.0000000000000007E-2,6.9999999999999993E-2,null,null,null,"Weight",7.0000000000000007E-2,null,null,"Usage Multiplier",null,1]
[null,null,"Culture/Heritage",0.03,2.9999999999999992E-2,null,null,null,"Enhance LOS",null,{"$f":"((100)/100)*$J$7*J15*$O$15*$O$16","v":700000.00000000012},null,"Importance Multiplier",null,1000]
[null,null,null,{"$f":"SUM(D9:D16)","v":1.0000000000000002},{"$f":"SUM(E9:E16)","v":0.99999999999999967},null,null,null,null,"f=1",{"$f":"((100)/100)*1*J15*$O$15*$O$16","v":70}]
[null,null,"**Benefit criteria weighting and multiplying factor updated for 2020 budget cycle.",null,null,null,null,null,"Weight",7.0000000000000007E-2]
[null,null,null,null,null,null,null,null,"Environment",null,{"$f":"((100)/100)*$J$7*J18*$O$15*$O$16","v":700000.00000000012}]
[null,null,null,null,null,null,null,null,null,"f=1",{"$f":"((100)/100)*1*J18*$O$15*$O$16","v":70}]
[null,null,null,null,null,null,null,null,"Weight",7.0000000000000007E-2]
[null,null,null,null,null,null,null,null,"Enable Growth",null,{"$f":"((100)/100)*$J$7*J21*$O$15*$O$16","v":700000.00000000012}]
[null,null,null,null,null,null,null,null,null,"f=1",{"$f":"((100)/100)*1*J21*$O$15*$O$16","v":70}]
[null,null,null,null,null,null,null,null,"Weight",7.0000000000000007E-2]
[null,null,null,null,null,null,null,null,"Economy",null,{"$f":"((100)/100)*$J$7*J24*$O$15*$O$16","v":700000.00000000012}]
[null,null,null,null,null,null,null,null,null,"f=1",{"$f":"((100)/100)*1*J24*$O$15*$O$16","v":70}]
[null,null,null,null,null,null,null,null,"Weight",7.0000000000000007E-2]
[null,null,null,null,null,null,null,null,"Oper. Efficiency",null,{"$f":"((100)/100)*$J$7*J27*$O15*$O$16","v":700000.00000000012}]
[null,null,null,null,null,null,null,null,null,"f=1",{"$f":"((100)/100)*1*J27*$O15*$O$16","v":70}]
[null,null,null,null,null,null,null,null,"Weight",0.03]
[null,null,null,null,null,null,null,null,"Culture/Heritage",null,{"$f":"((100)/100)*$J$7*J30*$O$15*$O$16","v":300000}]
[null,null,null,null,null,null,null,null,null,"f=1",{"$f":"((100)/100)*1*J30*$O$15*$O$16","v":30}]
[]
[]
[null,null,null,null,null,null,null,null,"Max Benefit",null,{"$f":"SUM(K31,K28,K25,K22,K19,K16,K13,K10)","v":9999690}]
[null,null,null,null,null,null,null,null,"Factor check",null,{"$f":"(K35)/(SUM(K32,K29,K26,K23,K20,K17,K14,K11))","v":10000}]
[null,null,null,null,null,null,null,null,"New Factor",null,{"$f":"10000000/(SUM(K32,K29,K26,K23,K20,K17,K14,K11))","v":10000.310009610297}]